BEGIN:VCALENDAR
VERSION:2.0
PRODID:-//Visit Fayetteville WV - ECPv6.15.20//NONSGML v1.0//EN
CALSCALE:GREGORIAN
METHOD:PUBLISH
X-ORIGINAL-URL:https://visitfayettevillewv.com
X-WR-CALDESC:Events for Visit Fayetteville WV
REFRESH-INTERVAL;VALUE=DURATION:PT1H
X-Robots-Tag:noindex
X-PUBLISHED-TTL:PT1H
BEGIN:VTIMEZONE
TZID:America/New_York
BEGIN:DAYLIGHT
TZOFFSETFROM:-0500
TZOFFSETTO:-0400
TZNAME:EDT
DTSTART:20250309T070000
END:DAYLIGHT
BEGIN:STANDARD
TZOFFSETFROM:-0400
TZOFFSETTO:-0500
TZNAME:EST
DTSTART:20251102T060000
END:STANDARD
BEGIN:DAYLIGHT
TZOFFSETFROM:-0500
TZOFFSETTO:-0400
TZNAME:EDT
DTSTART:20260308T070000
END:DAYLIGHT
BEGIN:STANDARD
TZOFFSETFROM:-0400
TZOFFSETTO:-0500
TZNAME:EST
DTSTART:20261101T060000
END:STANDARD
BEGIN:DAYLIGHT
TZOFFSETFROM:-0500
TZOFFSETTO:-0400
TZNAME:EDT
DTSTART:20270314T070000
END:DAYLIGHT
BEGIN:STANDARD
TZOFFSETFROM:-0400
TZOFFSETTO:-0500
TZNAME:EST
DTSTART:20271107T060000
END:STANDARD
END:VTIMEZONE
BEGIN:VEVENT
DTSTART;VALUE=DATE:20260307
DTEND;VALUE=DATE:20260413
DTSTAMP:20260425T091807
CREATED:20260207T163211Z
LAST-MODIFIED:20260321T142413Z
UID:10010812-1772841600-1776038399@visitfayettevillewv.com
SUMMARY:Cryptid Art Show at Love Hope Center for the Arts
DESCRIPTION:Love Hope Arts is looking for artwork from regional artists inspired by cryptid folklore and Appalachian legends!In participation with Fayetteville’s exciting new Cryptid Weekend\, the Cryptid Art Show will run March 7th to March 28th.The deadline to submit is February 23rd!
URL:https://visitfayettevillewv.com/event/cryptid-art-show-at-love-hope-center-for-the-arts/
LOCATION:Love Hope Center for the Arts\, 100 Rotan St\, Fayetteville\, WV\, 25840\, United States
CATEGORIES:Activities,Art,Events
ATTACH;FMTTYPE=image/jpeg:https://visitfayettevillewv.com/wp-content/uploads/2026/02/Cryptid-art-shoe.jpg
ORGANIZER;CN="Love Hope Center for the Arts":MAILTO:Admin@lovehopearts.org
END:VEVENT
BEGIN:VEVENT
DTSTART;TZID=America/New_York:20260404T080000
DTEND;TZID=America/New_York:20260404T150000
DTSTAMP:20260425T091807
CREATED:20260328T143628Z
LAST-MODIFIED:20260328T143628Z
UID:10011088-1775289600-1775314800@visitfayettevillewv.com
SUMMARY:Easter Weekend: Brunch & Bubbles
DESCRIPTION:Join us at Cathedral Cafe for a special Easter weekend brunch\, happening Friday and Saturday only.\nWe’re celebrating the weekend with a lineup of cozy brunch favorites and spring-inspired specials like carrot cake lattes\, refreshing spritzes\, and plenty of good food to go around.\nWhether you’re meeting up with friends\, starting your weekend early\, or just in the mood for a really good brunch\, this is your sign.\n Friday & Saturday Full brunch menu + seasonal specials Spritzes flowing all weekend\nWe will be closed Easter Sunday\, so come celebrate with us before the holiday.\nNo reservations. Just come as you are and we’ll take care of the rest.\nBring your people\, bring your appetite\, and maybe something a little springy. Or don’t. We’re just glad you’re here.
URL:https://visitfayettevillewv.com/event/easter-weekend-brunch-bubbles-2/
LOCATION:Cathedral Cafe\, 134 S Court St\, Fayetteville\, WV\, 25840\, United States
CATEGORIES:Activities,Beer, wine, cocktails, etc.,Dining / Food
ATTACH;FMTTYPE=image/jpeg:https://visitfayettevillewv.com/wp-content/uploads/2026/03/Easter-Brunch-cathedral.jpg
ORGANIZER;CN="Cathedral Cafe":MAILTO:cathedral_cafe@hotmail.com
END:VEVENT
BEGIN:VEVENT
DTSTART;TZID=America/New_York:20260404T090000
DTEND;TZID=America/New_York:20260404T100000
DTSTAMP:20260425T091807
CREATED:20260321T173025Z
LAST-MODIFIED:20260321T173025Z
UID:10011028-1775293200-1775296800@visitfayettevillewv.com
SUMMARY:New River Yoga - River Soul Flow
DESCRIPTION:River Soul YogaRiver Soul Yoga is a grounding\, heart-centered practice designed to help you reconnect with your breath\, your body\, and your inner knowing. Like the river\, we move with strength and softness — flowing through intentional sequences that build warmth\, release tension\, and create space within.This class blends mindful energetic movement\, steady breathwork\, and moments of stillness at the end to leave you feeling balanced and renewed. Expect a supportive environment where you can show up exactly as you are — whether you’re building strength\, seeking clarity\, or simply carving out time for yourself.We’ll close each session with 10 minutes of immersive sound healing\, allowing the nervous system to soften and the body to fully absorb the practice. Crystal bowls and soothing tones will guide you into deep rest\, helping you leave feeling grounded\, open\, and restored.Come flow. Come breathe. Come back to your soul.Listen to the river sing sweet songs to rock my soul.
URL:https://visitfayettevillewv.com/event/new-river-yoga-river-soul-flow/2026-04-04/
LOCATION:New River Yoga Studio\, Fayetteville\, WV\, 25840\, United States
CATEGORIES:Activities,Health & Wellness
ATTACH;FMTTYPE=image/jpeg:https://visitfayettevillewv.com/wp-content/uploads/2024/06/New-River-Yoga.jpg
ORGANIZER;CN="New River Yoga":MAILTO:newriveryogaretreatwv@gmail.com
GEO:38.052391;-81.103196
END:VEVENT
BEGIN:VEVENT
DTSTART;TZID=America/New_York:20260404T090000
DTEND;TZID=America/New_York:20260404T130000
DTSTAMP:20260425T091807
CREATED:20260103T170816Z
LAST-MODIFIED:20260103T170816Z
UID:10010009-1775293200-1775307600@visitfayettevillewv.com
SUMMARY:Fayetteville Family Fun
DESCRIPTION:Coloring\, puzzles\, games\, legos
URL:https://visitfayettevillewv.com/event/fayetteville-family-fun-2/2026-04-04/
LOCATION:Fayetteville Public Library\, 200 W Maple Ave\, Fayetteville\, WV\, 25840\, United States
CATEGORIES:Activities,Kids activity
ATTACH;FMTTYPE=image/png:https://visitfayettevillewv.com/wp-content/uploads/2024/01/Fayette-County-PL.png
GEO:38.041798;-81.117531
X-APPLE-STRUCTURED-LOCATION;VALUE=URI;X-ADDRESS=Fayetteville Public Library 200 W Maple Ave Fayetteville WV 25840 United States;X-APPLE-RADIUS=500;X-TITLE=200 W Maple Ave:geo:-81.117531,38.041798
END:VEVENT
BEGIN:VEVENT
DTSTART;TZID=America/New_York:20260404T100000
DTEND;TZID=America/New_York:20260404T140000
DTSTAMP:20260425T091807
CREATED:20260209T175340Z
LAST-MODIFIED:20260209T175340Z
UID:10010825-1775296800-1775311200@visitfayettevillewv.com
SUMMARY:Fayette County Animal Shelter Adoption Event at Dixie's Drive-in
DESCRIPTION:Dixie’s Drive-In will be hosting an adoption event with the Fayette County Animal Shelter on April 4th from 10AM-2PM!\nWe will be offering half off adoption fees at this event! Dixie’s Drive-In is also proud to announce that they will be serving as an official donation from off spot for FCAS moving forward! Items needed are dog/cat food\, blankets\, towels\, newspapers\, toys\, leashes\, etc.\nWe are so excited to partner with Dixie’s Drive-In! We appreciate their support and hope you’ll come out and adopt your new BFF on April 4th\, 2026!
URL:https://visitfayettevillewv.com/event/fayette-county-animal-shelter-adoption-event-at-dixies-drive-in/
LOCATION:Dixie’s Drive-in\, 20139 Midland Trail\, Ansted\, WV\, 25812\, United States
CATEGORIES:Activities,Dining / Food,Fundraiser
ATTACH;FMTTYPE=image/jpeg:https://visitfayettevillewv.com/wp-content/uploads/2026/02/Adopt-dont-shop.jpg
ORGANIZER;CN="Fayette County Animal Shelter":MAILTO:FCAS@fayettecountywv.gov
END:VEVENT
BEGIN:VEVENT
DTSTART;TZID=America/New_York:20260404T110000
DTEND;TZID=America/New_York:20260404T130000
DTSTAMP:20260425T091807
CREATED:20260321T145653Z
LAST-MODIFIED:20260321T145653Z
UID:10010979-1775300400-1775307600@visitfayettevillewv.com
SUMMARY:Easter Egg Hunt
DESCRIPTION:Registration starts at 11 am.\n11:45 AM – EGG HUNT AGES 6 & UNDER12:00 PM – EGG HUNT AGES 7-12\nBRING YOUR OWN BASKET.
URL:https://visitfayettevillewv.com/event/easter-egg-hunt-2/
LOCATION:Fayette County Park\, Fayetteville\, WV\, 25840\, United States
CATEGORIES:Activities,Events,Kids activity
ATTACH;FMTTYPE=image/jpeg:https://visitfayettevillewv.com/wp-content/uploads/2026/03/East-Egg-Hunt-FCP.jpg
ORGANIZER;CN="Fayette County Parks & Recreation":MAILTO:park@fayettecountywv.gov
END:VEVENT
BEGIN:VEVENT
DTSTART;TZID=America/New_York:20260404T110000
DTEND;TZID=America/New_York:20260404T170000
DTSTAMP:20260425T091807
CREATED:20260318T192613Z
LAST-MODIFIED:20260321T151702Z
UID:10010974-1775300400-1775322000@visitfayettevillewv.com
SUMMARY:1st Annual NRGHS Ramp Dinner
DESCRIPTION:Join us for the 1st annual New River Gorge Historical Society Ramp Feed! The Society will be set up with information and directions on how to join. We also will have presentations\, highlight local businesses\, and share in the history of the Gorge! \nGrab Tickets here https://www.nrgorgehs.com/…/1st-annual-nrghs-ramp-dinnerAnd join us for an evening of food\, fellowship\, and Appalachian heritage at the New River Gorge Historical Society’s Ramp Dinner!\nRamps have long been a staple of springtime in the mountains\, a tradition that brings communities together after a long winter. This dinner is more than just a meal; it’s a celebration of our shared history\, culture\, and the stories that define the New River Gorge region.\nWhat to Expect:• A traditional ramp dinner featuring local favorites• Guest speakers sharing stories of West Virginia’s history\, culture\, and natural heritage• A chance to connect with neighbors\, historians\, and supporters of preservation• Opportunities to learn more about the work of the New River Gorge Historical Society\nFeatured Speakers:• David Sibray – Publisher of West Virginia Explorer• Doug Wood – Historian\, environmental advocate\, and trail coordinator• Jodi French-Burr – Former National Park Service educator and conservation leader
URL:https://visitfayettevillewv.com/event/1st-annual-nrghs-ramp-dinner/
LOCATION:Hawks Nest State Park\, 17839 Midland Trail\, Ansted\, WV\, 25812\, United States
CATEGORIES:Dining / Food,Events
ATTACH;FMTTYPE=image/avif:https://visitfayettevillewv.com/wp-content/uploads/2026/03/b8eaa7_d16cf7c234964cfb84b6d6907641625bmv2.avif
ORGANIZER;CN="New River Gorge Historical Society":MAILTO:newrivergorgehistoricalsociety@gmail.com
GEO:38.135664;-81.098469
X-APPLE-STRUCTURED-LOCATION;VALUE=URI;X-ADDRESS=Hawks Nest State Park 17839 Midland Trail Ansted WV 25812 United States;X-APPLE-RADIUS=500;X-TITLE=17839 Midland Trail:geo:-81.098469,38.135664
END:VEVENT
BEGIN:VEVENT
DTSTART;TZID=America/New_York:20260404T120000
DTEND;TZID=America/New_York:20260404T140000
DTSTAMP:20260425T091807
CREATED:20260117T155315Z
LAST-MODIFIED:20260117T155315Z
UID:10010286-1775304000-1775311200@visitfayettevillewv.com
SUMMARY:Easter Egg Hunt
DESCRIPTION: Easter Egg Hunt at Lively Little Ones! \nJoin us for a fun spring celebration with an exciting egg hunt and family-friendly activities for our little ones!All are welcome to attend and enjoy this special seasonal event with us.\n Saturday\, April 4 12:00 – 2:00 PM Lively Little Ones Early Learning Center\nVendors interested in participating\, please contact us! 
URL:https://visitfayettevillewv.com/event/easter-egg-hunt/
LOCATION:Lively Little Ones\, 197 Franklin Heights Rd\, Fayetteville\, WV\, 25840\, United States
CATEGORIES:Activities,Kids activity,Shopping
ATTACH;FMTTYPE=image/jpeg:https://visitfayettevillewv.com/wp-content/uploads/2026/01/Easter-Egg-Hunt.jpg
ORGANIZER;CN="Lively Little Ones":MAILTO:Livelylittle1@gmail.com
END:VEVENT
BEGIN:VEVENT
DTSTART;TZID=America/New_York:20260404T120000
DTEND;TZID=America/New_York:20260404T140000
DTSTAMP:20260425T091807
CREATED:20260321T150329Z
LAST-MODIFIED:20260330T161438Z
UID:10010980-1775304000-1775311200@visitfayettevillewv.com
SUMMARY:Dog Easter Egg Hunt with Fayette County Animal Shelter
DESCRIPTION:JOIN FAYETTE COUNTY ANIMAL SHELTER FOR THE FIRST EVER DOG EASTER EGG HUNT!\nThis is a free event for the community hosted by the Fayette County Animal Shelter! Bring your dog for a dog egg hunt! We’ll be hiding treat-filled eggs all over the Oak Hill Dog Park on Saturday\, April 4th from 12-2PM!\nFCAS will also bring adoptable dogs and will be collecting shelter donations (food\, treats\, toys\, cleaning supplies) and selling shelter t-shirts.\nPlease share with all your friends!
URL:https://visitfayettevillewv.com/event/dog-easter-egg-hunt-with-fayette-county-animal-shelter/
LOCATION:Oak Hill Dog Park\, 235 Central Ave\, Oak Hill\, WV\, 25901\, United States
CATEGORIES:Activities,Events,Fundraiser
ATTACH;FMTTYPE=image/jpeg:https://visitfayettevillewv.com/wp-content/uploads/2026/03/Paws-Eggs.jpg
ORGANIZER;CN="Fayette County Animal Shelter":MAILTO:FCAS@fayettecountywv.gov
END:VEVENT
BEGIN:VEVENT
DTSTART;TZID=America/New_York:20260404T130000
DTEND;TZID=America/New_York:20260404T200000
DTSTAMP:20260425T091807
CREATED:20260330T185542Z
LAST-MODIFIED:20260330T185542Z
UID:10011111-1775307600-1775332800@visitfayettevillewv.com
SUMMARY:Tony's International Cuisine at Bridge Brew Works
DESCRIPTION:Tony’s is serving up delicious Japanese food all weekend!
URL:https://visitfayettevillewv.com/event/tonys-international-cuisine-at-bridge-brew-works-2/
LOCATION:Bridge Brew Works\, 335 Nick Rahall Greenway\, Fayetteville\, WV\, 25840\, United States
CATEGORIES:Activities,Beer, wine, cocktails, etc.,Dining / Food
ATTACH;FMTTYPE=image/jpeg:https://visitfayettevillewv.com/wp-content/uploads/2025/07/Tonys-international-cuisine.jpg
ORGANIZER;CN="Bridge Brew Works":MAILTO:bridgebrewworks@gmail.com
END:VEVENT
BEGIN:VEVENT
DTSTART;TZID=America/New_York:20260404T180000
DTEND;TZID=America/New_York:20260404T200000
DTSTAMP:20260425T091807
CREATED:20251122T190756Z
LAST-MODIFIED:20251122T190756Z
UID:10009025-1775325600-1775332800@visitfayettevillewv.com
SUMMARY:Paint-A-Hat with Wild & Wonderful Paint Parties
DESCRIPTION:Get ready for a creative night out that’s anything but ordinary! Join Wild & Wonderful Paint Parties for our Paint-A-Hat Class—an artistic experience where you design and paint your very own custom hat. No experience needed… just bring your imagination and we’ll provide the rest! \nSettle in with friends\, enjoy good vibes\, and follow along with our talented instructors as they guide you step-by-step through creating a hand-painted hat you’ll be proud to show off. Choose your colors\, personalize your style\, and walk away with a one-of-a-kind wearable piece of art. \nWhether you’re celebrating a girls’ night\, trying something new\, or crafting the perfect accessory for festival season\, this class delivers creativity\, community\, and a whole lot of fun. \nAll supplies are included—just come ready to paint\, sip\, laugh\, and create something uniquely you.
URL:https://visitfayettevillewv.com/event/paint-a-hat-with-wild-wonderful-paint-parties/
LOCATION:The Lost Paddle\, 2 Concho Rd\, Oak Hill\, WV\, 25901\, United States
CATEGORIES:Arts and Crafts,Beer, wine, cocktails, etc.,Dining / Food,Events
ATTACH;FMTTYPE=image/jpeg:https://visitfayettevillewv.com/wp-content/uploads/2025/11/Paint-a-hat.jpeg
ORGANIZER;CN="Wild & Wonderful Paint Parties":MAILTO:info@wildandwonderfulpaintparties.com
END:VEVENT
BEGIN:VEVENT
DTSTART;TZID=America/New_York:20260404T180000
DTEND;TZID=America/New_York:20260404T210000
DTSTAMP:20260425T091807
CREATED:20251115T172310Z
LAST-MODIFIED:20251115T172310Z
UID:10008945-1775325600-1775336400@visitfayettevillewv.com
SUMMARY:Taste of Bavaria
DESCRIPTION:April 4\, 2026  |  6p – 9p \nPricing: $89 – includes taxes + fees \n\n\n\nTaste of Bavaria $89— April 4 \nRaise a stein and enjoy an Alpine feast of Bavarian favorites — where comfort meets celebration. \nFive-Course Dinner Menu\nAmuse-Bouche\nMini Bratwurst Skewer – With sweet mustard and pickled red cabbage \nFirst Course\nHerbed Spaetzle – Tossed in brown butter with crispy shallots and parsley \nSecond Course\nBavarian Beer Cheese Soup – Smooth cheddar and smoked gouda with amber ale\, topped with pretzel croutons \nMain Course\nCrispy Pork Schnitzel – Golden-fried pork cutlet with lemon-caper butter sauce\, roasted potatoes\, and braised cabbage \nDessert\nApple Strudel – With vanilla bean whipped cream and caramel drizzle \nEvent Details\nSmokey’s on the Gorge — Adventures on the Gorge\nDoors will open at 6:00 PM with dinner being served at 6:30pm.\nPrice includes all taxes and fees. No refunds will be given within 7 days of the event. Please let us know of any dietary restrictions.\nLimited communal seating available — reservations required. Full bar will be available with specialty cocktails and mocktails designed for each event.\nLet the adventure begin — one plate at a time.
URL:https://visitfayettevillewv.com/event/taste-of-bavaria/
LOCATION:Smokey’s on the Gorge\, 219 Co Rte 60/5\, Lansing\, WV\, 25862\, United States
CATEGORIES:Activities,Beer, wine, cocktails, etc.,Dining / Food
ATTACH;FMTTYPE=image/jpeg:https://visitfayettevillewv.com/wp-content/uploads/2025/11/Taste-of-Bavaria.jpg
ORGANIZER;CN="Adventures on the Gorge":MAILTO:info@onthegorge.com
GEO:38.082661;-81.072936
X-APPLE-STRUCTURED-LOCATION;VALUE=URI;X-ADDRESS=Smokey’s on the Gorge 219 Co Rte 60/5 Lansing WV 25862 United States;X-APPLE-RADIUS=500;X-TITLE=219 Co Rte 60/5:geo:-81.072936,38.082661
END:VEVENT
BEGIN:VEVENT
DTSTART;TZID=America/New_York:20260404T193000
DTEND;TZID=America/New_York:20260404T220000
DTSTAMP:20260425T091807
CREATED:20260314T194730Z
LAST-MODIFIED:20260314T194730Z
UID:10010964-1775331000-1775340000@visitfayettevillewv.com
SUMMARY:Matthew Malinoski – Fireside Jam
DESCRIPTION:A singer-songwriter specializing in originals\, Matthew plays a variety of indie folk\, rock\, and country. Out of Charleston\, WV\, Matthew is breaking onto the scene in a big way! \nFireside Jams are our FREE Saturday night music events\, held at the heart of the Gorge. Join us on Saturday nights to hear the region’s best artists fill the air with soulful vibrations. Bring your family and friends to experience the fun\, communal atmosphere that The Outpost has to offer. \nThe event starts at 7:30 pm and runs until 10:00 pm\, either in the music field or Lodge depending on the weather. So don’t miss this opportunity to enjoy a night of free entertainment with Matthew Malinoski! \nCome for the music\, Stay for the Community! \n“Where Wild Meets Wonderful” \n  \nEVENT DETAILS:\n\nWHO: Matthew Malinoski\nWHERE: The Outpost at The New River Gorge; 843 Fayette Station Road Fayetteville\, WV\nWHAT: Fireside Jams\nWHEN: April 4th\, 2026 – Bar/Doors at 6:00pm | Show 7:30pm – 10:00pm\nHOW MUCH: FREE\nWHY: Enjoy a relaxing evening with tunes and local brews!\nPARKING: ALL parking will be at the Outpost free of charge. There will NOT be a shuttle for this show.
URL:https://visitfayettevillewv.com/event/matthew-malinoski-fireside-jam/
LOCATION:The Outpost – New River Gorge Campground\, 843 Fayette Station Rd\, Fayetteville\, WV\, 25840\, United States
CATEGORIES:Activities,Beer, wine, cocktails, etc.,Dining / Food,Music
ATTACH;FMTTYPE=image/png:https://visitfayettevillewv.com/wp-content/uploads/2026/03/Matthew-Malinoski.png
ORGANIZER;CN="The Outpost - New River Gorge Campground":MAILTO:info@outpostnrg.com
GEO:38.058218;-81.095024
X-APPLE-STRUCTURED-LOCATION;VALUE=URI;X-ADDRESS=The Outpost – New River Gorge Campground 843 Fayette Station Rd Fayetteville WV 25840 United States;X-APPLE-RADIUS=500;X-TITLE=843 Fayette Station Rd:geo:-81.095024,38.058218
END:VEVENT
END:VCALENDAR