BEGIN:VCALENDAR
VERSION:2.0
PRODID:-//Visit Fayetteville WV - ECPv6.15.20//NONSGML v1.0//EN
CALSCALE:GREGORIAN
METHOD:PUBLISH
X-ORIGINAL-URL:https://visitfayettevillewv.com
X-WR-CALDESC:Events for Visit Fayetteville WV
REFRESH-INTERVAL;VALUE=DURATION:PT1H
X-Robots-Tag:noindex
X-PUBLISHED-TTL:PT1H
BEGIN:VTIMEZONE
TZID:America/New_York
BEGIN:DAYLIGHT
TZOFFSETFROM:-0500
TZOFFSETTO:-0400
TZNAME:EDT
DTSTART:20250309T070000
END:DAYLIGHT
BEGIN:STANDARD
TZOFFSETFROM:-0400
TZOFFSETTO:-0500
TZNAME:EST
DTSTART:20251102T060000
END:STANDARD
BEGIN:DAYLIGHT
TZOFFSETFROM:-0500
TZOFFSETTO:-0400
TZNAME:EDT
DTSTART:20260308T070000
END:DAYLIGHT
BEGIN:STANDARD
TZOFFSETFROM:-0400
TZOFFSETTO:-0500
TZNAME:EST
DTSTART:20261101T060000
END:STANDARD
BEGIN:DAYLIGHT
TZOFFSETFROM:-0500
TZOFFSETTO:-0400
TZNAME:EDT
DTSTART:20270314T070000
END:DAYLIGHT
BEGIN:STANDARD
TZOFFSETFROM:-0400
TZOFFSETTO:-0500
TZNAME:EST
DTSTART:20271107T060000
END:STANDARD
END:VTIMEZONE
BEGIN:VEVENT
DTSTART;TZID=America/New_York:20260411T110000
DTEND;TZID=America/New_York:20260416T140000
DTSTAMP:20260424T102927
CREATED:20260131T191929Z
LAST-MODIFIED:20260131T191929Z
UID:10010463-1775905200-1776348000@visitfayettevillewv.com
SUMMARY:Coordinates & Coffee - West Virginia
DESCRIPTION:Mountain Mama.\nEvery year I make the trip to Roanoke\, VA. And every year I take the week before that to explore cam camp in WV/VA.\nI will leave Evansville and head to Fayetteville\, WV to camp at the Outpost: https://outpostnrg.com/Once there\, I explore the New River NP and surrounding area.\nThe invitation is open to convoy down with me when I leave or travel on your own and meet up there. It’s about a 5-6 hour trip to Fayetteville from Evansville.\nCamping at the Outpost is $20-30 a night for vehicle/tent camping. They also have cabins we could get as a group. Fayetteville proper is a fantastic mountain town with lots to see and do.\nHere is my map of the area\, POIs and routes like the Mid Atlantic BDR\, Blueridge Pkwy: https://www.google.com/maps/d/edit…\nHere is the Allegheny Discovery Route which is also on the table:https://www.google.com/maps/d/u/0/edit…
URL:https://visitfayettevillewv.com/event/coordinates-coffee-west-virginia/
LOCATION:The Outpost – New River Gorge Campground\, 843 Fayette Station Rd\, Fayetteville\, WV\, 25840\, United States
CATEGORIES:Activities,Events,Motorsports
ATTACH;FMTTYPE=image/jpeg:https://visitfayettevillewv.com/wp-content/uploads/2026/01/Coordinate-and-Coffee.jpg
GEO:38.058218;-81.095024
X-APPLE-STRUCTURED-LOCATION;VALUE=URI;X-ADDRESS=The Outpost – New River Gorge Campground 843 Fayette Station Rd Fayetteville WV 25840 United States;X-APPLE-RADIUS=500;X-TITLE=843 Fayette Station Rd:geo:-81.095024,38.058218
END:VEVENT
BEGIN:VEVENT
DTSTART;TZID=America/New_York:20260416T170000
DTEND;TZID=America/New_York:20260416T190000
DTSTAMP:20260424T102927
CREATED:20260321T154421Z
LAST-MODIFIED:20260321T154421Z
UID:10010984-1776358800-1776366000@visitfayettevillewv.com
SUMMARY:Top-Out Taproom: AccessFund Meet & Greet
DESCRIPTION:Come help start off the Spring climbing season and meet the folks that are working to help maintain and advocate for the crags and trails in the New River Gorge and surrounding area \n\nAccessFund is a national advocacy organization that inspires and mobilizes the climbing community to protect sustainable access and conserve the climbing environment. Each year\, two climbing stewards spend the summer in the New River Gorge\, advocating for the land and serving as a bridge between climbers and the crags they love. \n\nNRAC (New River Alliance of Climbers) is a nonprofit dedicated to protecting natural resources\, educating climbers of all skill levels about stewardship and environmental responsibility\, and celebrating the climbing community.
URL:https://visitfayettevillewv.com/event/top-out-taproom-accessfund-meet-greet/
LOCATION:Water Stone Outdoors\, 101 Wiseman Ave\, Fayetteville\, WV\, 25840\, United States
CATEGORIES:Activities,Beer, wine, cocktails, etc.,Climbing,Educational
ATTACH;FMTTYPE=image/webp:https://visitfayettevillewv.com/wp-content/uploads/2026/03/AccessFund.webp
ORGANIZER;CN="Water Stone Outdoors":MAILTO:info@waterstoneoutdoors.com
GEO:38.053962;-81.103539
X-APPLE-STRUCTURED-LOCATION;VALUE=URI;X-ADDRESS=Water Stone Outdoors 101 Wiseman Ave Fayetteville WV 25840 United States;X-APPLE-RADIUS=500;X-TITLE=101 Wiseman Ave:geo:-81.103539,38.053962
END:VEVENT
BEGIN:VEVENT
DTSTART;TZID=America/New_York:20260416T180000
DTEND;TZID=America/New_York:20260416T190000
DTSTAMP:20260424T102927
CREATED:20260117T170701Z
LAST-MODIFIED:20260117T170701Z
UID:10010404-1776362400-1776366000@visitfayettevillewv.com
SUMMARY:Fayetteville Run Group
DESCRIPTION:Description\nLocation: Pies and Pints \nCommunity Captain: Beth Hudspeth \nWhen: Every Thursday at 6 PM \nAbout This Event:\nLooking for a fun and supportive group to hit the road with? Join Community Captain Beth Hudspeth for a 3-4 mile  run! Whether you’re an experienced trail runner or just getting started\, this group welcomes all paces. During the winter\, the group meets in Fayetteville for road and sidewalk runs\, while the rest of the year\, they explore scenic\, rolling trails designed for mountain biking and foot traffic alike. \nWhat to Expect:\n• A guided 3-4 mile trail run• A mix of gentle hills\, flowing paths\, and beautiful scenery• A welcoming community for all fitness levels \nHow to Prepare:\n• Wear sturdy running or trail shoes• Bring water to stay hydrated• No experience needed—just come ready to move! \nStay Connected:\nJoin our Facebook group for updates! https://www.facebook.com/groups/201958871044680 \nQuestions? Contact hello@activeswv.com with any questions. \nRegistration to any Active SWV free programming indicates acceptance of our liability waiver for every adult and child attending. Please do not attend programs if you are not feeling well. Release-Assumption-of-Risk-and-Indemnity-Agreement-Please-Read-Carefully-A-separate-form-must-be-completed-for-each-adult-and-minor-I-or-the-MINOR-identified-below-who-is-less-than-18-years-o-1.pdf  Regarding Community Captain Programs and groups of children: All Active SWV Community Captain programs are family friendly; children are invited to attend with the expectation of a parent/guardian ratio of 1 guardian adult to 5 children. It is our expectation for larger groups of children (e.g. Scouts\, youth groups\, etc)\, that an adult to child ratio of 1 adult to 5 children be observed in ages 5 and under\, and 1 adult to 10 children be observed for ages 5 and above.   If you haven’t already Join MemberPlus today\, start here:  https://members.activeswv.org/member-application
URL:https://visitfayettevillewv.com/event/fayetteville-run-group/2026-04-16/
LOCATION:Pies & Pints\, 219 W Maple Ave\, Fayetteville\, WV\, 25840\, United States
CATEGORIES:Activities,Health & Wellness
ATTACH;FMTTYPE=image/webp:https://visitfayettevillewv.com/wp-content/uploads/2024/04/Group-Run.webp
ORGANIZER;CN="Active Southern West Virginia":MAILTO:hello@activeswv.com
END:VEVENT
END:VCALENDAR