BEGIN:VCALENDAR
VERSION:2.0
PRODID:-//Visit Fayetteville WV - ECPv6.15.20//NONSGML v1.0//EN
CALSCALE:GREGORIAN
METHOD:PUBLISH
X-WR-CALNAME:Visit Fayetteville WV
X-ORIGINAL-URL:https://visitfayettevillewv.com
X-WR-CALDESC:Events for Visit Fayetteville WV
REFRESH-INTERVAL;VALUE=DURATION:PT1H
X-Robots-Tag:noindex
X-PUBLISHED-TTL:PT1H
BEGIN:VTIMEZONE
TZID:America/New_York
BEGIN:DAYLIGHT
TZOFFSETFROM:-0500
TZOFFSETTO:-0400
TZNAME:EDT
DTSTART:20250309T070000
END:DAYLIGHT
BEGIN:STANDARD
TZOFFSETFROM:-0400
TZOFFSETTO:-0500
TZNAME:EST
DTSTART:20251102T060000
END:STANDARD
BEGIN:DAYLIGHT
TZOFFSETFROM:-0500
TZOFFSETTO:-0400
TZNAME:EDT
DTSTART:20260308T070000
END:DAYLIGHT
BEGIN:STANDARD
TZOFFSETFROM:-0400
TZOFFSETTO:-0500
TZNAME:EST
DTSTART:20261101T060000
END:STANDARD
BEGIN:DAYLIGHT
TZOFFSETFROM:-0500
TZOFFSETTO:-0400
TZNAME:EDT
DTSTART:20270314T070000
END:DAYLIGHT
BEGIN:STANDARD
TZOFFSETFROM:-0400
TZOFFSETTO:-0500
TZNAME:EST
DTSTART:20271107T060000
END:STANDARD
END:VTIMEZONE
BEGIN:VEVENT
DTSTART;TZID=America/New_York:20260425T070000
DTEND;TZID=America/New_York:20260426T090000
DTSTAMP:20260421T201108
CREATED:20251122T192057Z
LAST-MODIFIED:20251122T192057Z
UID:10009027-1777100400-1777194000@visitfayettevillewv.com
SUMMARY:Falling Water 100K Race
DESCRIPTION:Like each Rim to River Endurance Co. race before it\, the Falling Water Ultras looks to bring something new & uniquely its own to ultra running in the New River Gorge. This course consists of 4 x 25K (15.5 mile) loops on the amazing trails at ACE Adventure Resort & dropping into New River Gorge National Park. The route incorporates the two main creeks in the area\, Rush Run & Arbuckle. Run next to a multitude of waterfalls\, along the banks of the New River\, and test your rock-hopping skills at the picturesque Arbuckle Creek crossing. Views abound as each loop touts 2\,400’ of elevation gain and loss. Run some of the same trails from the Rim to River 100 & Cabin Fever 50K while also getting on some brand new sections! Runners will be treated to a hyped & over stocked aid station at the Start/Finish area where they can access crew or their campsite/vehicle\, but while out on each 15.5 mile loop\, runners must carry all their own food/fuel. Hydration stations with water & Gnarly Fuel2-O will be available at the 5 & 10 mile point of each loop. Race will begin at 7:00am and runners can compete solo with a 24-hour cutoff in the 100K and a 12-hour cutoff in the 50K. 1st place 100K male & female will earn a free entry into that years Rim to River 100 in November! Solo 100K runners are also allowed to have a pacer for their last loop. A two-person relay team option for the 100K is available as well as a four-person 100K relay with each member running one 15.5 mile loop.
URL:https://visitfayettevillewv.com/event/falling-water-100k-race-2/
LOCATION:New River Gorge\, Lansing\, WV\, 25862\, United States
CATEGORIES:Activities,Competition, Contest, etc.,Run/Walk
ATTACH;FMTTYPE=image/jpeg:https://visitfayettevillewv.com/wp-content/uploads/2025/11/falling-water.jpg
ORGANIZER;CN="ACE Adventure Resort":MAILTO:ace@aceraft.com
GEO:37.819752;-81.189445
END:VEVENT
BEGIN:VEVENT
DTSTART;TZID=America/New_York:20260425T083000
DTEND;TZID=America/New_York:20260425T130000
DTSTAMP:20260421T201108
CREATED:20260418T144308Z
LAST-MODIFIED:20260418T144308Z
UID:10011148-1777105800-1777122000@visitfayettevillewv.com
SUMMARY:Trout Derby
DESCRIPTION:Registration begins 30 minutes prior to your age bracket.\n– Ages 3-5 – 9:00 a.m.-9:45 a.m.– Ages 6-10 – 10: 00a.m. -11:15 a.m.– Ages 11-14 – 11:30 a.m.-12:45 p.m.\nEach child may take a fish home. (Quantity TBD)Catch and release otherwise.No adult fishing permitted.Children can “fish up” (older bracket) if they have older siblings.
URL:https://visitfayettevillewv.com/event/trout-derby/
LOCATION:Fayette County Park\, Fayetteville\, WV\, 25840\, United States
CATEGORIES:Activities,Competition, Contest, etc.,Events,Kids activity,Nature
ATTACH;FMTTYPE=image/jpeg:https://visitfayettevillewv.com/wp-content/uploads/2026/04/Trout-Derby-2026.jpg
ORGANIZER;CN="Fayette County Parks & Recreation":MAILTO:park@fayettecountywv.gov
END:VEVENT
BEGIN:VEVENT
DTSTART;TZID=America/New_York:20260425T090000
DTEND;TZID=America/New_York:20260425T100000
DTSTAMP:20260421T201108
CREATED:20260321T173025Z
LAST-MODIFIED:20260321T173025Z
UID:10011031-1777107600-1777111200@visitfayettevillewv.com
SUMMARY:New River Yoga - River Soul Flow
DESCRIPTION:River Soul YogaRiver Soul Yoga is a grounding\, heart-centered practice designed to help you reconnect with your breath\, your body\, and your inner knowing. Like the river\, we move with strength and softness — flowing through intentional sequences that build warmth\, release tension\, and create space within.This class blends mindful energetic movement\, steady breathwork\, and moments of stillness at the end to leave you feeling balanced and renewed. Expect a supportive environment where you can show up exactly as you are — whether you’re building strength\, seeking clarity\, or simply carving out time for yourself.We’ll close each session with 10 minutes of immersive sound healing\, allowing the nervous system to soften and the body to fully absorb the practice. Crystal bowls and soothing tones will guide you into deep rest\, helping you leave feeling grounded\, open\, and restored.Come flow. Come breathe. Come back to your soul.Listen to the river sing sweet songs to rock my soul.
URL:https://visitfayettevillewv.com/event/new-river-yoga-river-soul-flow/2026-04-25/
LOCATION:New River Yoga Studio\, Fayetteville\, WV\, 25840\, United States
CATEGORIES:Activities,Health & Wellness
ATTACH;FMTTYPE=image/jpeg:https://visitfayettevillewv.com/wp-content/uploads/2024/06/New-River-Yoga.jpg
ORGANIZER;CN="New River Yoga":MAILTO:newriveryogaretreatwv@gmail.com
GEO:38.052391;-81.103196
END:VEVENT
BEGIN:VEVENT
DTSTART;TZID=America/New_York:20260425T090000
DTEND;TZID=America/New_York:20260425T120000
DTSTAMP:20260421T201108
CREATED:20260321T151345Z
LAST-MODIFIED:20260321T151345Z
UID:10010982-1777107600-1777118400@visitfayettevillewv.com
SUMMARY:Adopt-A-Highway with Canyon Rim Rotary Club
DESCRIPTION:Get to know us better and participate in a hands on service project! The club will be picking up trash along Rt 16\, beginning on the town of Fayetteville\, WV end. We will meet at the Fayetteville Presbyterian Church located at 401 Maple Ave. W. Fayetteville\, WV 25840. Safety vests\, grabbers\, gloves\, and trash bags are provided.
URL:https://visitfayettevillewv.com/event/adopt-a-highway-with-canyon-rim-rotary-club/
LOCATION:Fayetteville\, Fayetteville\, WV\, 25840\, United States
CATEGORIES:Activities,Volunteer
ATTACH;FMTTYPE=image/jpeg:https://visitfayettevillewv.com/wp-content/uploads/2026/03/Adopt-a-highway.jpg
ORGANIZER;CN="Canyon Rim Rotary Club":MAILTO:canyonrimrotaryclub@gmail.com
GEO:37.755687;-81.153492
END:VEVENT
BEGIN:VEVENT
DTSTART;TZID=America/New_York:20260425T090000
DTEND;TZID=America/New_York:20260425T120000
DTSTAMP:20260421T201108
CREATED:20260328T175906Z
LAST-MODIFIED:20260328T175906Z
UID:10011099-1777107600-1777118400@visitfayettevillewv.com
SUMMARY:Beginner Friendly Kaymoor Trail Hike
DESCRIPTION:Location: Kaymoor Trail\, starting at Wolf Creek Trailhead Address: Fayette Station Road\, Fayetteville\, WV 25840\, Fayette County Community Captain: Jackie About This Event: Join Community Captain Jackie for a scenic hike on the Kaymoor Trail\, beginning at the Wolf Creek Trailhead. This out-and-back hike will cover approximately 4 miles total and features beautiful forest scenery and historic remnants of West Virginia’s coal mining past. What to Expect: • A moderately paced 2-mile out and 2-mile back hike (4 miles total) • A well-marked trail with rolling terrain • Opportunities to connect with nature and local history • A supportive group setting for all experience levels How to Prepare: • Wear sturdy hiking shoes and dress in layers • Bring water and a snack • Bug spray and sunscreen recommended • Trekking poles optional\, but may be helpful Registration to any Active SWV free programming indicates acceptance of our liability waiver for every adult and child attending. Please do not attend programs if you are not feeling well. https://rpb.li/rNo Regarding Community Captain Programs and groups of children: All Active SWV Community Captain programs are family friendly; children are invited to attend with the expectation of a parent/guardian ratio of 1 guardian adult to 5 children. It is our expectation for larger groups of children (e.g. Scouts\, youth groups\, etc)\, that an adult to child ratio of 1 adult to 5 children be observed in ages 5 and under\, and 1 adult to 10 children be observed for ages 5 and above. If you haven’t already Join MemberPlus today\, start here: https://members.activeswv.org/member-application All hikes are made possible through Get Active In The Park\, a partnership between Active SWV and the National Park Service. Get Active in the Park activities are perfect for grand-families\, groups with multiple interests\, and individuals. All are welcome! Youth are encouraged to attend but must be accompanied by a guardian and the adult must stay on site during the activity. Get Active in the Park is an innovative partnership between the National Park Service and Active Southern West Virginia. Trained Community Captains deliver free\, beginner-level instructional programs to the New River Gorge region. Get Active in the Park empowers our community to see outdoor spaces as a place for health and wellness to take place.
URL:https://visitfayettevillewv.com/event/beginner-friendly-kaymoor-trail-hike/
LOCATION:New River Gorge\, Lansing\, WV\, 25862\, United States
CATEGORIES:Activities,Hiking
ATTACH;FMTTYPE=image/jpeg:https://visitfayettevillewv.com/wp-content/uploads/2024/03/Kaymoor-trail.jpg
ORGANIZER;CN="Active Southern West Virginia":MAILTO:hello@activeswv.com
GEO:37.819752;-81.189445
END:VEVENT
BEGIN:VEVENT
DTSTART;TZID=America/New_York:20260425T090000
DTEND;TZID=America/New_York:20260425T130000
DTSTAMP:20260421T201108
CREATED:20260103T170816Z
LAST-MODIFIED:20260103T170816Z
UID:10010012-1777107600-1777122000@visitfayettevillewv.com
SUMMARY:Fayetteville Family Fun
DESCRIPTION:Coloring\, puzzles\, games\, legos
URL:https://visitfayettevillewv.com/event/fayetteville-family-fun-2/2026-04-25/
LOCATION:Fayetteville Public Library\, 200 W Maple Ave\, Fayetteville\, WV\, 25840\, United States
CATEGORIES:Activities,Kids activity
ATTACH;FMTTYPE=image/png:https://visitfayettevillewv.com/wp-content/uploads/2024/01/Fayette-County-PL.png
GEO:38.041798;-81.117531
X-APPLE-STRUCTURED-LOCATION;VALUE=URI;X-ADDRESS=Fayetteville Public Library 200 W Maple Ave Fayetteville WV 25840 United States;X-APPLE-RADIUS=500;X-TITLE=200 W Maple Ave:geo:-81.117531,38.041798
END:VEVENT
BEGIN:VEVENT
DTSTART;TZID=America/New_York:20260425T180000
DTEND;TZID=America/New_York:20260425T220000
DTSTAMP:20260421T201108
CREATED:20260207T150316Z
LAST-MODIFIED:20260208T171523Z
UID:10010800-1777140000-1777154400@visitfayettevillewv.com
SUMMARY:A Night to Remember: Our Furball Legacy
DESCRIPTION:For years\, Furball has been a lifeline—turning generosity into second chances for animals in need. Now\, we face a defining moment. Rising costs and growing demand make this year critical to what comes next. This Furball is more than a fundraiser—it is our legacy.\nJoin us at the Gaines Estate for A Night to Remember: Our Furball Legacy. Your support sustains lifesaving care\, keeps doors open\, and ensures hope remains for animals with nowhere else to turn. If this is our legacy year\, let it be one defined by compassion\, courage\, and impact.\nWe are looking forward to the Furball at the Gaines Estate on April 25th\, 2026 from 6:00-10:00 pm! There will be music/DJ from The Cat’s Meow\, dinner will be catered by The Gaines Estate and there will be a cash bar. We will have a silent auction with donated items from local businesses. We are seeking donations for the silent auction and event sponsorships.\nhttps://nrhswv.networkforgood.com/…/96936-a-night-to…
URL:https://visitfayettevillewv.com/event/a-night-to-remember-our-furball-legacy/
LOCATION:The Gaines Estate\, 225 W Maple Ave\, Fayetteville\, WV\, 25840\, United States
CATEGORIES:Activities,Beer, wine, cocktails, etc.,Dining / Food,Events,Fundraiser
ATTACH;FMTTYPE=image/jpeg:https://visitfayettevillewv.com/wp-content/uploads/2026/02/Furball-2026.jpg
ORGANIZER;CN="New River Animal Rescue":MAILTO:support@newriveranimalrescue.org
GEO:38.041839;-81.117554
X-APPLE-STRUCTURED-LOCATION;VALUE=URI;X-ADDRESS=The Gaines Estate 225 W Maple Ave Fayetteville WV 25840 United States;X-APPLE-RADIUS=500;X-TITLE=225 W Maple Ave:geo:-81.117554,38.041839
END:VEVENT
BEGIN:VEVENT
DTSTART;TZID=America/New_York:20260425T180000
DTEND;TZID=America/New_York:20260425T233000
DTSTAMP:20260421T201108
CREATED:20260411T174256Z
LAST-MODIFIED:20260411T174256Z
UID:10011143-1777140000-1777159800@visitfayettevillewv.com
SUMMARY:Coal Country Paranormal presents Thurmond
DESCRIPTION:We hope to see you there for a scary good time!
URL:https://visitfayettevillewv.com/event/coal-country-paranormal-presents-thurmond/
LOCATION:Thurmond\, WV\, Thurmond\, WV\, 25901\, United States
CATEGORIES:Activities,Educational,Historical
ATTACH;FMTTYPE=image/jpeg:https://visitfayettevillewv.com/wp-content/uploads/2026/04/Thurmond-paranormal.jpg
ORGANIZER;CN="Coal Country Paranormal":MAILTO:coalcountryparanormal2026@gmail.com
END:VEVENT
BEGIN:VEVENT
DTSTART;TZID=America/New_York:20260425T190000
DTEND;TZID=America/New_York:20260425T220000
DTSTAMP:20260421T201108
CREATED:20260404T180448Z
LAST-MODIFIED:20260404T180448Z
UID:10011124-1777143600-1777154400@visitfayettevillewv.com
SUMMARY:Queer Prom 2
DESCRIPTION:
URL:https://visitfayettevillewv.com/event/queer-prom-2/
LOCATION:WV
CATEGORIES:Activities,Dance
ATTACH;FMTTYPE=image/jpeg:https://visitfayettevillewv.com/wp-content/uploads/2026/04/20260329_193704.jpg
END:VEVENT
BEGIN:VEVENT
DTSTART;TZID=America/New_York:20260425T193000
DTEND;TZID=America/New_York:20260425T210000
DTSTAMP:20260421T201108
CREATED:20260314T154614Z
LAST-MODIFIED:20260314T154614Z
UID:10010951-1777145400-1777150800@visitfayettevillewv.com
SUMMARY:Ryan Errickson LIVE @ Southside!
DESCRIPTION: Tonight’s Live Music Update at Southside Junction Tap House\nWe’re thrilled to welcome back a local favorite — Ryan Errickson — to the stage! \nYou might recognize Ryan as a member of the band Dalchord\, but tonight he’s flying solo and bringing his signature sound to the Tap House.\nExpect an unforgettable evening filled with Ryan’s heartfelt originals and a mix of indie\, folk\, and country covers you know and love. Whether you’re here for dinner\, drinks\, or just the vibe — Ryan’s tunes will set the perfect mood.
URL:https://visitfayettevillewv.com/event/ryan-errickson-live-southside/
LOCATION:Southside Junction Tap House\, 101 N Court St\, Fayetteville\, WV\, 25840\, United States
CATEGORIES:Activities,Beer, wine, cocktails, etc.,Dining / Food,Music
ATTACH;FMTTYPE=image/jpeg:https://visitfayettevillewv.com/wp-content/uploads/2025/04/Ryan-Errickson.jpg
ORGANIZER;CN="Southside Junction Tap House":MAILTO:SJTaphouse@gmail.com
GEO:38.05279;-81.103771
X-APPLE-STRUCTURED-LOCATION;VALUE=URI;X-ADDRESS=Southside Junction Tap House 101 N Court St Fayetteville WV 25840 United States;X-APPLE-RADIUS=500;X-TITLE=101 N Court St:geo:-81.103771,38.05279
END:VEVENT
BEGIN:VEVENT
DTSTART;TZID=America/New_York:20260425T193000
DTEND;TZID=America/New_York:20260425T230000
DTSTAMP:20260421T201108
CREATED:20260209T180033Z
LAST-MODIFIED:20260209T180033Z
UID:10010826-1777145400-1777158000@visitfayettevillewv.com
SUMMARY:An Evening with Clay Street Unit with Special Guest Yarn - Groove in the Gorge Music Series
DESCRIPTION: GROOVE IN THE GORGE MUSIC SERIES \nAn Evening with Clay Street Unit with Special Guests Yarn\nKick off spring with an unforgettable Americana & bluegrass bash deep in the heart of the New River Gorge! Join us for a night of incredible live music\, dancing under the stars\, and all the good vibes—160 feet down at The Outpost.\n Expect: Live music from Clay Street Unit & Yarn Camping under the stars Food trucks Local brews and more Art vendors Beautiful gorge views & mountain air\n WHEN: Saturday\, April 25th\, 2026 BAR OPENS: 5:30 PM DOORS: 6:00 PM SHOW: 7:30 PM – 11:00 PM WHERE: The Outpost at the New River Gorge Fayetteville\, WV\n TICKETS:• $21 Advance• $24 Day of Show• Camping packages include concert tickets+ taxes & fees\n PARKING:FREE onsite day parking for all guests\n TICKET OPTIONS: Camping + Ticket Concert-Only Ticket\nCome for the music\, Stay for the Community – “Where Wild Meets Wonderful”
URL:https://visitfayettevillewv.com/event/an-evening-with-clay-street-unit-with-special-guest-yarn-groove-in-the-gorge-music-series/
LOCATION:The Outpost – New River Gorge Campground\, 843 Fayette Station Rd\, Fayetteville\, WV\, 25840\, United States
CATEGORIES:Activities,Beer, wine, cocktails, etc.,Dining / Food,Events,Music
ATTACH;FMTTYPE=image/jpeg:https://visitfayettevillewv.com/wp-content/uploads/2026/02/Clay-Street-OP.jpg
ORGANIZER;CN="The Outpost - New River Gorge Campground":MAILTO:info@outpostnrg.com
GEO:38.058218;-81.095024
X-APPLE-STRUCTURED-LOCATION;VALUE=URI;X-ADDRESS=The Outpost – New River Gorge Campground 843 Fayette Station Rd Fayetteville WV 25840 United States;X-APPLE-RADIUS=500;X-TITLE=843 Fayette Station Rd:geo:-81.095024,38.058218
END:VEVENT
END:VCALENDAR