BEGIN:VCALENDAR
VERSION:2.0
PRODID:-//Visit Fayetteville WV - ECPv6.15.20//NONSGML v1.0//EN
CALSCALE:GREGORIAN
METHOD:PUBLISH
X-ORIGINAL-URL:https://visitfayettevillewv.com
X-WR-CALDESC:Events for Visit Fayetteville WV
REFRESH-INTERVAL;VALUE=DURATION:PT1H
X-Robots-Tag:noindex
X-PUBLISHED-TTL:PT1H
BEGIN:VTIMEZONE
TZID:America/New_York
BEGIN:DAYLIGHT
TZOFFSETFROM:-0500
TZOFFSETTO:-0400
TZNAME:EDT
DTSTART:20250309T070000
END:DAYLIGHT
BEGIN:STANDARD
TZOFFSETFROM:-0400
TZOFFSETTO:-0500
TZNAME:EST
DTSTART:20251102T060000
END:STANDARD
BEGIN:DAYLIGHT
TZOFFSETFROM:-0500
TZOFFSETTO:-0400
TZNAME:EDT
DTSTART:20260308T070000
END:DAYLIGHT
BEGIN:STANDARD
TZOFFSETFROM:-0400
TZOFFSETTO:-0500
TZNAME:EST
DTSTART:20261101T060000
END:STANDARD
BEGIN:DAYLIGHT
TZOFFSETFROM:-0500
TZOFFSETTO:-0400
TZNAME:EDT
DTSTART:20270314T070000
END:DAYLIGHT
BEGIN:STANDARD
TZOFFSETFROM:-0400
TZOFFSETTO:-0500
TZNAME:EST
DTSTART:20271107T060000
END:STANDARD
END:VTIMEZONE
BEGIN:VEVENT
DTSTART;VALUE=DATE:20260427
DTEND;VALUE=DATE:20260503
DTSTAMP:20260422T012944
CREATED:20250913T155348Z
LAST-MODIFIED:20250913T155348Z
UID:10008463-1777248000-1777766399@visitfayettevillewv.com
SUMMARY:New River Birding & Nature Festival
DESCRIPTION:April 27 – May 2\, 2026 Registration opens in October\nSince 2002\, the annual New River Birding & Nature Festival takes place in and around the New River Gorge National Park & River in the heart of the upland\, hardwood forests that Cornell Lab of Ornithology identified as a crucial stopover habitat for the continued survival of species such as Golden-winged\, Blue-winged\, and Swainson’s Warbler\, as well as the Scarlet Tanager. Our bird and nature watching festival highlights more than 100 bird species on a variety of daily birding tours. \nIt’s our favorite week of the year and we like to think of it as a five-star nature vacation where you nurture your mind and body by connecting with nature in the fresh spring air of the Appalachian Mountains. \nYou won’t find rows of vendor tables with cool stuff from interesting places. You will find dinner tables with all kinds of folks from all sorts of places who enjoy exploring the phenomena of the physical world. A friendly bird and nature watching vacation for everyone\, we offer a variety of daily guided birding and nature excursions\, world-class speakers\, the finest collection of guides\, tasty food\, and a back-porch atmosphere unmatched by any other birding festival. Signature guided bird watching experiences include opportunities to visit a wide range of habitats\, world class instruction for those wanting to enhance their skills\, and the best guide-to-guest ratio on the festival circuit. All skill levels are welcome.
URL:https://visitfayettevillewv.com/event/new-river-birding-nature-festival-2/
LOCATION:New River Gorge\, Lansing\, WV\, 25862\, United States
CATEGORIES:Activities,Educational,Events,Festival,Nature
ATTACH;FMTTYPE=image/png:https://visitfayettevillewv.com/wp-content/uploads/2024/09/New-River-Birding.png
ORGANIZER;CN="New River Birding & Nature Festival":MAILTO:rachel@birding-wv.com
GEO:37.819752;-81.189445
END:VEVENT
BEGIN:VEVENT
DTSTART;TZID=America/New_York:20260429T070000
DTEND;TZID=America/New_York:20260502T140000
DTSTAMP:20260422T012944
CREATED:20260207T153715Z
LAST-MODIFIED:20260207T153758Z
UID:10010807-1777446000-1777730400@visitfayettevillewv.com
SUMMARY:Artemis Rally 2026 at Expo Adventure
DESCRIPTION:Artemis Rally 2026 at Expo Adventure April 29-May 2\, 2026\nWe are mixing it up for 2026. Artemis Rally will have it’s base bivouac at Ace Adventure Resort in beautiful West Virginia.\nArtemis Rally 2026 April 29-May 2\, 2026\nArtemis Rally is celebrating it’s fourth year and this time we have something special planned for you ladies.\nFirst thing first- NO MORE CANOES\, We have removed the canoes from Artemis Rally.\n\nThe ONLY event of this type. This rally is for the determined\, adventure seeking women. Artemis Rally will test the participants both physically and mentally. Artemis Rally utilizes strategy\, navigation and other outdoor activities.\nArtemis Rally will take participants on a 4-day adventure like never before. This adventure rally will take the teams across some of the most rugged parts of WV to experience some of the most beautiful territory in the USA. All teams will be required to camp together in a stationary base bivouac\, OP will provide participants with roomy 4-person tents.\nPRE-PARTY RECEPTION is Tuesday evening April 28th\, 6pm to 8:00PM – The Lost Paddle restaurant at Ace Adventure Resort. Light Hors d’oeuvres and cocktails available.\nChallenges available to acquire points during the rally.\nChallenges -Mandatory*Navigation – GPS (On X\, Gaia\, Google Maps\, Garmin\, On Trail \,etc)\nChallenges-Optional\n* Sporting Clays – 12 gauge shotgun – every team member uses the same unit – no personal shotguns allowed* Archery* Axe throwing* Whitewater Rafting – Class 3-4* Zip lining – Multiple runs* Hiking* Swimming* Winching Challenge(s)* Spare tire/jack challenge* Traction Board Challenge* Pull Pal Challenge* Surprise Challenges* And MORE\nThe final day will include a social hour\, formal dinner (cocktail attire) and awards ceremony.\n\nTeam – Requirements\n\nA team entry will consist of a two person team and one vehicle ONLY\, If you plan on entering two or more vehicles\, that will be considered as multiple team entries. All types of vehicles are welcomed to participate\, Stock SUV/Pickups\, Slightly modified or highly modified\, Hybrid or E-vehicles are welcomed. No provisions for charging EV are provided. All vehicles are required to be street legal and displaying a valid tag. NO SXS are allowed\, street legal or otherwise. TWO PEOPLE allowed per team/vehicle \, NO MEDIA or SUPPORT ALLOWED in the team vehicles\n\nPersonal Gear –Lighter or matchesSleeping bag or blanketsPillowSleeping PadToiletriesTowelSmall camp chairHeadlampPocket knife or MultitoolGloves for winching and other tasks\n\nFood=\nArtemis competitors will be treated to daily breakfast and dinner by our professional cook team-Trail to Table -Nathan Derstine (vegan and vegetarian options will be available as requested)Lunch and snacks will be the responsibility of the teams. QTY-8 meals provided\nVehicles=\nThis rally will be open to all types of street legal 4×4 (no side by sides). All types of vehicles are welcomed to participate: Stock SUV /Pickups\, slightly modified or heavily modified\, Hybrid or E-vehicles are welcomed. No provisions for charging EV are provided. All vehicles are required to be street legal and displaying a valid tag. NO SXS are allowed \, Street legal or otherwise\nRequired equipment –* matches or lighter* First Aid Kit* Fire Extinguisher* OEM Seatbelts or approved harnesses* Tools to successfully change a tire* Spare tire\n\nSuggested Equipment* Recovery winch* Recovery gear* Traction boards* Air compressor* Straps to secure gear\n\nMandatory challenges include –*Navigation – GPS\n\nOptional Challenges will include* Firearms = 9mm and AR Rifles (.223)* Sporting Clays – Clay pigeons – 12 gauge shotgun – low brass high impact shells* Archery* Axe throwing* Whitewater Rafting – Class 3-4* Ziplining – Multiple runs* Swimming* Winching Challenge(s)* Spare Tire / Jack Challenge* Traction Board Challenge* Surprise Challenges\n\nWhat is included- Per Person* Qty-4 Artemis Rally T-shirts* Qty-1 Artemis Rally Helmet* Qty-1 Artemis Rally Vest* Qty-8 Meals 4 Breakfasts & 4 Dinners- EXCELLENT FOOD* Daily informative driver’s meetings* We supply roomy 4-season tents and set-up and tear down for each team* Hydration – water and hydration packets\nWe provide the tents for the teams (two people per tent)\nTEAM MEMBERS will be required to provide ALL personal gear\, toiletries\, camping gear (OP- provides tents ) & first aid kits as well as lunch and snacks. Fuel for vehicles will be the responsibility of the competitors\, fuel stops are allowed at any given time during the event.\nManufacturer vehicle teams and sponsored teams are welcome to participate.\nValid driver’s license and valid vehicle insurance required.\nOverlander Project will provide mechanical assistance as needed\, on route and in the evening bivouac .\nInterested in Artemis Rally 2026 – THE DATES ARE April 29-May 2\, 2026 with a pre party the night of April 28\, 2026\nCost = $3750.00 per team\nRESERVE your Team spot with the COMMITMENT DEPOSIT $300.00 ( NON-REFUNDABLE). Balance due no later than March 30\, 2026\n\n********RULES*************Artemis Rally reserves the right to display event decals such as – Artemis branding\, team numbers\, sponsors and partners\nA. Team numbers on both the driver and passenger door\, preferably the front doors\, if you plan to have your doors removed – you MUST have a surface for AR to apply the team numbers .B. Either upper or lower windshield – Dimensions – 6″x 48″No outside \, non Artemis Rally branding will be permitted on the helmets\, vests – NO EXCEPTIONS\nNo media personnel allowed in competition vehiclesNavigation will be performed by team members ONLY – NO OUTSIDE ASSISTANCESocial Posts will be performed by team members onlyTrackers will be installed on your rally vehicle – any tampering with tracking device will result in immediate disqualification\, IF A RALLY VEHICLE EXCEEDS THE POSTED SPEED LIMIT – Penalties will incur\nInterested in bringing a media person or team ( strict restrictions apply )\n* MEDIA VEHICLES – Includes media placards (Meatballs) qty-2 ( Media credentials ) and Suggested locations to capture the moving teams .* Overlander Project / Artemis Support vehicles will be required to display qty -2 placards/meatballs\, event apparel and name tag\n* Meal plan is available for purchase for Media / Support Members\nINTERESTED in bringing your own media or support person? You must register them with either media pass or support pass – cost is $200.00 per person\nMedia packages available for $245.00 per team – Purchase Media Package\nThis is a rapidly growing female only authentic adventure rally – Register soon!!\nINTERESTED in becoming a sponsor/partner – we have sponsor decks available upon request .\nInquire at info@overlanderproject.comorshoot us a message on our socialsorCall/text – 828-322-6463 (John Eller)
URL:https://visitfayettevillewv.com/event/artemis-rally-2026-at-expo-adventure/
LOCATION:ACE Adventure Resort\, 1 Concho Rd\, Oak Hill\, WV\, 25901\, United States
CATEGORIES:Activities,Competition, Contest, etc.,Dining / Food,Events,Hiking,Motorsports,Rafting, Kayaking, etc.,Sports
ATTACH;FMTTYPE=image/jpeg:https://visitfayettevillewv.com/wp-content/uploads/2026/02/Artemis-Rally.jpg
ORGANIZER;CN="The Overlander Project":MAILTO:Info@overlanderproject.com
GEO:37.993723;-81.132325
X-APPLE-STRUCTURED-LOCATION;VALUE=URI;X-ADDRESS=ACE Adventure Resort 1 Concho Rd Oak Hill WV 25901 United States;X-APPLE-RADIUS=500;X-TITLE=1 Concho Rd:geo:-81.132325,37.993723
END:VEVENT
BEGIN:VEVENT
DTSTART;VALUE=DATE:20260501
DTEND;VALUE=DATE:20260503
DTSTAMP:20260422T012944
CREATED:20260207T150846Z
LAST-MODIFIED:20260207T150846Z
UID:10010801-1777593600-1777766399@visitfayettevillewv.com
SUMMARY:2026 Whitewater Whirl Contra Dance Weekend
DESCRIPTION:Welcome to the 2026 Whitewater Whirl. Whether you’re a dedicated\, would-not-miss-it Whirler or new to the weekend\, we look forward to dancing with you! The weekend is held at the Fayette County Park 4-H camp near Fayetteville\, WV. Online registration is now open. at https://www.footmad.org/whirl\nThe Bands\nLouisville-based Hot Coffee Breakdown is one of the most popular bands on the contra dance weekend circuit. Tom Cunningham’s fiery fiddle combines with the driving rhythms of Kate Sanders on keyboard and Luis de Leon on percussion and harmonica. Their dynamic range and musical crescendos will make you want the dance to go on forever!\nWe welcome The Hollertones–Paul Brown on banjo\, Linda Scutt on fiddle\, Jeanie Thieken on guitar and vocals and Nick Weiland on bass–for their Whirl debut. Their lend of traditional\, old time and Celtic music has made them popular at contra dances throughout the Midwest and East Coast.\nThe callers\nThe talented Darlene Underwood from Cincinnati returns for her second Whirl to spread happiness\, connection and fun. It’s a Whirl debut for the talented and very funny Bob Isaacs\, choreographer of so many creative dances\, who’s driving all the way from Princeton\, NJ (thanks\, Bob).\nWe’re delighted that Gaye Fifer will again join us to teach the Beyond the Basics waltz workshop. Regular Whirlers know that Gaye called at every Whirl from 2005 to 2024. She’s taking a break\, but we hope she’ll be back as a regular Whirl caller in future.\nIn 2024\, we added a late-night techno contra with DJ Polly Whittaker teaming with “Queen Darlene.” It’s back by popular demand\, retitled as “DJ Contra\,” and with “King Bob” on the team.\nOur sound engineer\, maestro Hanno Meingast\, will be making the music in the hall sound great.\nAccommodation and meal plan\nCabin accommodation (metal frame bunk beds) or camping onsite at the Fayette County Park 4-H camp near Fayetteville\, WV is included in the weekend price. When you register\, let us know if you’ll be staying in one of the cabins\, designated as coed\, women and men.\nYou can pitch your tent anywhere\, but if you’re pulling a camper the camp staff will tell you where to park.\nThe camp will open on Thursday night\, April 30\, for early arrivals. Consider staying Sunday night\, May 3\, hiking or rafting in the New River Gorge.\nCafé One Ten in Oak Hill\, WV\, will provide catering—a five-meal plan with vegetarian options. Jennifer Horrocks and Heather Oelker will be running the kitchen and dining hall\, with Jennifer preparing her signature desserts for Saturday dinner. Heather\, designated as official Whirl coffee mug curator\, will be bringing her full cafe collection.\nFinally\, we know that some of you (I’m not saying who!) struggle up and down the hill from the dance hall to the dining hall. This year\, we’re working with the camp management to arrange a golf cart shuttle service to conserve your dancing energy!\nWe’ll see you at the Whirl!\nDavid\, Chair\, Whirl planning committee
URL:https://visitfayettevillewv.com/event/2026-whitewater-whirl-contra-dance-weekend/
LOCATION:Fayette County Park\, Fayetteville\, WV\, 25840\, United States
CATEGORIES:Activities,Dance,Events
ATTACH;FMTTYPE=image/jpeg:https://visitfayettevillewv.com/wp-content/uploads/2026/02/Whitewater-whirl.jpg
END:VEVENT
BEGIN:VEVENT
DTSTART;VALUE=DATE:20260501
DTEND;VALUE=DATE:20260504
DTSTAMP:20260422T012944
CREATED:20251122T192527Z
LAST-MODIFIED:20251122T192527Z
UID:10009028-1777593600-1777852799@visitfayettevillewv.com
SUMMARY:Expo Adventure – Appalachia
DESCRIPTION:Welcome to Expo Adventure – Appalachia\, nestled in the heart of rugged\, breathtaking\, West Virginia at America’s newest National Park\, The New River Gorge! This isn’t just another expo—it’s an adventure-lover’s paradise\, bringing together some of the nation’s most thrilling outdoor enthusiasts and explorers. \nDive into an exhilarating weekend packed full of adventure activities including Overlanding\, Off-roading\, Camping\, Kayaking\, Mountain Biking\, Hiking\, White Water Rafting\, Paddle Boarding\, Zip Lining\, Swimming and much more! But\, that’s not all! Expo Adventure – Appalachia has an exciting lineup of manufactures and vendors exhibiting\,  multiple on-site activities and experiences!  Expo Adventure redefines traditional expos by immersing you directly into the heart of adventure! \nExplore over 500 acres of incredible off-roading trails. These trails range from mild to wild terrain\, feature challenging rock gardens and deep gulches to traverse. Whether you’re a beginner or a seasoned veteran\, you’ll find plenty of excitement and adventure with our comprehensive trail pass. Enhance your experience with optional 4×4 Jeep\, Side-by-side (SxS) and ATV rentals available onsite. \nDiscover camaraderie among fellow adventurers\, browse a vast selection of gear and services from top exhibitors at our mountaintop vendor area\, or simply relax in scenic camping spots with spectacular views.
URL:https://visitfayettevillewv.com/event/expo-adventure-appalachia/
LOCATION:ACE Adventure Resort\, 1 Concho Rd\, Oak Hill\, WV\, 25901\, United States
CATEGORIES:Activities,Events,Motorsports,Shopping
ATTACH;FMTTYPE=image/jpeg:https://visitfayettevillewv.com/wp-content/uploads/2025/11/Overland-Expo-Patch.jpeg
ORGANIZER;CN="ACE Adventure Resort":MAILTO:ace@aceraft.com
GEO:37.993723;-81.132325
X-APPLE-STRUCTURED-LOCATION;VALUE=URI;X-ADDRESS=ACE Adventure Resort 1 Concho Rd Oak Hill WV 25901 United States;X-APPLE-RADIUS=500;X-TITLE=1 Concho Rd:geo:-81.132325,37.993723
END:VEVENT
BEGIN:VEVENT
DTSTART;TZID=America/New_York:20260501T080000
DTEND;TZID=America/New_York:20260502T170000
DTSTAMP:20260422T012944
CREATED:20260328T184909Z
LAST-MODIFIED:20260328T184909Z
UID:10011104-1777622400-1777741200@visitfayettevillewv.com
SUMMARY:AccessFund: Climbing Conference
DESCRIPTION:Read more & purchase tickets here \n\nEach year\, Access Fund unites the passionate leaders of the climbing advocacy community to celebrate our victories and tackle the challenges ahead. We bring together local climbing organizations\, land managers\, landowners\, climbing gyms\, gear companies\, land trusts\, and more to forge the future of climbing. Together\, we rally for progress\, ensuring that our beloved sport continues to thrive and inspire for generations to come. \nThis year\, we’ll meet in the climbing hub of the New River Gorge to experience incredible sandstone climbing and discuss both regional and national access issues. Mark your calendars for 2 days of presentations\, panels\, and conversations on protecting America’s climbing.
URL:https://visitfayettevillewv.com/event/accessfund-climbing-conference/
LOCATION:Fayetteville\, Fayetteville\, WV\, 25840\, United States
CATEGORIES:Activities,Climbing,Educational,Events
ATTACH;FMTTYPE=image/webp:https://visitfayettevillewv.com/wp-content/uploads/2026/03/AccessFun.webp
GEO:37.755687;-81.153492
END:VEVENT
BEGIN:VEVENT
DTSTART;VALUE=DATE:20260502
DTEND;VALUE=DATE:20260503
DTSTAMP:20260422T012944
CREATED:20250510T172039Z
LAST-MODIFIED:20250510T172039Z
UID:10007713-1777680000-1777766399@visitfayettevillewv.com
SUMMARY:New River Gorge Rim to Rim Race
DESCRIPTION:The New River Gorge Rim to Rim Race is a 6 mile running road race from one rim of the New River Gorge\, down to the bottom where you’ll cross over the New River\, then back to the rim of the other side with a short trail section to finish. This bucket list event will provide runners with breathtaking views throughout the course in the adventure sports capital of West Virginia – Fayetteville.
URL:https://visitfayettevillewv.com/event/new-river-gorge-rim-to-rim-race-2/
LOCATION:New River Gorge\, Lansing\, WV\, 25862\, United States
CATEGORIES:Activities,Run/Walk
ATTACH;FMTTYPE=image/jpeg:https://visitfayettevillewv.com/wp-content/uploads/2024/08/RimToRim.jpg
ORGANIZER;CN="Active Southern West Virginia":MAILTO:hello@activeswv.com
GEO:37.819752;-81.189445
END:VEVENT
BEGIN:VEVENT
DTSTART;TZID=America/New_York:20260502T080000
DTEND;TZID=America/New_York:20260502T123000
DTSTAMP:20260422T012944
CREATED:20251129T171622Z
LAST-MODIFIED:20251129T171622Z
UID:10009066-1777708800-1777725000@visitfayettevillewv.com
SUMMARY:Fayette County Farmer's Market
DESCRIPTION:We offer fresh produce grown in Fayette County\, West Virginia and the New River Gorge region to residents and visitors to our area. Visit our two market locations and browse a range of local vegetables\, meats\, baked goods and pastries. We’re also joined at the market by local artisans and craftspeople who create a variety of arts\, crafts and products created from
URL:https://visitfayettevillewv.com/event/fayette-county-farmers-market/2026-05-02/
LOCATION:Downtown Fayetteville\, Fayetteville\, WV\, 25840\, United States
CATEGORIES:Activities,Art,Dining / Food,Shopping
ATTACH;FMTTYPE=image/jpeg:https://visitfayettevillewv.com/wp-content/uploads/2025/11/Farmers-Market.jpg
ORGANIZER;CN="Fayette County Farmer's Market":MAILTO:fayettecofarmersmarket07@yahoo.com
GEO:38.05279;-81.103771
END:VEVENT
BEGIN:VEVENT
DTSTART;TZID=America/New_York:20260502T090000
DTEND;TZID=America/New_York:20260502T100000
DTSTAMP:20260422T012944
CREATED:20260202T163338Z
LAST-MODIFIED:20260202T163338Z
UID:10010738-1777712400-1777716000@visitfayettevillewv.com
SUMMARY:New River Yoga - Yoga on the Gorge
DESCRIPTION:Yoga on the pool deck at Adventures on the Gorge. \nThis class is at Adventures on the Gorge until the end of October.
URL:https://visitfayettevillewv.com/event/new-river-yoga-yoga-on-the-gorge/2026-05-02/
LOCATION:Adventures on the Gorge\, 401 Ames Heights Rd\, Lansing\, WV\, 25862\, United States
CATEGORIES:Activities,Health & Wellness
ATTACH;FMTTYPE=image/jpeg:https://visitfayettevillewv.com/wp-content/uploads/2026/02/Yoga-on-the-gorge.jpg
ORGANIZER;CN="New River Yoga":MAILTO:newriveryogaretreatwv@gmail.com
GEO:38.082661;-81.072936
X-APPLE-STRUCTURED-LOCATION;VALUE=URI;X-ADDRESS=Adventures on the Gorge 401 Ames Heights Rd Lansing WV 25862 United States;X-APPLE-RADIUS=500;X-TITLE=401 Ames Heights Rd:geo:-81.072936,38.082661
END:VEVENT
BEGIN:VEVENT
DTSTART;TZID=America/New_York:20260502T090000
DTEND;TZID=America/New_York:20260502T100000
DTSTAMP:20260422T012944
CREATED:20260321T173025Z
LAST-MODIFIED:20260321T173025Z
UID:10011032-1777712400-1777716000@visitfayettevillewv.com
SUMMARY:New River Yoga - River Soul Flow
DESCRIPTION:River Soul YogaRiver Soul Yoga is a grounding\, heart-centered practice designed to help you reconnect with your breath\, your body\, and your inner knowing. Like the river\, we move with strength and softness — flowing through intentional sequences that build warmth\, release tension\, and create space within.This class blends mindful energetic movement\, steady breathwork\, and moments of stillness at the end to leave you feeling balanced and renewed. Expect a supportive environment where you can show up exactly as you are — whether you’re building strength\, seeking clarity\, or simply carving out time for yourself.We’ll close each session with 10 minutes of immersive sound healing\, allowing the nervous system to soften and the body to fully absorb the practice. Crystal bowls and soothing tones will guide you into deep rest\, helping you leave feeling grounded\, open\, and restored.Come flow. Come breathe. Come back to your soul.Listen to the river sing sweet songs to rock my soul.
URL:https://visitfayettevillewv.com/event/new-river-yoga-river-soul-flow/2026-05-02/
LOCATION:New River Yoga Studio\, Fayetteville\, WV\, 25840\, United States
CATEGORIES:Activities,Health & Wellness
ATTACH;FMTTYPE=image/jpeg:https://visitfayettevillewv.com/wp-content/uploads/2024/06/New-River-Yoga.jpg
ORGANIZER;CN="New River Yoga":MAILTO:newriveryogaretreatwv@gmail.com
GEO:38.052391;-81.103196
END:VEVENT
BEGIN:VEVENT
DTSTART;TZID=America/New_York:20260502T090000
DTEND;TZID=America/New_York:20260502T130000
DTSTAMP:20260422T012944
CREATED:20260103T170816Z
LAST-MODIFIED:20260103T170816Z
UID:10010013-1777712400-1777726800@visitfayettevillewv.com
SUMMARY:Fayetteville Family Fun
DESCRIPTION:Coloring\, puzzles\, games\, legos
URL:https://visitfayettevillewv.com/event/fayetteville-family-fun-2/2026-05-02/
LOCATION:Fayetteville Public Library\, 200 W Maple Ave\, Fayetteville\, WV\, 25840\, United States
CATEGORIES:Activities,Kids activity
ATTACH;FMTTYPE=image/png:https://visitfayettevillewv.com/wp-content/uploads/2024/01/Fayette-County-PL.png
GEO:38.041798;-81.117531
X-APPLE-STRUCTURED-LOCATION;VALUE=URI;X-ADDRESS=Fayetteville Public Library 200 W Maple Ave Fayetteville WV 25840 United States;X-APPLE-RADIUS=500;X-TITLE=200 W Maple Ave:geo:-81.117531,38.041798
END:VEVENT
BEGIN:VEVENT
DTSTART;TZID=America/New_York:20260502T120000
DTEND;TZID=America/New_York:20260502T170000
DTSTAMP:20260422T012944
CREATED:20260411T145515Z
LAST-MODIFIED:20260411T145515Z
UID:10011125-1777723200-1777741200@visitfayettevillewv.com
SUMMARY:Grand Opening - Ribbon Cutting Ceremony
DESCRIPTION:Come celebrate with me on Friday\, May 2nd at 12:00 PM for the official ribbon cutting celebration! The shop is already open\, but it’s time to make it official and celebrate the new growing season with the community.\nTo make the day extra fun\, I’ll have: A prize raffle Light refreshments FREE gifts for the first 50 customers\nIf you’ve been meaning to stop by\, this is the perfect excuse. Come browse the plants\, enter the raffle\, grab a free gift\, and help me celebrate this exciting milestone.\n May 2 12:00 PM Ribbon Cutting at NoonBring a friend and come celebrate with me!
URL:https://visitfayettevillewv.com/event/grand-opening-ribbon-cutting-ceremony/
LOCATION:The Garden Sheddy\, 25385 Midland Trl\, Hico\, WV\, 25854\, United States
CATEGORIES:Activities,Events,Shopping
ATTACH;FMTTYPE=image/jpeg:https://visitfayettevillewv.com/wp-content/uploads/2026/04/Garden-Sheddy-grand-opening.jpg
ORGANIZER;CN="The Garden Sheddy":MAILTO:thegardensheddy@gmail.com
END:VEVENT
BEGIN:VEVENT
DTSTART;TZID=America/New_York:20260502T130000
DTEND;TZID=America/New_York:20260502T200000
DTSTAMP:20260422T012944
CREATED:20260418T153459Z
LAST-MODIFIED:20260418T153459Z
UID:10011162-1777726800-1777752000@visitfayettevillewv.com
SUMMARY:Derby Day Bash
DESCRIPTION:Save the date and save some animals! Our Derby Day bash is Saturday\, May 2! This year\, $1 from every pint sold will go to @pawsforpromiserescue. That means you get to save cute and fuzzy critters… by drinking the best beer in WV. Look at you go\, hero.
URL:https://visitfayettevillewv.com/event/derby-day-bash/
LOCATION:Bridge Brew Works\, 335 Nick Rahall Greenway\, Fayetteville\, WV\, 25840\, United States
CATEGORIES:Activities,Beer, wine, cocktails, etc.,Dining / Food,Events,Fundraiser
ATTACH;FMTTYPE=image/jpeg:https://visitfayettevillewv.com/wp-content/uploads/2025/04/Derby-Day-1.jpg
ORGANIZER;CN="Bridge Brew Works":MAILTO:bridgebrewworks@gmail.com
END:VEVENT
BEGIN:VEVENT
DTSTART;TZID=America/New_York:20260502T180000
DTEND;TZID=America/New_York:20260502T200000
DTSTAMP:20260422T012944
CREATED:20260411T180548Z
LAST-MODIFIED:20260411T180548Z
UID:10011145-1777744800-1777752000@visitfayettevillewv.com
SUMMARY:Kentucky Derby Party
DESCRIPTION:Giddy up\, folks! \n\n\nGet ready for the most exciting 2 minutes in sports\, all for a great cause! Join us on May 2nd for our Kentucky Derby Party Fundraiser to benefit New River Animal Rescue\, WV and the incredible work they do for animals in need!
URL:https://visitfayettevillewv.com/event/kentucky-derby-party/
LOCATION:Freefolk Brewery\, 25385 Midland Trail\, Hico\, WV\, 25854\, United States
CATEGORIES:Activities,Beer, wine, cocktails, etc.,Competition, Contest, etc.,Dining / Food,Events,Fundraiser
ATTACH;FMTTYPE=image/jpeg:https://visitfayettevillewv.com/wp-content/uploads/2026/04/KD-party-FF.jpg
ORGANIZER;CN="Freefolk Brewery":MAILTO:freefolkbrew@gmail.com
END:VEVENT
BEGIN:VEVENT
DTSTART;TZID=America/New_York:20260502T193000
DTEND;TZID=America/New_York:20260502T220000
DTSTAMP:20260422T012944
CREATED:20260314T195732Z
LAST-MODIFIED:20260314T195732Z
UID:10010966-1777750200-1777759200@visitfayettevillewv.com
SUMMARY:Stalnaker Hill - Fireside Jam
DESCRIPTION:Fred Stalnaker and Evan Hill bring boot stomping bluegrass and outlaw country all across WV! \nFireside Jams are our FREE Saturday night music events\, held at the heart of the Gorge. Join us on Saturday nights to hear the region’s best artists fill the air with soulful vibrations. Bring your family and friends to experience the fun\, communal atmosphere that The Outpost has to offer. \nThe event starts at 7:30 pm and runs until 10:00 pm\, either in the music field or Lodge depending on the weather. So don’t miss this opportunity to enjoy a night of free entertainment with Stalnaker Hill! \nCome for the music\, Stay for the Community! \n“Where Wild Meets Wonderful” \n  \nEVENT DETAILS:\n\nWHO: Stalnaker Hill\nWHERE: The Outpost at The New River Gorge; 843 Fayette Station Road Fayetteville\, WV\nWHAT: Fireside Jams\nWHEN: May 2nd\, 2026 – Bar/Doors at 6:00pm | Show 7:30pm – 10:00pm\nHOW MUCH: FREE\nWHY: Enjoy a relaxing evening with tunes and local brews!\nPARKING: ALL parking will be at the Outpost free of charge. There will NOT be a shuttle for this show.
URL:https://visitfayettevillewv.com/event/stalnaker-hill-fireside-jam/
LOCATION:The Outpost – New River Gorge Campground\, 843 Fayette Station Rd\, Fayetteville\, WV\, 25840\, United States
CATEGORIES:Activities,Beer, wine, cocktails, etc.,Dining / Food,Events,Music
ATTACH;FMTTYPE=image/png:https://visitfayettevillewv.com/wp-content/uploads/2026/03/Stalnaker-Hill-FSJ.png
ORGANIZER;CN="The Outpost - New River Gorge Campground":MAILTO:info@outpostnrg.com
GEO:38.058218;-81.095024
X-APPLE-STRUCTURED-LOCATION;VALUE=URI;X-ADDRESS=The Outpost – New River Gorge Campground 843 Fayette Station Rd Fayetteville WV 25840 United States;X-APPLE-RADIUS=500;X-TITLE=843 Fayette Station Rd:geo:-81.095024,38.058218
END:VEVENT
END:VCALENDAR