BEGIN:VCALENDAR
VERSION:2.0
PRODID:-//Visit Fayetteville WV - ECPv6.15.20//NONSGML v1.0//EN
CALSCALE:GREGORIAN
METHOD:PUBLISH
X-WR-CALNAME:Visit Fayetteville WV
X-ORIGINAL-URL:https://visitfayettevillewv.com
X-WR-CALDESC:Events for Visit Fayetteville WV
REFRESH-INTERVAL;VALUE=DURATION:PT1H
X-Robots-Tag:noindex
X-PUBLISHED-TTL:PT1H
BEGIN:VTIMEZONE
TZID:America/New_York
BEGIN:DAYLIGHT
TZOFFSETFROM:-0500
TZOFFSETTO:-0400
TZNAME:EDT
DTSTART:20250309T070000
END:DAYLIGHT
BEGIN:STANDARD
TZOFFSETFROM:-0400
TZOFFSETTO:-0500
TZNAME:EST
DTSTART:20251102T060000
END:STANDARD
BEGIN:DAYLIGHT
TZOFFSETFROM:-0500
TZOFFSETTO:-0400
TZNAME:EDT
DTSTART:20260308T070000
END:DAYLIGHT
BEGIN:STANDARD
TZOFFSETFROM:-0400
TZOFFSETTO:-0500
TZNAME:EST
DTSTART:20261101T060000
END:STANDARD
BEGIN:DAYLIGHT
TZOFFSETFROM:-0500
TZOFFSETTO:-0400
TZNAME:EDT
DTSTART:20270314T070000
END:DAYLIGHT
BEGIN:STANDARD
TZOFFSETFROM:-0400
TZOFFSETTO:-0500
TZNAME:EST
DTSTART:20271107T060000
END:STANDARD
END:VTIMEZONE
BEGIN:VEVENT
DTSTART;VALUE=DATE:20260505
DTEND;VALUE=DATE:20260509
DTSTAMP:20260422T001005
CREATED:20251115T164746Z
LAST-MODIFIED:20251115T164746Z
UID:10008938-1777939200-1778284799@visitfayettevillewv.com
SUMMARY:Rescue 3 Whitewater Rescue Technician Advanced (WRTA)
DESCRIPTION:Take your river rescue skills to the next level with the Rescue 3 Whitewater Rescue Technician Advanced (WRTA) course at ACE Adventure Resort. This intensive three-day training is built for professional river users—raft guides\, safety kayakers\, and experienced paddlers—who are ready to expand their technical knowledge and sharpen their on-river decision-making. Building on the WRT-PRO foundation\, the WRTA blends advanced hydrology\, complex rescue scenarios\, technical rope systems\, and real-world problem solving on iconic West Virginia whitewater including the New\, Gauley\, Meadow\, and Cherry Rivers. Prepare to push your skills further and operate at the highest professional rescue level. \nLocation: ACE Adventure Resort\, WV\, USA \nRivers: New\, Gauley\, Meadow\, Cherry \nLength: 4 days \nDates: May 5\, 2026 – May 8\, 2026 \nPrice: $500 \nMeals: Lunch will be provided each day of instruction\n\nPrerequisites: This course is designed for professional river users like raft guides and safety kayakers with existing river knowledge and experience along with confident whitewater swimming skills. It builds off of the Rescue 3 WRT-PRO course. The minimum age is 18.
URL:https://visitfayettevillewv.com/event/rescue-3-whitewater-rescue-technician-advanced-wrta/
LOCATION:ACE Adventure Resort\, 1 Concho Rd\, Oak Hill\, WV\, 25901\, United States
CATEGORIES:Activities,Educational,Rafting, Kayaking, etc.,Training
ATTACH;FMTTYPE=image/jpeg:https://visitfayettevillewv.com/wp-content/uploads/2025/11/Ducky-bait26-opt.jpg
ORGANIZER;CN="ACE Adventure Resort":MAILTO:ace@aceraft.com
GEO:37.993723;-81.132325
X-APPLE-STRUCTURED-LOCATION;VALUE=URI;X-ADDRESS=ACE Adventure Resort 1 Concho Rd Oak Hill WV 25901 United States;X-APPLE-RADIUS=500;X-TITLE=1 Concho Rd:geo:-81.132325,37.993723
END:VEVENT
BEGIN:VEVENT
DTSTART;TZID=America/New_York:20260505T090000
DTEND;TZID=America/New_York:20260505T160000
DTSTAMP:20260422T001005
CREATED:20251129T185933Z
LAST-MODIFIED:20251129T185933Z
UID:10009251-1777971600-1777996800@visitfayettevillewv.com
SUMMARY:Farm Volunteer Days
DESCRIPTION:Join us for volunteer work days 9am-4pm every Tuesday from April- November. This is a great opportunity to connect with other community members\, and enjoy the outdoors. Bring water\, snack\, and gloves.
URL:https://visitfayettevillewv.com/event/farm-volunteer-days-2/2026-05-05/
LOCATION:New Roots Community Farm
CATEGORIES:Activities
ATTACH;FMTTYPE=image/jpeg:https://visitfayettevillewv.com/wp-content/uploads/2024/09/Volunteer-Days-new-roots.jpg
ORGANIZER;CN="New Roots Community Farm":MAILTO:Information@newrootscommunityfarm.com
END:VEVENT
BEGIN:VEVENT
DTSTART;TZID=America/New_York:20260505T130000
DTEND;TZID=America/New_York:20260505T140000
DTSTAMP:20260422T001005
CREATED:20251101T165005Z
LAST-MODIFIED:20260103T172005Z
UID:10010082-1777986000-1777989600@visitfayettevillewv.com
SUMMARY:Knitting and Crochet Circle
DESCRIPTION:
URL:https://visitfayettevillewv.com/event/knitting-and-crochet-circle/2026-05-05/
LOCATION:Fayetteville Public Library\, 200 W Maple Ave\, Fayetteville\, WV\, 25840\, United States
CATEGORIES:Activities,Arts and Crafts
ATTACH;FMTTYPE=image/png:https://visitfayettevillewv.com/wp-content/uploads/2024/01/Fayette-County-PL.png
GEO:38.041798;-81.117531
X-APPLE-STRUCTURED-LOCATION;VALUE=URI;X-ADDRESS=Fayetteville Public Library 200 W Maple Ave Fayetteville WV 25840 United States;X-APPLE-RADIUS=500;X-TITLE=200 W Maple Ave:geo:-81.117531,38.041798
END:VEVENT
BEGIN:VEVENT
DTSTART;TZID=America/New_York:20260505T183000
DTEND;TZID=America/New_York:20260505T193000
DTSTAMP:20260422T001005
CREATED:20250308T192514Z
LAST-MODIFIED:20260201T171852Z
UID:10010528-1778005800-1778009400@visitfayettevillewv.com
SUMMARY:New River Yoga - Slow and Controlled\, Foundation and Alignment. Level 2
DESCRIPTION:All bodies welcome.\n\nThis yoga class will teach you about Foundation and Alignment that you need to know in each of the yoga postures.  Candace keeps the class light and fun.  She will lead you through a series of poses that will make you feel lighter on your feet and brighter in your being.\n\n\nCandace Evans
URL:https://visitfayettevillewv.com/event/new-river-yoga-foundation-and-alignment-slow-and-controlled/2026-05-05/
LOCATION:New River Yoga Studio\, Fayetteville\, WV\, 25840\, United States
CATEGORIES:Activities,Health & Wellness
ATTACH;FMTTYPE=image/jpeg:https://visitfayettevillewv.com/wp-content/uploads/2024/06/New-River-Yoga.jpg
ORGANIZER;CN="New River Yoga":MAILTO:newriveryogaretreatwv@gmail.com
GEO:38.052391;-81.103196
END:VEVENT
END:VCALENDAR