BEGIN:VCALENDAR
VERSION:2.0
PRODID:-//Visit Fayetteville WV - ECPv6.15.20//NONSGML v1.0//EN
CALSCALE:GREGORIAN
METHOD:PUBLISH
X-WR-CALNAME:Visit Fayetteville WV
X-ORIGINAL-URL:https://visitfayettevillewv.com
X-WR-CALDESC:Events for Visit Fayetteville WV
REFRESH-INTERVAL;VALUE=DURATION:PT1H
X-Robots-Tag:noindex
X-PUBLISHED-TTL:PT1H
BEGIN:VTIMEZONE
TZID:America/New_York
BEGIN:DAYLIGHT
TZOFFSETFROM:-0500
TZOFFSETTO:-0400
TZNAME:EDT
DTSTART:20250309T070000
END:DAYLIGHT
BEGIN:STANDARD
TZOFFSETFROM:-0400
TZOFFSETTO:-0500
TZNAME:EST
DTSTART:20251102T060000
END:STANDARD
BEGIN:DAYLIGHT
TZOFFSETFROM:-0500
TZOFFSETTO:-0400
TZNAME:EDT
DTSTART:20260308T070000
END:DAYLIGHT
BEGIN:STANDARD
TZOFFSETFROM:-0400
TZOFFSETTO:-0500
TZNAME:EST
DTSTART:20261101T060000
END:STANDARD
BEGIN:DAYLIGHT
TZOFFSETFROM:-0500
TZOFFSETTO:-0400
TZNAME:EDT
DTSTART:20270314T070000
END:DAYLIGHT
BEGIN:STANDARD
TZOFFSETFROM:-0400
TZOFFSETTO:-0500
TZNAME:EST
DTSTART:20271107T060000
END:STANDARD
END:VTIMEZONE
BEGIN:VEVENT
DTSTART;TZID=America/New_York:20260509T080000
DTEND;TZID=America/New_York:20260516T180000
DTSTAMP:20260421T224931
CREATED:20260314T203657Z
LAST-MODIFIED:20260314T203721Z
UID:10010972-1778313600-1778954400@visitfayettevillewv.com
SUMMARY:NRAC's (Not) Work Week
DESCRIPTION:(Not) Work Week is NRAC’s largest volunteer-led trail-building project of the year! This annual week-long stewardship project is dedicated to preserving the places we love while building community and inspiring future action. \nSee the most up-to-date information on NRAC’s Website
URL:https://visitfayettevillewv.com/event/nracs-not-work-week/
LOCATION:New River Gorge\, Lansing\, WV\, 25862\, United States
CATEGORIES:Activities,Climbing,Events,Nature,Volunteer
ATTACH;FMTTYPE=image/webp:https://visitfayettevillewv.com/wp-content/uploads/2026/03/NWW.webp
ORGANIZER;CN="New River Alliance of Climbers":MAILTO:bod@newriverclimbing.net
GEO:37.819752;-81.189445
END:VEVENT
BEGIN:VEVENT
DTSTART;VALUE=DATE:20260511
DTEND;VALUE=DATE:20260516
DTSTAMP:20260421T224931
CREATED:20251115T165944Z
LAST-MODIFIED:20251115T170005Z
UID:10008939-1778457600-1778889599@visitfayettevillewv.com
SUMMARY:International Rafting Federation(IRF) Guide\, Safety Kayak and Trip Leader Workshop
DESCRIPTION:Join us for an International Rafting Federation (IRF) workshop for river guides and trip leaders facilitated by IRF Instructor Trainer Bryant Baker along with IRF Instructor Trainer Mark Hirst of Lapin Koskikoulu. This course is intended for experienced river guides and whitewater professionals looking to increase their knowledge and skills and be evaluated with IRF standards and global best practice. IRF certifications can be used for river guiding and trip leading whitewater around the world. \nRivers: New\, Gauley\, Meadow\, Cherry \nDates: May 11\, 2026 – May 15\, 2026 \nPrice:\n$450 – first three days of raft guide/safety kayak workshop\n$750 – two additional days of Trip Leader workshop \nMeals: Lunch will be provided each day of instruction. \nPrerequisites: Experience as a commercial guide\, logbook\, and first aid certifications. \nAdditional Cost: IRF Award Fees
URL:https://visitfayettevillewv.com/event/international-rafting-federationirf-guide-safety-kayak-and-trip-leader-workshop/
LOCATION:ACE Adventure Resort\, 1 Concho Rd\, Oak Hill\, WV\, 25901\, United States
CATEGORIES:Activities,Educational,Rafting, Kayaking, etc.,Training
ATTACH;FMTTYPE=image/jpeg:https://visitfayettevillewv.com/wp-content/uploads/2024/11/irf-hero.jpg
ORGANIZER;CN="ACE Adventure Resort":MAILTO:ace@aceraft.com
GEO:37.993723;-81.132325
X-APPLE-STRUCTURED-LOCATION;VALUE=URI;X-ADDRESS=ACE Adventure Resort 1 Concho Rd Oak Hill WV 25901 United States;X-APPLE-RADIUS=500;X-TITLE=1 Concho Rd:geo:-81.132325,37.993723
END:VEVENT
BEGIN:VEVENT
DTSTART;TZID=America/New_York:20260512T090000
DTEND;TZID=America/New_York:20260512T160000
DTSTAMP:20260421T224931
CREATED:20251129T185933Z
LAST-MODIFIED:20251129T185933Z
UID:10009252-1778576400-1778601600@visitfayettevillewv.com
SUMMARY:Farm Volunteer Days
DESCRIPTION:Join us for volunteer work days 9am-4pm every Tuesday from April- November. This is a great opportunity to connect with other community members\, and enjoy the outdoors. Bring water\, snack\, and gloves.
URL:https://visitfayettevillewv.com/event/farm-volunteer-days-2/2026-05-12/
LOCATION:New Roots Community Farm
CATEGORIES:Activities
ATTACH;FMTTYPE=image/jpeg:https://visitfayettevillewv.com/wp-content/uploads/2024/09/Volunteer-Days-new-roots.jpg
ORGANIZER;CN="New Roots Community Farm":MAILTO:Information@newrootscommunityfarm.com
END:VEVENT
BEGIN:VEVENT
DTSTART;TZID=America/New_York:20260512T130000
DTEND;TZID=America/New_York:20260512T140000
DTSTAMP:20260421T224931
CREATED:20251101T165005Z
LAST-MODIFIED:20260103T172005Z
UID:10010083-1778590800-1778594400@visitfayettevillewv.com
SUMMARY:Knitting and Crochet Circle
DESCRIPTION:
URL:https://visitfayettevillewv.com/event/knitting-and-crochet-circle/2026-05-12/
LOCATION:Fayetteville Public Library\, 200 W Maple Ave\, Fayetteville\, WV\, 25840\, United States
CATEGORIES:Activities,Arts and Crafts
ATTACH;FMTTYPE=image/png:https://visitfayettevillewv.com/wp-content/uploads/2024/01/Fayette-County-PL.png
GEO:38.041798;-81.117531
X-APPLE-STRUCTURED-LOCATION;VALUE=URI;X-ADDRESS=Fayetteville Public Library 200 W Maple Ave Fayetteville WV 25840 United States;X-APPLE-RADIUS=500;X-TITLE=200 W Maple Ave:geo:-81.117531,38.041798
END:VEVENT
BEGIN:VEVENT
DTSTART;TZID=America/New_York:20260512T160000
DTEND;TZID=America/New_York:20260512T210000
DTSTAMP:20260421T224931
CREATED:20260418T145415Z
LAST-MODIFIED:20260418T145415Z
UID:10011153-1778601600-1778619600@visitfayettevillewv.com
SUMMARY:Dine & Donate Night at Pies & Pints
DESCRIPTION:Join us for a delicious way to give back!\nOn May 12 from 4–9pm\, Pies & Pints will donate 15% of all food sales to support Friends of New River Gorge National Park and Preserve.\nDine in or grab takeout — every meal makes a difference!Alcohol is not included in the donation.\nBring your friends\, family\, and appetite\, and help us turn great food into meaningful impact for our community.\nPies & PintsMay 12 | 4–9 PM\nWe hope to see you there!
URL:https://visitfayettevillewv.com/event/dine-donate-night-at-pies-pints/
LOCATION:Pies & Pints\, 219 W Maple Ave\, Fayetteville\, WV\, 25840\, United States
CATEGORIES:Activities,Beer, wine, cocktails, etc.,Dining / Food,Fundraiser
ATTACH;FMTTYPE=image/jpeg:https://visitfayettevillewv.com/wp-content/uploads/2026/04/Dine-Donate.jpg
END:VEVENT
BEGIN:VEVENT
DTSTART;TZID=America/New_York:20260512T183000
DTEND;TZID=America/New_York:20260512T193000
DTSTAMP:20260421T224931
CREATED:20250308T192514Z
LAST-MODIFIED:20260201T171852Z
UID:10010529-1778610600-1778614200@visitfayettevillewv.com
SUMMARY:New River Yoga - Slow and Controlled\, Foundation and Alignment. Level 2
DESCRIPTION:All bodies welcome.\n\nThis yoga class will teach you about Foundation and Alignment that you need to know in each of the yoga postures.  Candace keeps the class light and fun.  She will lead you through a series of poses that will make you feel lighter on your feet and brighter in your being.\n\n\nCandace Evans
URL:https://visitfayettevillewv.com/event/new-river-yoga-foundation-and-alignment-slow-and-controlled/2026-05-12/
LOCATION:New River Yoga Studio\, Fayetteville\, WV\, 25840\, United States
CATEGORIES:Activities,Health & Wellness
ATTACH;FMTTYPE=image/jpeg:https://visitfayettevillewv.com/wp-content/uploads/2024/06/New-River-Yoga.jpg
ORGANIZER;CN="New River Yoga":MAILTO:newriveryogaretreatwv@gmail.com
GEO:38.052391;-81.103196
END:VEVENT
END:VCALENDAR