BEGIN:VCALENDAR
VERSION:2.0
PRODID:-//Visit Fayetteville WV - ECPv6.15.20//NONSGML v1.0//EN
CALSCALE:GREGORIAN
METHOD:PUBLISH
X-ORIGINAL-URL:https://visitfayettevillewv.com
X-WR-CALDESC:Events for Visit Fayetteville WV
REFRESH-INTERVAL;VALUE=DURATION:PT1H
X-Robots-Tag:noindex
X-PUBLISHED-TTL:PT1H
BEGIN:VTIMEZONE
TZID:America/New_York
BEGIN:DAYLIGHT
TZOFFSETFROM:-0500
TZOFFSETTO:-0400
TZNAME:EDT
DTSTART:20250309T070000
END:DAYLIGHT
BEGIN:STANDARD
TZOFFSETFROM:-0400
TZOFFSETTO:-0500
TZNAME:EST
DTSTART:20251102T060000
END:STANDARD
BEGIN:DAYLIGHT
TZOFFSETFROM:-0500
TZOFFSETTO:-0400
TZNAME:EDT
DTSTART:20260308T070000
END:DAYLIGHT
BEGIN:STANDARD
TZOFFSETFROM:-0400
TZOFFSETTO:-0500
TZNAME:EST
DTSTART:20261101T060000
END:STANDARD
BEGIN:DAYLIGHT
TZOFFSETFROM:-0500
TZOFFSETTO:-0400
TZNAME:EDT
DTSTART:20270314T070000
END:DAYLIGHT
BEGIN:STANDARD
TZOFFSETFROM:-0400
TZOFFSETTO:-0500
TZNAME:EST
DTSTART:20271107T060000
END:STANDARD
END:VTIMEZONE
BEGIN:VEVENT
DTSTART;TZID=America/New_York:20260509T080000
DTEND;TZID=America/New_York:20260516T180000
DTSTAMP:20260421T225107
CREATED:20260314T203657Z
LAST-MODIFIED:20260314T203721Z
UID:10010972-1778313600-1778954400@visitfayettevillewv.com
SUMMARY:NRAC's (Not) Work Week
DESCRIPTION:(Not) Work Week is NRAC’s largest volunteer-led trail-building project of the year! This annual week-long stewardship project is dedicated to preserving the places we love while building community and inspiring future action. \nSee the most up-to-date information on NRAC’s Website
URL:https://visitfayettevillewv.com/event/nracs-not-work-week/
LOCATION:New River Gorge\, Lansing\, WV\, 25862\, United States
CATEGORIES:Activities,Climbing,Events,Nature,Volunteer
ATTACH;FMTTYPE=image/webp:https://visitfayettevillewv.com/wp-content/uploads/2026/03/NWW.webp
ORGANIZER;CN="New River Alliance of Climbers":MAILTO:bod@newriverclimbing.net
GEO:37.819752;-81.189445
END:VEVENT
BEGIN:VEVENT
DTSTART;VALUE=DATE:20260511
DTEND;VALUE=DATE:20260516
DTSTAMP:20260421T225107
CREATED:20251115T165944Z
LAST-MODIFIED:20251115T170005Z
UID:10008939-1778457600-1778889599@visitfayettevillewv.com
SUMMARY:International Rafting Federation(IRF) Guide\, Safety Kayak and Trip Leader Workshop
DESCRIPTION:Join us for an International Rafting Federation (IRF) workshop for river guides and trip leaders facilitated by IRF Instructor Trainer Bryant Baker along with IRF Instructor Trainer Mark Hirst of Lapin Koskikoulu. This course is intended for experienced river guides and whitewater professionals looking to increase their knowledge and skills and be evaluated with IRF standards and global best practice. IRF certifications can be used for river guiding and trip leading whitewater around the world. \nRivers: New\, Gauley\, Meadow\, Cherry \nDates: May 11\, 2026 – May 15\, 2026 \nPrice:\n$450 – first three days of raft guide/safety kayak workshop\n$750 – two additional days of Trip Leader workshop \nMeals: Lunch will be provided each day of instruction. \nPrerequisites: Experience as a commercial guide\, logbook\, and first aid certifications. \nAdditional Cost: IRF Award Fees
URL:https://visitfayettevillewv.com/event/international-rafting-federationirf-guide-safety-kayak-and-trip-leader-workshop/
LOCATION:ACE Adventure Resort\, 1 Concho Rd\, Oak Hill\, WV\, 25901\, United States
CATEGORIES:Activities,Educational,Rafting, Kayaking, etc.,Training
ATTACH;FMTTYPE=image/jpeg:https://visitfayettevillewv.com/wp-content/uploads/2024/11/irf-hero.jpg
ORGANIZER;CN="ACE Adventure Resort":MAILTO:ace@aceraft.com
GEO:37.993723;-81.132325
X-APPLE-STRUCTURED-LOCATION;VALUE=URI;X-ADDRESS=ACE Adventure Resort 1 Concho Rd Oak Hill WV 25901 United States;X-APPLE-RADIUS=500;X-TITLE=1 Concho Rd:geo:-81.132325,37.993723
END:VEVENT
BEGIN:VEVENT
DTSTART;TZID=America/New_York:20260513T083000
DTEND;TZID=America/New_York:20260513T093000
DTSTAMP:20260421T225107
CREATED:20260202T162108Z
LAST-MODIFIED:20260202T162542Z
UID:10010704-1778661000-1778664600@visitfayettevillewv.com
SUMMARY:New River Yoga - Living In Alignment
DESCRIPTION:Living In Alignment\nThis class\, for all levels of yoga\, is based on a steady commitment to physical alignment in a unique balance of a light-heartedness and an engaging asana practice. The welcoming environment creates a class that is alive with questions\, philosophy\, and humor based on connecting real life situations to the physical practice of asana. Living In Alignment is a class that bridges tools and practices to lead you from your mat into life more passionately and skillfully.
URL:https://visitfayettevillewv.com/event/new-river-yoga-living-in-alignment/2026-05-13/
LOCATION:New River Yoga Studio\, Fayetteville\, WV\, 25840\, United States
CATEGORIES:Activities,Health & Wellness
ATTACH;FMTTYPE=image/jpeg:https://visitfayettevillewv.com/wp-content/uploads/2026/02/Deborah-Graff.jpg
ORGANIZER;CN="New River Yoga":MAILTO:newriveryogaretreatwv@gmail.com
GEO:38.052391;-81.103196
END:VEVENT
BEGIN:VEVENT
DTSTART;TZID=America/New_York:20260513T120000
DTEND;TZID=America/New_York:20260513T220000
DTSTAMP:20260421T225107
CREATED:20260117T161753Z
LAST-MODIFIED:20260117T161753Z
UID:10010305-1778673600-1778709600@visitfayettevillewv.com
SUMMARY:15% Off for First Responders every Wednesday at Elliott's
DESCRIPTION:
URL:https://visitfayettevillewv.com/event/15-off-for-first-responders-every-wednesday-at-elliotts/2026-05-13/
LOCATION:Elliott’s Whitewater Bar & Grill\, 103 Elliott's Way\, Fayetteville\, WV\, 25840\, United States
CATEGORIES:Activities,Beer, wine, cocktails, etc.,Dining / Food
ATTACH;FMTTYPE=image/jpeg:https://visitfayettevillewv.com/wp-content/uploads/2026/01/First-Responders-at-Elliotts.jpg
END:VEVENT
BEGIN:VEVENT
DTSTART;TZID=America/New_York:20260513T160000
DTEND;TZID=America/New_York:20260513T170000
DTSTAMP:20260421T225107
CREATED:20251004T162856Z
LAST-MODIFIED:20260103T172657Z
UID:10010141-1778688000-1778691600@visitfayettevillewv.com
SUMMARY:Artists Way (exercise your creativity)
DESCRIPTION:
URL:https://visitfayettevillewv.com/event/artists-way-exercise-your-creativity/2026-05-13/
LOCATION:Fayetteville Public Library\, 200 W Maple Ave\, Fayetteville\, WV\, 25840\, United States
CATEGORIES:Activities,Arts and Crafts
ATTACH;FMTTYPE=image/png:https://visitfayettevillewv.com/wp-content/uploads/2024/01/Fayette-County-PL.png
GEO:38.041798;-81.117531
X-APPLE-STRUCTURED-LOCATION;VALUE=URI;X-ADDRESS=Fayetteville Public Library 200 W Maple Ave Fayetteville WV 25840 United States;X-APPLE-RADIUS=500;X-TITLE=200 W Maple Ave:geo:-81.117531,38.041798
END:VEVENT
BEGIN:VEVENT
DTSTART;TZID=America/New_York:20260513T160000
DTEND;TZID=America/New_York:20260513T200000
DTSTAMP:20260421T225107
CREATED:20260117T164619Z
LAST-MODIFIED:20260117T164619Z
UID:10010358-1778688000-1778702400@visitfayettevillewv.com
SUMMARY:Wing Night at Firecreek!
DESCRIPTION:25 wings for $20 Wednesday!!
URL:https://visitfayettevillewv.com/event/wing-night-at-firecreek/2026-05-13/
LOCATION:Firecreek BBQ & Steaks\, LLC\, 310 Keller Ave\, Fayetteville\, WV\, 25840\, United States
CATEGORIES:Activities,Beer, wine, cocktails, etc.,Dining / Food
ATTACH;FMTTYPE=image/jpeg:https://visitfayettevillewv.com/wp-content/uploads/2026/01/Firecreek-Wings.jpg
END:VEVENT
BEGIN:VEVENT
DTSTART;TZID=America/New_York:20260513T173000
DTEND;TZID=America/New_York:20260513T183000
DTSTAMP:20260421T225107
CREATED:20251101T180528Z
LAST-MODIFIED:20260201T194220Z
UID:10010589-1778693400-1778697000@visitfayettevillewv.com
SUMMARY:New River Yoga - Vinyasa Flow
DESCRIPTION:Vinyasa yoga is a creative form of yoga where poses are linked together with the breath in a flowing sequence. The beauty of Vinyasa yoga is the variety. There is no standard sequence in Vinyasa yoga\, so the style\, pace and intensity will all vary.  Trust me you need this class\, we all do.  Paul makes it accessable for all bodies.\n\n\nPaul Milam\n\n\nPaul completed his 200 YTT at Yoga Power in Charleston.  He has practiced yoga for over 10 years before deciding to become an instructor.  Paul enjoys sharing the physical and mental benefits of yoga with others and the belief that yoga isn’t a competition\, it is a practice.  He says\, “as long as you are practicing yoga and you reap the benefits you are doing it right\, this is the goal.  He is excited to share with you his belief system and his light.  Join him for his very supportive and nonjudgement based classes today.
URL:https://visitfayettevillewv.com/event/new-river-yoga-vinyasa-flow/2026-05-13/
LOCATION:New River Yoga Studio\, Fayetteville\, WV\, 25840\, United States
CATEGORIES:Activities,Educational,Health & Wellness
ATTACH;FMTTYPE=image/jpeg:https://visitfayettevillewv.com/wp-content/uploads/2025/08/Vinyasa-Flow.jpg
ORGANIZER;CN="New River Yoga":MAILTO:newriveryogaretreatwv@gmail.com
GEO:38.052391;-81.103196
END:VEVENT
END:VCALENDAR