BEGIN:VCALENDAR
VERSION:2.0
PRODID:-//Visit Fayetteville WV - ECPv6.15.20//NONSGML v1.0//EN
CALSCALE:GREGORIAN
METHOD:PUBLISH
X-WR-CALNAME:Visit Fayetteville WV
X-ORIGINAL-URL:https://visitfayettevillewv.com
X-WR-CALDESC:Events for Visit Fayetteville WV
REFRESH-INTERVAL;VALUE=DURATION:PT1H
X-Robots-Tag:noindex
X-PUBLISHED-TTL:PT1H
BEGIN:VTIMEZONE
TZID:America/New_York
BEGIN:DAYLIGHT
TZOFFSETFROM:-0500
TZOFFSETTO:-0400
TZNAME:EDT
DTSTART:20250309T070000
END:DAYLIGHT
BEGIN:STANDARD
TZOFFSETFROM:-0400
TZOFFSETTO:-0500
TZNAME:EST
DTSTART:20251102T060000
END:STANDARD
BEGIN:DAYLIGHT
TZOFFSETFROM:-0500
TZOFFSETTO:-0400
TZNAME:EDT
DTSTART:20260308T070000
END:DAYLIGHT
BEGIN:STANDARD
TZOFFSETFROM:-0400
TZOFFSETTO:-0500
TZNAME:EST
DTSTART:20261101T060000
END:STANDARD
BEGIN:DAYLIGHT
TZOFFSETFROM:-0500
TZOFFSETTO:-0400
TZNAME:EDT
DTSTART:20270314T070000
END:DAYLIGHT
BEGIN:STANDARD
TZOFFSETFROM:-0400
TZOFFSETTO:-0500
TZNAME:EST
DTSTART:20271107T060000
END:STANDARD
END:VTIMEZONE
BEGIN:VEVENT
DTSTART;TZID=America/New_York:20260523T080000
DTEND;TZID=America/New_York:20260523T123000
DTSTAMP:20260422T001032
CREATED:20251129T171622Z
LAST-MODIFIED:20251129T171622Z
UID:10009069-1779523200-1779539400@visitfayettevillewv.com
SUMMARY:Fayette County Farmer's Market
DESCRIPTION:We offer fresh produce grown in Fayette County\, West Virginia and the New River Gorge region to residents and visitors to our area. Visit our two market locations and browse a range of local vegetables\, meats\, baked goods and pastries. We’re also joined at the market by local artisans and craftspeople who create a variety of arts\, crafts and products created from
URL:https://visitfayettevillewv.com/event/fayette-county-farmers-market/2026-05-23/
LOCATION:Downtown Fayetteville\, Fayetteville\, WV\, 25840\, United States
CATEGORIES:Activities,Art,Dining / Food,Shopping
ATTACH;FMTTYPE=image/jpeg:https://visitfayettevillewv.com/wp-content/uploads/2025/11/Farmers-Market.jpg
ORGANIZER;CN="Fayette County Farmer's Market":MAILTO:fayettecofarmersmarket07@yahoo.com
GEO:38.05279;-81.103771
END:VEVENT
BEGIN:VEVENT
DTSTART;TZID=America/New_York:20260523T090000
DTEND;TZID=America/New_York:20260523T100000
DTSTAMP:20260422T001032
CREATED:20260202T163338Z
LAST-MODIFIED:20260202T163338Z
UID:10010744-1779526800-1779530400@visitfayettevillewv.com
SUMMARY:New River Yoga - Yoga on the Gorge
DESCRIPTION:Yoga on the pool deck at Adventures on the Gorge. \nThis class is at Adventures on the Gorge until the end of October.
URL:https://visitfayettevillewv.com/event/new-river-yoga-yoga-on-the-gorge/2026-05-23/
LOCATION:Adventures on the Gorge\, 401 Ames Heights Rd\, Lansing\, WV\, 25862\, United States
CATEGORIES:Activities,Health & Wellness
ATTACH;FMTTYPE=image/jpeg:https://visitfayettevillewv.com/wp-content/uploads/2026/02/Yoga-on-the-gorge.jpg
ORGANIZER;CN="New River Yoga":MAILTO:newriveryogaretreatwv@gmail.com
GEO:38.082661;-81.072936
X-APPLE-STRUCTURED-LOCATION;VALUE=URI;X-ADDRESS=Adventures on the Gorge 401 Ames Heights Rd Lansing WV 25862 United States;X-APPLE-RADIUS=500;X-TITLE=401 Ames Heights Rd:geo:-81.072936,38.082661
END:VEVENT
BEGIN:VEVENT
DTSTART;TZID=America/New_York:20260523T090000
DTEND;TZID=America/New_York:20260523T100000
DTSTAMP:20260422T001032
CREATED:20260321T173025Z
LAST-MODIFIED:20260321T173025Z
UID:10011035-1779526800-1779530400@visitfayettevillewv.com
SUMMARY:New River Yoga - River Soul Flow
DESCRIPTION:River Soul YogaRiver Soul Yoga is a grounding\, heart-centered practice designed to help you reconnect with your breath\, your body\, and your inner knowing. Like the river\, we move with strength and softness — flowing through intentional sequences that build warmth\, release tension\, and create space within.This class blends mindful energetic movement\, steady breathwork\, and moments of stillness at the end to leave you feeling balanced and renewed. Expect a supportive environment where you can show up exactly as you are — whether you’re building strength\, seeking clarity\, or simply carving out time for yourself.We’ll close each session with 10 minutes of immersive sound healing\, allowing the nervous system to soften and the body to fully absorb the practice. Crystal bowls and soothing tones will guide you into deep rest\, helping you leave feeling grounded\, open\, and restored.Come flow. Come breathe. Come back to your soul.Listen to the river sing sweet songs to rock my soul.
URL:https://visitfayettevillewv.com/event/new-river-yoga-river-soul-flow/2026-05-23/
LOCATION:New River Yoga Studio\, Fayetteville\, WV\, 25840\, United States
CATEGORIES:Activities,Health & Wellness
ATTACH;FMTTYPE=image/jpeg:https://visitfayettevillewv.com/wp-content/uploads/2024/06/New-River-Yoga.jpg
ORGANIZER;CN="New River Yoga":MAILTO:newriveryogaretreatwv@gmail.com
GEO:38.052391;-81.103196
END:VEVENT
BEGIN:VEVENT
DTSTART;TZID=America/New_York:20260523T090000
DTEND;TZID=America/New_York:20260523T130000
DTSTAMP:20260422T001032
CREATED:20260103T170816Z
LAST-MODIFIED:20260103T170816Z
UID:10010016-1779526800-1779541200@visitfayettevillewv.com
SUMMARY:Fayetteville Family Fun
DESCRIPTION:Coloring\, puzzles\, games\, legos
URL:https://visitfayettevillewv.com/event/fayetteville-family-fun-2/2026-05-23/
LOCATION:Fayetteville Public Library\, 200 W Maple Ave\, Fayetteville\, WV\, 25840\, United States
CATEGORIES:Activities,Kids activity
ATTACH;FMTTYPE=image/png:https://visitfayettevillewv.com/wp-content/uploads/2024/01/Fayette-County-PL.png
GEO:38.041798;-81.117531
X-APPLE-STRUCTURED-LOCATION;VALUE=URI;X-ADDRESS=Fayetteville Public Library 200 W Maple Ave Fayetteville WV 25840 United States;X-APPLE-RADIUS=500;X-TITLE=200 W Maple Ave:geo:-81.117531,38.041798
END:VEVENT
BEGIN:VEVENT
DTSTART;TZID=America/New_York:20260523T173000
DTEND;TZID=America/New_York:20260523T230000
DTSTAMP:20260422T001032
CREATED:20260202T180102Z
LAST-MODIFIED:20260202T180540Z
UID:10010791-1779557400-1779577200@visitfayettevillewv.com
SUMMARY:New Potato Caboose – Groove in the Gorge Music Series
DESCRIPTION:WHEN: Saturday\, May 23\, 2026\nTIME: 7:30 pm – 11:00 pm\nBAR: 5:30 pm\nDOORS: 5:30 pm\nWHERE: THE OUTPOST NEW RIVER GORGE\nHOW MUCH: FREE – WHY\, BECAUSE WE LOVE YOU!\nQUIET HOURS EVENT NIGHT: 1:00 AM\n\nWHAT: A Memorial Day Jamboree! Beautiful vibes in the air\, camping\, food trucks\, local brews\, and art vendors while dancing and getting groovy under the stars 160’ down in the heartbeat of the New River Gorge! \n\nPARKING: \nALL parking will be onsite and FREE in our day parking lot.
URL:https://visitfayettevillewv.com/event/new-potato-caboose-groove-in-the-gorge-music-series/
LOCATION:The Outpost – New River Gorge Campground\, 843 Fayette Station Rd\, Fayetteville\, WV\, 25840\, United States
CATEGORIES:Activities,Beer, wine, cocktails, etc.,Dining / Food,Music,Shopping
ATTACH;FMTTYPE=image/png:https://visitfayettevillewv.com/wp-content/uploads/2026/02/NPC-Website-Poster-05-23-2026.png
ORGANIZER;CN="The Outpost - New River Gorge Campground":MAILTO:info@outpostnrg.com
GEO:38.058218;-81.095024
X-APPLE-STRUCTURED-LOCATION;VALUE=URI;X-ADDRESS=The Outpost – New River Gorge Campground 843 Fayette Station Rd Fayetteville WV 25840 United States;X-APPLE-RADIUS=500;X-TITLE=843 Fayette Station Rd:geo:-81.095024,38.058218
END:VEVENT
BEGIN:VEVENT
DTSTART;TZID=America/New_York:20260523T190000
DTEND;TZID=America/New_York:20260523T210000
DTSTAMP:20260422T001032
CREATED:20251206T180221Z
LAST-MODIFIED:20251206T180221Z
UID:10009435-1779562800-1779570000@visitfayettevillewv.com
SUMMARY:Cheat Mountain Riders Live @ The Lost Paddle
DESCRIPTION:Get ready to kick off Memorial Day Weekend at The Lost Paddle with the high-energy sounds of Cheat Mountain Riders! \nJoin us on the deck Saturday night as this West Virginia powerhouse brings their signature blend of Appalachian Soul Funk infused with a dose of Rock & Roll. It’s the perfect soundtrack for warm evenings\, cold drinks\, and good times at ACE Adventure Resort. \nExpect soulful grooves\, funky rhythms\, and rock-driven jams that keep the dance floor moving all night long. This is a free show\, so grab your friends\, snag a spot on the deck\, and settle in for an awesome night of live music under the gorge sky. \n📅 Memorial Day Weekend\n📍 The Lost Paddle – ACE Adventure Resort\n💸 Free Show \nCome celebrate the holiday weekend the right way—good vibes\, great music\, and Appalachian soul at its finest! \n 
URL:https://visitfayettevillewv.com/event/cheat-mountain-riders-live-the-lost-paddle/
LOCATION:The Lost Paddle\, 2 Concho Rd\, Oak Hill\, WV\, 25901\, United States
CATEGORIES:Activities,Beer, wine, cocktails, etc.,Dining / Food,Music
ATTACH;FMTTYPE=image/jpeg:https://visitfayettevillewv.com/wp-content/uploads/2025/08/Cheat-Mountain-Riders.jpg
ORGANIZER;CN="ACE Adventure Resort":MAILTO:ace@aceraft.com
END:VEVENT
END:VCALENDAR