BEGIN:VCALENDAR
VERSION:2.0
PRODID:-//Visit Fayetteville WV - ECPv6.15.20//NONSGML v1.0//EN
CALSCALE:GREGORIAN
METHOD:PUBLISH
X-WR-CALNAME:Visit Fayetteville WV
X-ORIGINAL-URL:https://visitfayettevillewv.com
X-WR-CALDESC:Events for Visit Fayetteville WV
REFRESH-INTERVAL;VALUE=DURATION:PT1H
X-Robots-Tag:noindex
X-PUBLISHED-TTL:PT1H
BEGIN:VTIMEZONE
TZID:America/New_York
BEGIN:DAYLIGHT
TZOFFSETFROM:-0500
TZOFFSETTO:-0400
TZNAME:EDT
DTSTART:20250309T070000
END:DAYLIGHT
BEGIN:STANDARD
TZOFFSETFROM:-0400
TZOFFSETTO:-0500
TZNAME:EST
DTSTART:20251102T060000
END:STANDARD
BEGIN:DAYLIGHT
TZOFFSETFROM:-0500
TZOFFSETTO:-0400
TZNAME:EDT
DTSTART:20260308T070000
END:DAYLIGHT
BEGIN:STANDARD
TZOFFSETFROM:-0400
TZOFFSETTO:-0500
TZNAME:EST
DTSTART:20261101T060000
END:STANDARD
BEGIN:DAYLIGHT
TZOFFSETFROM:-0500
TZOFFSETTO:-0400
TZNAME:EDT
DTSTART:20270314T070000
END:DAYLIGHT
BEGIN:STANDARD
TZOFFSETFROM:-0400
TZOFFSETTO:-0500
TZNAME:EST
DTSTART:20271107T060000
END:STANDARD
END:VTIMEZONE
BEGIN:VEVENT
DTSTART;TZID=America/New_York:20260609T090000
DTEND;TZID=America/New_York:20260609T160000
DTSTAMP:20260422T042132
CREATED:20251129T185933Z
LAST-MODIFIED:20251129T185933Z
UID:10009256-1780995600-1781020800@visitfayettevillewv.com
SUMMARY:Farm Volunteer Days
DESCRIPTION:Join us for volunteer work days 9am-4pm every Tuesday from April- November. This is a great opportunity to connect with other community members\, and enjoy the outdoors. Bring water\, snack\, and gloves.
URL:https://visitfayettevillewv.com/event/farm-volunteer-days-2/2026-06-09/
LOCATION:New Roots Community Farm
CATEGORIES:Activities
ATTACH;FMTTYPE=image/jpeg:https://visitfayettevillewv.com/wp-content/uploads/2024/09/Volunteer-Days-new-roots.jpg
ORGANIZER;CN="New Roots Community Farm":MAILTO:Information@newrootscommunityfarm.com
END:VEVENT
BEGIN:VEVENT
DTSTART;TZID=America/New_York:20260609T120000
DTEND;TZID=America/New_York:20260609T190000
DTSTAMP:20260422T042132
CREATED:20260411T153602Z
LAST-MODIFIED:20260411T155304Z
UID:10011130-1781006400-1781031600@visitfayettevillewv.com
SUMMARY:New River Farm Fresh Market
DESCRIPTION: New River Farm Fresh Market is Coming! \nJoin us starting May 19th for the kickoff of the New River Farm Fresh Market! The market will run every Tuesday from 12 PM – 7 PM through August 25th.\n Opening Day Special (May 19th):The LUCUS Bus will be on-site offering lung cancer screenings to those who qualify.\n We’re Looking for Vendors!We welcome a variety of vendors\, including:\n-Fresh fruits & vegetables \n-Baked goods & breads \n-Homemade & canned goods \n-Plants and crops \n-Fresh flowers\n-Food trucks \n-Handmade items & crafts \n-Sewing\, quilting\, and crochet \n Vendor Info:\nNo vendor fee\nFirst-come\, first-served booth spaces\nIndoor & outdoor spaces available (please come prepared for both)\n Stay tuned for details on our Special Fall Farmers Market!\nHosted by the New River Convention Center & New River Health\nContact: media@newriverconventioncenter.com(304)-410-2873Vending link: https://form.jotform.com/260755861264059
URL:https://visitfayettevillewv.com/event/new-river-farm-fresh-market/2026-06-09/
LOCATION:New River Convention Center\, 497 Mall Rd\, Oak Hill\, WV\, 25901\, United States
CATEGORIES:Activities,Dining / Food,Events,Shopping
ATTACH;FMTTYPE=image/jpeg:https://visitfayettevillewv.com/wp-content/uploads/2026/04/New-River-Farm-Fresh-Market.jpg
ORGANIZER;CN="New River Convention Center":MAILTO:events@newriverconventioncenter.com
END:VEVENT
BEGIN:VEVENT
DTSTART;TZID=America/New_York:20260609T130000
DTEND;TZID=America/New_York:20260609T140000
DTSTAMP:20260422T042132
CREATED:20251101T165005Z
LAST-MODIFIED:20260103T172005Z
UID:10010087-1781010000-1781013600@visitfayettevillewv.com
SUMMARY:Knitting and Crochet Circle
DESCRIPTION:
URL:https://visitfayettevillewv.com/event/knitting-and-crochet-circle/2026-06-09/
LOCATION:Fayetteville Public Library\, 200 W Maple Ave\, Fayetteville\, WV\, 25840\, United States
CATEGORIES:Activities,Arts and Crafts
ATTACH;FMTTYPE=image/png:https://visitfayettevillewv.com/wp-content/uploads/2024/01/Fayette-County-PL.png
GEO:38.041798;-81.117531
X-APPLE-STRUCTURED-LOCATION;VALUE=URI;X-ADDRESS=Fayetteville Public Library 200 W Maple Ave Fayetteville WV 25840 United States;X-APPLE-RADIUS=500;X-TITLE=200 W Maple Ave:geo:-81.117531,38.041798
END:VEVENT
BEGIN:VEVENT
DTSTART;TZID=America/New_York:20260609T183000
DTEND;TZID=America/New_York:20260609T193000
DTSTAMP:20260422T042132
CREATED:20250308T192514Z
LAST-MODIFIED:20260201T171852Z
UID:10010533-1781029800-1781033400@visitfayettevillewv.com
SUMMARY:New River Yoga - Slow and Controlled\, Foundation and Alignment. Level 2
DESCRIPTION:All bodies welcome.\n\nThis yoga class will teach you about Foundation and Alignment that you need to know in each of the yoga postures.  Candace keeps the class light and fun.  She will lead you through a series of poses that will make you feel lighter on your feet and brighter in your being.\n\n\nCandace Evans
URL:https://visitfayettevillewv.com/event/new-river-yoga-foundation-and-alignment-slow-and-controlled/2026-06-09/
LOCATION:New River Yoga Studio\, Fayetteville\, WV\, 25840\, United States
CATEGORIES:Activities,Health & Wellness
ATTACH;FMTTYPE=image/jpeg:https://visitfayettevillewv.com/wp-content/uploads/2024/06/New-River-Yoga.jpg
ORGANIZER;CN="New River Yoga":MAILTO:newriveryogaretreatwv@gmail.com
GEO:38.052391;-81.103196
END:VEVENT
END:VCALENDAR