BEGIN:VCALENDAR
VERSION:2.0
PRODID:-//Visit Fayetteville WV - ECPv6.15.20//NONSGML v1.0//EN
CALSCALE:GREGORIAN
METHOD:PUBLISH
X-ORIGINAL-URL:https://visitfayettevillewv.com
X-WR-CALDESC:Events for Visit Fayetteville WV
REFRESH-INTERVAL;VALUE=DURATION:PT1H
X-Robots-Tag:noindex
X-PUBLISHED-TTL:PT1H
BEGIN:VTIMEZONE
TZID:America/New_York
BEGIN:DAYLIGHT
TZOFFSETFROM:-0500
TZOFFSETTO:-0400
TZNAME:EDT
DTSTART:20250309T070000
END:DAYLIGHT
BEGIN:STANDARD
TZOFFSETFROM:-0400
TZOFFSETTO:-0500
TZNAME:EST
DTSTART:20251102T060000
END:STANDARD
BEGIN:DAYLIGHT
TZOFFSETFROM:-0500
TZOFFSETTO:-0400
TZNAME:EDT
DTSTART:20260308T070000
END:DAYLIGHT
BEGIN:STANDARD
TZOFFSETFROM:-0400
TZOFFSETTO:-0500
TZNAME:EST
DTSTART:20261101T060000
END:STANDARD
BEGIN:DAYLIGHT
TZOFFSETFROM:-0500
TZOFFSETTO:-0400
TZNAME:EDT
DTSTART:20270314T070000
END:DAYLIGHT
BEGIN:STANDARD
TZOFFSETFROM:-0400
TZOFFSETTO:-0500
TZNAME:EST
DTSTART:20271107T060000
END:STANDARD
END:VTIMEZONE
BEGIN:VEVENT
DTSTART;VALUE=DATE:20260703
DTEND;VALUE=DATE:20260705
DTSTAMP:20260422T041820
CREATED:20250913T154104Z
LAST-MODIFIED:20260420T195150Z
UID:10008461-1783036800-1783209599@visitfayettevillewv.com
SUMMARY:Fayetteville’s Heritage Festival & 4th of July Celebration
DESCRIPTION:Celebrate America’s 250th Birthday in America’s Coolest Small Town! \n \nThis year’s Fayetteville Heritage Festival and 4th of July Celebration is extra special as we join communities across the nation in celebrating America’s 250th anniversary. To mark this historic milestone\, Fayetteville is going bigger than ever with two days of patriotic fun\, community traditions\, and exciting new additions on July 3rd and 4th. \nEscape the hustle and bustle and experience the charm of small-town America during one of Fayetteville’s most beloved traditions. Our streets will come alive with festive decorations\, friendly faces\, and activities for the whole family. \nOne of the highlights of the celebration is our 4th of July Parade\, which promises to be bigger and more patriotic than ever. This year we’re raising the stakes with cash prizes for the best floats\, best decorated bikes\, and best decorated side-by-sides\, so start planning your entry and show off your red\, white\, and blue spirit! \nWe’re also excited to bring back a favorite piece of Americana with the Fayetteville Freedom 250 Soap Box Derby\, where racers will take to the hills in homemade gravity-powered cars for a fun and thrilling competition celebrating innovation\, creativity\, and a little friendly rivalry. \nThroughout the festival you’ll find live music\, inflatables\, local crafts\, great food\, and family-friendly games. Bring your furry friend to enter the Patriotic Pet Contest\, try your luck at the old-fashioned cake walk\, or cheer on competitors at the 3rd Annual Hot Dog Eating Contest. \nTake time to stroll through downtown Fayetteville\, where quaint shops\, local eateries\, and welcoming businesses create the perfect setting for a classic hometown celebration. As evening falls\, join us for live music and a lively street dance before the festivities conclude with a spectacular fireworks show lighting up the sky over Fayetteville Town Park. \nJoin us as we celebrate 250 years of American independence and the traditions that make small towns like Fayetteville such special places to gather. \nFayetteville Freedom 250 Soap Box Derby\n \nStart your engines (gravity powered\, of course)! We’re thrilled to bring back the Fayetteville Soapbox Derby as part of this year’s celebration of 250 years of America. The Fayetteville Freedom 250 Soapbox Derby invites racers of all ages to build their own gravity-powered cars and race down the hill in this classic\, family-friendly competition. \nParticipants will construct their own racers\, though a limited number of loaner cars may be available to rent for $10. \nFayetteville-freedom-250-rules pdf \nFreedom_250_Sponsorship_Flyer_ \nFreedom 250 Online Sponsorship Form  \nWho Can Race:• Ages 8–99 may race as drivers\, as long as they are able to steer and follow all race rules.• Drivers under 16 must have a Crew Chief who is an active member of their pit crew.• Children ages 3–7 may ride as passengers only in a double-seater car and must ride with a parent\, guardian\, or older sibling driver. \nSafety Requirements:• All car occupants must have their own seat belts and safety equipment and follow all soap box derby rules and requirements. • Waivers are required for all participants.• Drivers under 18 must have a parent or guardian sign their waiver before racing.• All race rules apply to drivers and pit crew in both competitive and open classes. \nRace Registration \nFayetteville’s 250th Celebration Heritage Festival & 4th of July Decorating Contest\nHelp us celebrate 250 years of America by showing off your patriotic spirit! As part of Fayetteville’s Heritage Festival and 4th of July Celebration\, the Town of Fayetteville is inviting residents and businesses to join our 250th Anniversary Decorating Contest. \nDeck out your home\, storefront\, porch\, yard\, or window in red\, white\, and blue and help turn Fayetteville into a patriotic celebration of America’s 250th birthday. From classic Americana to creative and festive displays\, we can’t wait to see the town shining with patriotic pride. \nPrizes:• Best Residential Display: $250• Best Business Display: $250 \nRegistration Deadline: June 30 \nRegister Here or pick at a form at the Fayetteville Town Hall. \nFriday\, July 3rd Festivities\n\nCelebrating 250 Years of Freedom 4th of July Parade- Downtown \nJoin us in downtown Fayetteville for our Celebrating 250 Years of Freedom 4th of July Parade as we honor America’s 250th anniversary with a patriotic community tradition! This year we’re going all out with festive floats\, decorated bikes\, and creative entries celebrating 250 years of American independence. \nThe parade lineup begins at 4:00 PM at Fayetteville PK-8 Elementary School off Maple Avenue on Friday July 3rd. The parade will travel down Maple Avenue toward the Fayette County Courthouse\, filling downtown with red\, white\, and blue spirit. \nSpectators are encouraged to line Maple Avenue in front of the Memorial Building and along the sidewalks downtown to the light by Fayette County National Bank for the best views of the parade. \nCash prizes will be awarded for:• Best Float• Best Decorated Bike• Best Decorated Side-by-Side \nBring your patriotic pride and help us celebrate 250 years of freedom in America’s coolest small town! \nParade Registration \n\nOld Fashioned Cake Walk & Youth Cookie Walk- Downtown\n \nStep back in time and join us for an Old-Fashioned Cake Walk & Youth Cookie Walk following the parade on Friday\, July 3rd in downtown Fayetteville! The fun takes place in front of Fayetteville Town Hall and the downtown stage. \nFor just $1 per ticket\, participants can join the walk. Contestants will circle around numbered stars on the ground while music plays—just like musical chairs! When the music stops\, a number will be called\, and the lucky winner standing on that number will take home a delicious homemade cake or cookies. \nBring the whole family and enjoy this classic small town tradition as part of Fayetteville’s Heritage Festival and 4th of July festivities! \nSaturday\, July 4th Festivities\n  \nPatriotic Pet Contest – Town Park \nDress your furry friend in their most festive red\, white\, and blue and join us for Fayetteville’s Patriotic Pet Contest during the 4th of July Celebration! Prizes will be awarded for the best patriotic pet. \nLocation: First Ballfield at Charlie McCoy Town ParkTime: July 4th at 3:30 PMNo registration required — just show up and join the fun! \nPlease plan to arrive early and allow extra time to reach the park\, as parking may be limited on the 4th of July. You may need to park a short distance away and walk to the park with your pet. \nBring your patriotic pup (or pet!) and celebrate Independence Day with a little star-spangled cuteness! \n \nFayetteville’s 4th of July Hot Dog Eating Contest- Town Park \n \nRegister \n 
URL:https://visitfayettevillewv.com/event/fayettevilles-heritage-festival-4th-of-july-celebration-2/
LOCATION:Fayetteville\, Fayetteville\, WV\, 25840\, United States
CATEGORIES:Activities,Arts and Crafts,Competition, Contest, etc.,Dining / Food,Events,Festival,Historical,Kids activity,Music,Shopping
ATTACH;FMTTYPE=image/jpeg:https://visitfayettevillewv.com/wp-content/uploads/2018/05/IMG_8718-1.jpg
ORGANIZER;CN="Town of Fayetteville":MAILTO:town@fayettevillewv.gov
GEO:37.755687;-81.153492
END:VEVENT
BEGIN:VEVENT
DTSTART;VALUE=DATE:20260703
DTEND;VALUE=DATE:20260705
DTSTAMP:20260422T041820
CREATED:20260321T184704Z
LAST-MODIFIED:20260321T184704Z
UID:10011084-1783036800-1783209599@visitfayettevillewv.com
SUMMARY:Fayetteville’s 250th Celebration Heritage Festival & 4th of July Decorating Contest
DESCRIPTION:Help us celebrate 250 years of America by showing off your patriotic spirit! As part of Fayetteville’s Heritage Festival and 4th of July Celebration\, the Town of Fayetteville is inviting residents and businesses to join our 250th Anniversary Decorating Contest. \nDeck out your home\, storefront\, porch\, yard\, or window in red\, white\, and blue and help turn Fayetteville into a patriotic celebration of America’s 250th birthday. From classic Americana to creative and festive displays\, we can’t wait to see the town shining with patriotic pride. \nPrizes:• Best Residential Display: $250• Best Business Display: $250 \nRegistration Deadline: June 30 \nRegister Here or pick at a form at the Fayetteville Town Hall.
URL:https://visitfayettevillewv.com/event/fayettevilles-250th-celebration-heritage-festival-4th-of-july-decorating-contest/
LOCATION:Fayetteville\, Fayetteville\, WV\, 25840\, United States
CATEGORIES:Activities,Competition, Contest, etc.,Events,Festival
ATTACH;FMTTYPE=image/jpeg:https://visitfayettevillewv.com/wp-content/uploads/2024/01/Memorial-Day-Parade.jpg
ORGANIZER;CN="Town of Fayetteville":MAILTO:town@fayettevillewv.gov
GEO:37.755687;-81.153492
END:VEVENT
BEGIN:VEVENT
DTSTART;TZID=America/New_York:20260704T080000
DTEND;TZID=America/New_York:20260704T123000
DTSTAMP:20260422T041820
CREATED:20251129T171622Z
LAST-MODIFIED:20251129T171622Z
UID:10009075-1783152000-1783168200@visitfayettevillewv.com
SUMMARY:Fayette County Farmer's Market
DESCRIPTION:We offer fresh produce grown in Fayette County\, West Virginia and the New River Gorge region to residents and visitors to our area. Visit our two market locations and browse a range of local vegetables\, meats\, baked goods and pastries. We’re also joined at the market by local artisans and craftspeople who create a variety of arts\, crafts and products created from
URL:https://visitfayettevillewv.com/event/fayette-county-farmers-market/2026-07-04/
LOCATION:Downtown Fayetteville\, Fayetteville\, WV\, 25840\, United States
CATEGORIES:Activities,Art,Dining / Food,Shopping
ATTACH;FMTTYPE=image/jpeg:https://visitfayettevillewv.com/wp-content/uploads/2025/11/Farmers-Market.jpg
ORGANIZER;CN="Fayette County Farmer's Market":MAILTO:fayettecofarmersmarket07@yahoo.com
GEO:38.05279;-81.103771
END:VEVENT
BEGIN:VEVENT
DTSTART;TZID=America/New_York:20260704T090000
DTEND;TZID=America/New_York:20260704T100000
DTSTAMP:20260422T041820
CREATED:20260202T163338Z
LAST-MODIFIED:20260202T163338Z
UID:10010756-1783155600-1783159200@visitfayettevillewv.com
SUMMARY:New River Yoga - Yoga on the Gorge
DESCRIPTION:Yoga on the pool deck at Adventures on the Gorge. \nThis class is at Adventures on the Gorge until the end of October.
URL:https://visitfayettevillewv.com/event/new-river-yoga-yoga-on-the-gorge/2026-07-04/
LOCATION:Adventures on the Gorge\, 401 Ames Heights Rd\, Lansing\, WV\, 25862\, United States
CATEGORIES:Activities,Health & Wellness
ATTACH;FMTTYPE=image/jpeg:https://visitfayettevillewv.com/wp-content/uploads/2026/02/Yoga-on-the-gorge.jpg
ORGANIZER;CN="New River Yoga":MAILTO:newriveryogaretreatwv@gmail.com
GEO:38.082661;-81.072936
X-APPLE-STRUCTURED-LOCATION;VALUE=URI;X-ADDRESS=Adventures on the Gorge 401 Ames Heights Rd Lansing WV 25862 United States;X-APPLE-RADIUS=500;X-TITLE=401 Ames Heights Rd:geo:-81.072936,38.082661
END:VEVENT
BEGIN:VEVENT
DTSTART;TZID=America/New_York:20260704T090000
DTEND;TZID=America/New_York:20260704T100000
DTSTAMP:20260422T041820
CREATED:20260321T173025Z
LAST-MODIFIED:20260321T173025Z
UID:10011041-1783155600-1783159200@visitfayettevillewv.com
SUMMARY:New River Yoga - River Soul Flow
DESCRIPTION:River Soul YogaRiver Soul Yoga is a grounding\, heart-centered practice designed to help you reconnect with your breath\, your body\, and your inner knowing. Like the river\, we move with strength and softness — flowing through intentional sequences that build warmth\, release tension\, and create space within.This class blends mindful energetic movement\, steady breathwork\, and moments of stillness at the end to leave you feeling balanced and renewed. Expect a supportive environment where you can show up exactly as you are — whether you’re building strength\, seeking clarity\, or simply carving out time for yourself.We’ll close each session with 10 minutes of immersive sound healing\, allowing the nervous system to soften and the body to fully absorb the practice. Crystal bowls and soothing tones will guide you into deep rest\, helping you leave feeling grounded\, open\, and restored.Come flow. Come breathe. Come back to your soul.Listen to the river sing sweet songs to rock my soul.
URL:https://visitfayettevillewv.com/event/new-river-yoga-river-soul-flow/2026-07-04/
LOCATION:New River Yoga Studio\, Fayetteville\, WV\, 25840\, United States
CATEGORIES:Activities,Health & Wellness
ATTACH;FMTTYPE=image/jpeg:https://visitfayettevillewv.com/wp-content/uploads/2024/06/New-River-Yoga.jpg
ORGANIZER;CN="New River Yoga":MAILTO:newriveryogaretreatwv@gmail.com
GEO:38.052391;-81.103196
END:VEVENT
BEGIN:VEVENT
DTSTART;TZID=America/New_York:20260704T090000
DTEND;TZID=America/New_York:20260704T110000
DTSTAMP:20260422T041820
CREATED:20260221T163657Z
LAST-MODIFIED:20260221T163657Z
UID:10010845-1783155600-1783162800@visitfayettevillewv.com
SUMMARY:Flag Day Tournament POY Points
DESCRIPTION:
URL:https://visitfayettevillewv.com/event/flag-day-tournament-poy-points/
LOCATION:Bridge Haven Golf Club\, 295 Browns Rd\, Fayetteville\, WV\, 25840\, United States
CATEGORIES:Activities,Competition, Contest, etc.,Golf
ATTACH;FMTTYPE=image/jpeg:https://visitfayettevillewv.com/wp-content/uploads/2025/03/Bridge-Haven-Golf-Club.jpeg
ORGANIZER;CN="Bridge Haven Golf Club on the Gorge":MAILTO:jasonbridgehaven@gmail.com
END:VEVENT
BEGIN:VEVENT
DTSTART;TZID=America/New_York:20260704T090000
DTEND;TZID=America/New_York:20260704T130000
DTSTAMP:20260422T041820
CREATED:20260103T170816Z
LAST-MODIFIED:20260103T170816Z
UID:10010022-1783155600-1783170000@visitfayettevillewv.com
SUMMARY:Fayetteville Family Fun
DESCRIPTION:Coloring\, puzzles\, games\, legos
URL:https://visitfayettevillewv.com/event/fayetteville-family-fun-2/2026-07-04/
LOCATION:Fayetteville Public Library\, 200 W Maple Ave\, Fayetteville\, WV\, 25840\, United States
CATEGORIES:Activities,Kids activity
ATTACH;FMTTYPE=image/png:https://visitfayettevillewv.com/wp-content/uploads/2024/01/Fayette-County-PL.png
GEO:38.041798;-81.117531
X-APPLE-STRUCTURED-LOCATION;VALUE=URI;X-ADDRESS=Fayetteville Public Library 200 W Maple Ave Fayetteville WV 25840 United States;X-APPLE-RADIUS=500;X-TITLE=200 W Maple Ave:geo:-81.117531,38.041798
END:VEVENT
BEGIN:VEVENT
DTSTART;TZID=America/New_York:20260704T110000
DTEND;TZID=America/New_York:20260704T210000
DTSTAMP:20260422T041820
CREATED:20260321T180740Z
LAST-MODIFIED:20260321T180740Z
UID:10011073-1783162800-1783198800@visitfayettevillewv.com
SUMMARY:Heritage Festival's Town Park Vendors
DESCRIPTION:
URL:https://visitfayettevillewv.com/event/heritage-festivals-town-park-vendors/
LOCATION:Fayetteville Town Park\, Park Dr\, Fayetteville\, WV\, 25840\, United States
CATEGORIES:Activities,Events,Festival,Shopping
ATTACH;FMTTYPE=image/jpeg:https://visitfayettevillewv.com/wp-content/uploads/2024/05/Fayetteville-Town-Park.jpg
ORGANIZER;CN="Town of Fayetteville":MAILTO:town@fayettevillewv.gov
GEO:38.05507;-81.09871
X-APPLE-STRUCTURED-LOCATION;VALUE=URI;X-ADDRESS=Fayetteville Town Park Park Dr Fayetteville WV 25840 United States;X-APPLE-RADIUS=500;X-TITLE=Park Dr:geo:-81.09871,38.05507
END:VEVENT
BEGIN:VEVENT
DTSTART;TZID=America/New_York:20260704T110000
DTEND;TZID=America/New_York:20260704T210000
DTSTAMP:20260422T041820
CREATED:20260321T181000Z
LAST-MODIFIED:20260321T181000Z
UID:10011074-1783162800-1783198800@visitfayettevillewv.com
SUMMARY:Inflatables in the Baseball Field at Town Park
DESCRIPTION:$5 Day Pass
URL:https://visitfayettevillewv.com/event/inflatables-in-the-baseball-field-at-town-park/
LOCATION:Fayetteville Town Park\, Park Dr\, Fayetteville\, WV\, 25840\, United States
CATEGORIES:Activities,Events,Festival,Kids activity
ATTACH;FMTTYPE=image/jpeg:https://visitfayettevillewv.com/wp-content/uploads/2025/05/inflatables-1-1024x872-1.jpg
ORGANIZER;CN="Town of Fayetteville":MAILTO:town@fayettevillewv.gov
GEO:38.05507;-81.09871
X-APPLE-STRUCTURED-LOCATION;VALUE=URI;X-ADDRESS=Fayetteville Town Park Park Dr Fayetteville WV 25840 United States;X-APPLE-RADIUS=500;X-TITLE=Park Dr:geo:-81.09871,38.05507
END:VEVENT
BEGIN:VEVENT
DTSTART;TZID=America/New_York:20260704T140000
DTEND;TZID=America/New_York:20260704T143000
DTSTAMP:20260422T041820
CREATED:20260321T181350Z
LAST-MODIFIED:20260321T181350Z
UID:10011075-1783173600-1783175400@visitfayettevillewv.com
SUMMARY:Hula Hoop Contest
DESCRIPTION:
URL:https://visitfayettevillewv.com/event/hula-hoop-contest/
LOCATION:Fayetteville Town Park\, Park Dr\, Fayetteville\, WV\, 25840\, United States
CATEGORIES:Activities,Competition, Contest, etc.,Events,Festival
ATTACH;FMTTYPE=image/jpeg:https://visitfayettevillewv.com/wp-content/uploads/2026/03/Hula-hoop.jpg
ORGANIZER;CN="Town of Fayetteville WV":MAILTO:town@fayettevillewv.gov
GEO:38.05507;-81.09871
X-APPLE-STRUCTURED-LOCATION;VALUE=URI;X-ADDRESS=Fayetteville Town Park Park Dr Fayetteville WV 25840 United States;X-APPLE-RADIUS=500;X-TITLE=Park Dr:geo:-81.09871,38.05507
END:VEVENT
BEGIN:VEVENT
DTSTART;TZID=America/New_York:20260704T143000
DTEND;TZID=America/New_York:20260704T150000
DTSTAMP:20260422T041820
CREATED:20260321T181932Z
LAST-MODIFIED:20260321T181932Z
UID:10011076-1783175400-1783177200@visitfayettevillewv.com
SUMMARY:Sack Race at Town Park
DESCRIPTION:
URL:https://visitfayettevillewv.com/event/sack-race-at-town-park/
LOCATION:Fayetteville Town Park\, Park Dr\, Fayetteville\, WV\, 25840\, United States
CATEGORIES:Activities,Competition, Contest, etc.,Events,Festival,Kids activity
ATTACH;FMTTYPE=image/jpeg:https://visitfayettevillewv.com/wp-content/uploads/2025/05/Sack-Race.jpg
ORGANIZER;CN="Town of Fayetteville WV":MAILTO:town@fayettevillewv.gov
GEO:38.05507;-81.09871
X-APPLE-STRUCTURED-LOCATION;VALUE=URI;X-ADDRESS=Fayetteville Town Park Park Dr Fayetteville WV 25840 United States;X-APPLE-RADIUS=500;X-TITLE=Park Dr:geo:-81.09871,38.05507
END:VEVENT
BEGIN:VEVENT
DTSTART;TZID=America/New_York:20260704T150000
DTEND;TZID=America/New_York:20260704T153000
DTSTAMP:20260422T041820
CREATED:20260321T182203Z
LAST-MODIFIED:20260321T184432Z
UID:10011077-1783177200-1783179000@visitfayettevillewv.com
SUMMARY:Hot Dog Eating Contest Sponsored by Tudor's Biscuit World
DESCRIPTION:Register
URL:https://visitfayettevillewv.com/event/hot-dog-eating-contest-sponsored-by-tudors-biscuit-world/
LOCATION:Fayetteville Town Park\, Park Dr\, Fayetteville\, WV\, 25840\, United States
CATEGORIES:Activities,Competition, Contest, etc.,Dining / Food,Events,Festival
ATTACH;FMTTYPE=image/png:https://visitfayettevillewv.com/wp-content/uploads/2025/09/hOT-DOG-EATING-CONTEST-FLYER-2026-scaled.png
ORGANIZER;CN="Town of Fayetteville":MAILTO:town@fayettevillewv.gov
GEO:38.05507;-81.09871
X-APPLE-STRUCTURED-LOCATION;VALUE=URI;X-ADDRESS=Fayetteville Town Park Park Dr Fayetteville WV 25840 United States;X-APPLE-RADIUS=500;X-TITLE=Park Dr:geo:-81.09871,38.05507
END:VEVENT
BEGIN:VEVENT
DTSTART;TZID=America/New_York:20260704T153000
DTEND;TZID=America/New_York:20260704T160000
DTSTAMP:20260422T041820
CREATED:20260321T182413Z
LAST-MODIFIED:20260321T182413Z
UID:10011078-1783179000-1783180800@visitfayettevillewv.com
SUMMARY:Patriotic Pet Contest
DESCRIPTION:Dress your furry friend in their most festive red\, white\, and blue and join us for Fayetteville’s Patriotic Pet Contest during the 4th of July Celebration! Prizes will be awarded for the best patriotic pet. \nLocation: First Ballfield at Charlie McCoy Town ParkTime: July 4th at 3:30 PMNo registration required — just show up and join the fun! \nPlease plan to arrive early and allow extra time to reach the park\, as parking may be limited on the 4th of July. You may need to park a short distance away and walk to the park with your pet. \nBring your patriotic pup (or pet!) and celebrate Independence Day with a little star-spangled cuteness!
URL:https://visitfayettevillewv.com/event/patriotic-pet-contest/
LOCATION:Fayetteville Town Park\, Park Dr\, Fayetteville\, WV\, 25840\, United States
CATEGORIES:Activities,Competition, Contest, etc.,Events,Festival,Kids activity
ATTACH;FMTTYPE=image/png:https://visitfayettevillewv.com/wp-content/uploads/2025/09/Patriotic-Pet-Contest-4th-of-July-Fayetteville-scaled.png
ORGANIZER;CN="Town of Fayetteville":MAILTO:town@fayettevillewv.gov
GEO:38.05507;-81.09871
X-APPLE-STRUCTURED-LOCATION;VALUE=URI;X-ADDRESS=Fayetteville Town Park Park Dr Fayetteville WV 25840 United States;X-APPLE-RADIUS=500;X-TITLE=Park Dr:geo:-81.09871,38.05507
END:VEVENT
BEGIN:VEVENT
DTSTART;TZID=America/New_York:20260704T160000
DTEND;TZID=America/New_York:20260704T163000
DTSTAMP:20260422T041820
CREATED:20260321T182834Z
LAST-MODIFIED:20260321T182834Z
UID:10011079-1783180800-1783182600@visitfayettevillewv.com
SUMMARY:Balloon Toss at Town Park
DESCRIPTION:
URL:https://visitfayettevillewv.com/event/balloon-toss-at-town-park/
LOCATION:Fayetteville Town Park\, Park Dr\, Fayetteville\, WV\, 25840\, United States
CATEGORIES:Activities,Competition, Contest, etc.,Events,Festival,Kids activity
ATTACH;FMTTYPE=image/jpeg:https://visitfayettevillewv.com/wp-content/uploads/2026/03/water-balloon.jpg
ORGANIZER;CN="Town of Fayetteville":MAILTO:town@fayettevillewv.gov
GEO:38.05507;-81.09871
X-APPLE-STRUCTURED-LOCATION;VALUE=URI;X-ADDRESS=Fayetteville Town Park Park Dr Fayetteville WV 25840 United States;X-APPLE-RADIUS=500;X-TITLE=Park Dr:geo:-81.09871,38.05507
END:VEVENT
BEGIN:VEVENT
DTSTART;TZID=America/New_York:20260704T160000
DTEND;TZID=America/New_York:20260704T210000
DTSTAMP:20260422T041820
CREATED:20260321T183241Z
LAST-MODIFIED:20260321T183241Z
UID:10011080-1783180800-1783198800@visitfayettevillewv.com
SUMMARY:Mechanical Bull at Town Park
DESCRIPTION:
URL:https://visitfayettevillewv.com/event/mechanical-bull-at-town-park/
LOCATION:Fayetteville Town Park\, Park Dr\, Fayetteville\, WV\, 25840\, United States
CATEGORIES:Activities,Events,Festival
ATTACH;FMTTYPE=image/jpeg:https://visitfayettevillewv.com/wp-content/uploads/2026/03/Mechanical-bull.jpg
ORGANIZER;CN="Town of Fayetteville":MAILTO:town@fayettevillewv.gov
GEO:38.05507;-81.09871
X-APPLE-STRUCTURED-LOCATION;VALUE=URI;X-ADDRESS=Fayetteville Town Park Park Dr Fayetteville WV 25840 United States;X-APPLE-RADIUS=500;X-TITLE=Park Dr:geo:-81.09871,38.05507
END:VEVENT
BEGIN:VEVENT
DTSTART;TZID=America/New_York:20260704T180000
DTEND;TZID=America/New_York:20260704T200000
DTSTAMP:20260422T041820
CREATED:20260321T183347Z
LAST-MODIFIED:20260321T183347Z
UID:10011081-1783188000-1783195200@visitfayettevillewv.com
SUMMARY:Facepainting
DESCRIPTION:
URL:https://visitfayettevillewv.com/event/facepainting-2/
LOCATION:Fayetteville Town Park\, Park Dr\, Fayetteville\, WV\, 25840\, United States
CATEGORIES:Activities,Events,Festival,Kids activity
ATTACH;FMTTYPE=image/jpeg:https://visitfayettevillewv.com/wp-content/uploads/2025/06/Paint.jpg
ORGANIZER;CN="Town of Fayetteville":MAILTO:town@fayettevillewv.gov
GEO:38.05507;-81.09871
X-APPLE-STRUCTURED-LOCATION;VALUE=URI;X-ADDRESS=Fayetteville Town Park Park Dr Fayetteville WV 25840 United States;X-APPLE-RADIUS=500;X-TITLE=Park Dr:geo:-81.09871,38.05507
END:VEVENT
BEGIN:VEVENT
DTSTART;TZID=America/New_York:20260704T180000
DTEND;TZID=America/New_York:20260704T210000
DTSTAMP:20260422T041820
CREATED:20260321T183937Z
LAST-MODIFIED:20260321T183937Z
UID:10011082-1783188000-1783198800@visitfayettevillewv.com
SUMMARY:Black Light Satellite Band at Town Park
DESCRIPTION:
URL:https://visitfayettevillewv.com/event/black-light-satellite-band-at-town-park/
LOCATION:Fayetteville Town Park\, Park Dr\, Fayetteville\, WV\, 25840\, United States
CATEGORIES:Activities,Events,Festival,Music
ATTACH;FMTTYPE=image/jpeg:https://visitfayettevillewv.com/wp-content/uploads/2026/03/Music.jpg
ORGANIZER;CN="Town of Fayetteville":MAILTO:town@fayettevillewv.gov
GEO:38.05507;-81.09871
X-APPLE-STRUCTURED-LOCATION;VALUE=URI;X-ADDRESS=Fayetteville Town Park Park Dr Fayetteville WV 25840 United States;X-APPLE-RADIUS=500;X-TITLE=Park Dr:geo:-81.09871,38.05507
END:VEVENT
BEGIN:VEVENT
DTSTART;TZID=America/New_York:20260704T190000
DTEND;TZID=America/New_York:20260704T220000
DTSTAMP:20260422T041820
CREATED:20251213T164313Z
LAST-MODIFIED:20251213T164313Z
UID:10009468-1783191600-1783202400@visitfayettevillewv.com
SUMMARY:Tom Batchelor Band @ The Lost Paddle
DESCRIPTION:Kick off your 4th of July weekend with an evening of rockin’ grooves and reggae vibes as the Tom Batchelor Band hits The Lost Paddle deck! Hailing from Morgantown\, WV\, this powerhouse group blends rock\, reggae\, and jam-inspired rhythms into a sound that’s guaranteed to get your holiday weekend moving. \nBring your friends\, grab a cold drink\, and enjoy a FREE outdoor show overlooking the lake. It’s the perfect way to celebrate summer at ACE Adventure Resort. \n📅 Saturday\, 4th of July Weekend\n📍 The Lost Paddle Deck\n⏰ 7:00–10:00 PM\n💥 Free Show! \nCome early for dinner\, stay late for the music — and make your holiday weekend unforgettable!
URL:https://visitfayettevillewv.com/event/tom-batchelor-band-the-lost-paddle/
LOCATION:The Lost Paddle\, 2 Concho Rd\, Oak Hill\, WV\, 25901\, United States
CATEGORIES:Activities,Beer, wine, cocktails, etc.,Dining / Food,Music
ATTACH;FMTTYPE=image/jpeg:https://visitfayettevillewv.com/wp-content/uploads/2025/12/tom-batchelor-Band-live-opt.jpeg
ORGANIZER;CN="ACE Adventure Resort":MAILTO:ace@aceraft.com
END:VEVENT
BEGIN:VEVENT
DTSTART;TZID=America/New_York:20260704T210000
DTEND;TZID=America/New_York:20260704T220000
DTSTAMP:20260422T041820
CREATED:20260321T184201Z
LAST-MODIFIED:20260321T184201Z
UID:10011083-1783198800-1783202400@visitfayettevillewv.com
SUMMARY:4th of July Fireworks in Fayetteville Town Park
DESCRIPTION:Begin at dusk
URL:https://visitfayettevillewv.com/event/4th-of-july-fireworks-in-fayetteville-town-park/
LOCATION:Fayetteville Town Park\, Park Dr\, Fayetteville\, WV\, 25840\, United States
CATEGORIES:Activities,Events,Festival,Kids activity
ATTACH;FMTTYPE=image/webp:https://visitfayettevillewv.com/wp-content/uploads/2023/04/fireworks.webp
ORGANIZER;CN="Town of Fayetteville":MAILTO:town@fayettevillewv.gov
GEO:38.05507;-81.09871
X-APPLE-STRUCTURED-LOCATION;VALUE=URI;X-ADDRESS=Fayetteville Town Park Park Dr Fayetteville WV 25840 United States;X-APPLE-RADIUS=500;X-TITLE=Park Dr:geo:-81.09871,38.05507
END:VEVENT
END:VCALENDAR