BEGIN:VCALENDAR
VERSION:2.0
PRODID:-//Visit Fayetteville WV - ECPv6.15.20//NONSGML v1.0//EN
CALSCALE:GREGORIAN
METHOD:PUBLISH
X-ORIGINAL-URL:https://visitfayettevillewv.com
X-WR-CALDESC:Events for Visit Fayetteville WV
REFRESH-INTERVAL;VALUE=DURATION:PT1H
X-Robots-Tag:noindex
X-PUBLISHED-TTL:PT1H
BEGIN:VTIMEZONE
TZID:America/New_York
BEGIN:DAYLIGHT
TZOFFSETFROM:-0500
TZOFFSETTO:-0400
TZNAME:EDT
DTSTART:20250309T070000
END:DAYLIGHT
BEGIN:STANDARD
TZOFFSETFROM:-0400
TZOFFSETTO:-0500
TZNAME:EST
DTSTART:20251102T060000
END:STANDARD
BEGIN:DAYLIGHT
TZOFFSETFROM:-0500
TZOFFSETTO:-0400
TZNAME:EDT
DTSTART:20260308T070000
END:DAYLIGHT
BEGIN:STANDARD
TZOFFSETFROM:-0400
TZOFFSETTO:-0500
TZNAME:EST
DTSTART:20261101T060000
END:STANDARD
BEGIN:DAYLIGHT
TZOFFSETFROM:-0500
TZOFFSETTO:-0400
TZNAME:EDT
DTSTART:20270314T070000
END:DAYLIGHT
BEGIN:STANDARD
TZOFFSETFROM:-0400
TZOFFSETTO:-0500
TZNAME:EST
DTSTART:20271107T060000
END:STANDARD
END:VTIMEZONE
BEGIN:VEVENT
DTSTART;TZID=America/New_York:20260712T090000
DTEND;TZID=America/New_York:20260712T100000
DTSTAMP:20260424T101547
CREATED:20251101T175319Z
LAST-MODIFIED:20260201T200036Z
UID:10010675-1783846800-1783850400@visitfayettevillewv.com
SUMMARY:New River Yoga - Flex & Flow
DESCRIPTION:Flex and FlowHips\, Core & Pelvic Floor YogaThis class is designed to build strength\, stability\, and awareness in the areas that support your entire body — the hips\, core\, and pelvic floor. Through mindful movement\, breathwork\, and targeted poses\, we’ll release tension in the hips\, gently activate and strengthen the core\, and connect with the pelvic floor to improve balance\, posture\, and overall wellbeing.Perfect for anyone wanting to ease low back pain\, build a strong foundation\, or simply feel more grounded and connected. All levels welcome — modifications and challenges will be offered so you can practice at your own pace.
URL:https://visitfayettevillewv.com/event/new-river-yoga-flex-flow/2026-07-12/
LOCATION:New River Yoga Studio\, Fayetteville\, WV\, 25840\, United States
CATEGORIES:Activities,Health & Wellness
ATTACH;FMTTYPE=image/jpeg:https://visitfayettevillewv.com/wp-content/uploads/2024/06/New-River-Yoga.jpg
ORGANIZER;CN="New River Yoga":MAILTO:newriveryogaretreatwv@gmail.com
GEO:38.052391;-81.103196
END:VEVENT
BEGIN:VEVENT
DTSTART;TZID=America/New_York:20260712T090000
DTEND;TZID=America/New_York:20260712T100000
DTSTAMP:20260424T101547
CREATED:20260202T163338Z
LAST-MODIFIED:20260202T163338Z
UID:10010759-1783846800-1783850400@visitfayettevillewv.com
SUMMARY:New River Yoga - Yoga on the Gorge
DESCRIPTION:Yoga on the pool deck at Adventures on the Gorge. \nThis class is at Adventures on the Gorge until the end of October.
URL:https://visitfayettevillewv.com/event/new-river-yoga-yoga-on-the-gorge/2026-07-12/
LOCATION:Adventures on the Gorge\, 401 Ames Heights Rd\, Lansing\, WV\, 25862\, United States
CATEGORIES:Activities,Health & Wellness
ATTACH;FMTTYPE=image/jpeg:https://visitfayettevillewv.com/wp-content/uploads/2026/02/Yoga-on-the-gorge.jpg
ORGANIZER;CN="New River Yoga":MAILTO:newriveryogaretreatwv@gmail.com
GEO:38.082661;-81.072936
X-APPLE-STRUCTURED-LOCATION;VALUE=URI;X-ADDRESS=Adventures on the Gorge 401 Ames Heights Rd Lansing WV 25862 United States;X-APPLE-RADIUS=500;X-TITLE=401 Ames Heights Rd:geo:-81.072936,38.082661
END:VEVENT
BEGIN:VEVENT
DTSTART;TZID=America/New_York:20260712T140000
DTEND;TZID=America/New_York:20260712T160000
DTSTAMP:20260424T101547
CREATED:20260328T190357Z
LAST-MODIFIED:20260328T190357Z
UID:10011107-1783864800-1783872000@visitfayettevillewv.com
SUMMARY:Speaker series to celebrate the 100th Anniversary of the historical society on Fayette County WV
DESCRIPTION:Speaker series to celebrate the 100th Anniversary of the historical society on Fayette County WV. These are sponsored by the Fayette County Historical Society.\n\n\nLes Thomas President and Historian Lewis Cook announced the following speaker presentations to celebrate our county and the history of its development. These are all free events and everyone is welcome!\n\n\nJuly 12\, 2026\, at 2PM in Mount Hope\, location TBD\,  Charles Howard will speak on the coal industry and history on the New River Coal Company.
URL:https://visitfayettevillewv.com/event/speaker-series-to-celebrate-the-100th-anniversary-of-the-historical-society-on-fayette-county-wv-3/
LOCATION:Mount Hope\, Mount Hope\, 25880\, United States
CATEGORIES:Activities,Educational,Historical
ATTACH;FMTTYPE=image/jpeg:https://visitfayettevillewv.com/wp-content/uploads/2026/03/America-Celebrates-250.jpg
ORGANIZER;CN="Fayette County Historical Society":MAILTO:rnlthomas@frontier.com
END:VEVENT
END:VCALENDAR