BEGIN:VCALENDAR
VERSION:2.0
PRODID:-//Visit Fayetteville WV - ECPv6.15.20//NONSGML v1.0//EN
CALSCALE:GREGORIAN
METHOD:PUBLISH
X-WR-CALNAME:Visit Fayetteville WV
X-ORIGINAL-URL:https://visitfayettevillewv.com
X-WR-CALDESC:Events for Visit Fayetteville WV
REFRESH-INTERVAL;VALUE=DURATION:PT1H
X-Robots-Tag:noindex
X-PUBLISHED-TTL:PT1H
BEGIN:VTIMEZONE
TZID:America/New_York
BEGIN:DAYLIGHT
TZOFFSETFROM:-0500
TZOFFSETTO:-0400
TZNAME:EDT
DTSTART:20250309T070000
END:DAYLIGHT
BEGIN:STANDARD
TZOFFSETFROM:-0400
TZOFFSETTO:-0500
TZNAME:EST
DTSTART:20251102T060000
END:STANDARD
BEGIN:DAYLIGHT
TZOFFSETFROM:-0500
TZOFFSETTO:-0400
TZNAME:EDT
DTSTART:20260308T070000
END:DAYLIGHT
BEGIN:STANDARD
TZOFFSETFROM:-0400
TZOFFSETTO:-0500
TZNAME:EST
DTSTART:20261101T060000
END:STANDARD
BEGIN:DAYLIGHT
TZOFFSETFROM:-0500
TZOFFSETTO:-0400
TZNAME:EDT
DTSTART:20270314T070000
END:DAYLIGHT
BEGIN:STANDARD
TZOFFSETFROM:-0400
TZOFFSETTO:-0500
TZNAME:EST
DTSTART:20271107T060000
END:STANDARD
END:VTIMEZONE
BEGIN:VEVENT
DTSTART;TZID=America/New_York:20260706T173000
DTEND;TZID=America/New_York:20260706T183000
DTSTAMP:20260421T212955
CREATED:20250104T204552Z
LAST-MODIFIED:20260103T171456Z
UID:10010054-1783359000-1783362600@visitfayettevillewv.com
SUMMARY:Crafting Mondays
DESCRIPTION:
URL:https://visitfayettevillewv.com/event/crafting-mondays/2026-07-06/
LOCATION:Fayetteville Public Library\, 200 W Maple Ave\, Fayetteville\, WV\, 25840\, United States
CATEGORIES:Activities,Arts and Crafts
ATTACH;FMTTYPE=image/png:https://visitfayettevillewv.com/wp-content/uploads/2024/01/Fayette-County-PL.png
GEO:38.041798;-81.117531
X-APPLE-STRUCTURED-LOCATION;VALUE=URI;X-ADDRESS=Fayetteville Public Library 200 W Maple Ave Fayetteville WV 25840 United States;X-APPLE-RADIUS=500;X-TITLE=200 W Maple Ave:geo:-81.117531,38.041798
END:VEVENT
BEGIN:VEVENT
DTSTART;TZID=America/New_York:20260707T130000
DTEND;TZID=America/New_York:20260707T140000
DTSTAMP:20260421T212955
CREATED:20251101T165005Z
LAST-MODIFIED:20260103T172005Z
UID:10010091-1783429200-1783432800@visitfayettevillewv.com
SUMMARY:Knitting and Crochet Circle
DESCRIPTION:
URL:https://visitfayettevillewv.com/event/knitting-and-crochet-circle/2026-07-07/
LOCATION:Fayetteville Public Library\, 200 W Maple Ave\, Fayetteville\, WV\, 25840\, United States
CATEGORIES:Activities,Arts and Crafts
ATTACH;FMTTYPE=image/png:https://visitfayettevillewv.com/wp-content/uploads/2024/01/Fayette-County-PL.png
GEO:38.041798;-81.117531
X-APPLE-STRUCTURED-LOCATION;VALUE=URI;X-ADDRESS=Fayetteville Public Library 200 W Maple Ave Fayetteville WV 25840 United States;X-APPLE-RADIUS=500;X-TITLE=200 W Maple Ave:geo:-81.117531,38.041798
END:VEVENT
BEGIN:VEVENT
DTSTART;TZID=America/New_York:20260708T160000
DTEND;TZID=America/New_York:20260708T170000
DTSTAMP:20260421T212955
CREATED:20251004T162856Z
LAST-MODIFIED:20260103T172657Z
UID:10010149-1783526400-1783530000@visitfayettevillewv.com
SUMMARY:Artists Way (exercise your creativity)
DESCRIPTION:
URL:https://visitfayettevillewv.com/event/artists-way-exercise-your-creativity/2026-07-08/
LOCATION:Fayetteville Public Library\, 200 W Maple Ave\, Fayetteville\, WV\, 25840\, United States
CATEGORIES:Activities,Arts and Crafts
ATTACH;FMTTYPE=image/png:https://visitfayettevillewv.com/wp-content/uploads/2024/01/Fayette-County-PL.png
GEO:38.041798;-81.117531
X-APPLE-STRUCTURED-LOCATION;VALUE=URI;X-ADDRESS=Fayetteville Public Library 200 W Maple Ave Fayetteville WV 25840 United States;X-APPLE-RADIUS=500;X-TITLE=200 W Maple Ave:geo:-81.117531,38.041798
END:VEVENT
BEGIN:VEVENT
DTSTART;TZID=America/New_York:20260714T130000
DTEND;TZID=America/New_York:20260714T140000
DTSTAMP:20260421T212955
CREATED:20251101T165005Z
LAST-MODIFIED:20260103T172005Z
UID:10010092-1784034000-1784037600@visitfayettevillewv.com
SUMMARY:Knitting and Crochet Circle
DESCRIPTION:
URL:https://visitfayettevillewv.com/event/knitting-and-crochet-circle/2026-07-14/
LOCATION:Fayetteville Public Library\, 200 W Maple Ave\, Fayetteville\, WV\, 25840\, United States
CATEGORIES:Activities,Arts and Crafts
ATTACH;FMTTYPE=image/png:https://visitfayettevillewv.com/wp-content/uploads/2024/01/Fayette-County-PL.png
GEO:38.041798;-81.117531
X-APPLE-STRUCTURED-LOCATION;VALUE=URI;X-ADDRESS=Fayetteville Public Library 200 W Maple Ave Fayetteville WV 25840 United States;X-APPLE-RADIUS=500;X-TITLE=200 W Maple Ave:geo:-81.117531,38.041798
END:VEVENT
BEGIN:VEVENT
DTSTART;TZID=America/New_York:20260715T160000
DTEND;TZID=America/New_York:20260715T170000
DTSTAMP:20260421T212955
CREATED:20251004T162856Z
LAST-MODIFIED:20260103T172657Z
UID:10010150-1784131200-1784134800@visitfayettevillewv.com
SUMMARY:Artists Way (exercise your creativity)
DESCRIPTION:
URL:https://visitfayettevillewv.com/event/artists-way-exercise-your-creativity/2026-07-15/
LOCATION:Fayetteville Public Library\, 200 W Maple Ave\, Fayetteville\, WV\, 25840\, United States
CATEGORIES:Activities,Arts and Crafts
ATTACH;FMTTYPE=image/png:https://visitfayettevillewv.com/wp-content/uploads/2024/01/Fayette-County-PL.png
GEO:38.041798;-81.117531
X-APPLE-STRUCTURED-LOCATION;VALUE=URI;X-ADDRESS=Fayetteville Public Library 200 W Maple Ave Fayetteville WV 25840 United States;X-APPLE-RADIUS=500;X-TITLE=200 W Maple Ave:geo:-81.117531,38.041798
END:VEVENT
BEGIN:VEVENT
DTSTART;TZID=America/New_York:20260721T130000
DTEND;TZID=America/New_York:20260721T140000
DTSTAMP:20260421T212955
CREATED:20251101T165005Z
LAST-MODIFIED:20260103T172005Z
UID:10010093-1784638800-1784642400@visitfayettevillewv.com
SUMMARY:Knitting and Crochet Circle
DESCRIPTION:
URL:https://visitfayettevillewv.com/event/knitting-and-crochet-circle/2026-07-21/
LOCATION:Fayetteville Public Library\, 200 W Maple Ave\, Fayetteville\, WV\, 25840\, United States
CATEGORIES:Activities,Arts and Crafts
ATTACH;FMTTYPE=image/png:https://visitfayettevillewv.com/wp-content/uploads/2024/01/Fayette-County-PL.png
GEO:38.041798;-81.117531
X-APPLE-STRUCTURED-LOCATION;VALUE=URI;X-ADDRESS=Fayetteville Public Library 200 W Maple Ave Fayetteville WV 25840 United States;X-APPLE-RADIUS=500;X-TITLE=200 W Maple Ave:geo:-81.117531,38.041798
END:VEVENT
BEGIN:VEVENT
DTSTART;TZID=America/New_York:20260722T160000
DTEND;TZID=America/New_York:20260722T170000
DTSTAMP:20260421T212955
CREATED:20251004T162856Z
LAST-MODIFIED:20260103T172657Z
UID:10010151-1784736000-1784739600@visitfayettevillewv.com
SUMMARY:Artists Way (exercise your creativity)
DESCRIPTION:
URL:https://visitfayettevillewv.com/event/artists-way-exercise-your-creativity/2026-07-22/
LOCATION:Fayetteville Public Library\, 200 W Maple Ave\, Fayetteville\, WV\, 25840\, United States
CATEGORIES:Activities,Arts and Crafts
ATTACH;FMTTYPE=image/png:https://visitfayettevillewv.com/wp-content/uploads/2024/01/Fayette-County-PL.png
GEO:38.041798;-81.117531
X-APPLE-STRUCTURED-LOCATION;VALUE=URI;X-ADDRESS=Fayetteville Public Library 200 W Maple Ave Fayetteville WV 25840 United States;X-APPLE-RADIUS=500;X-TITLE=200 W Maple Ave:geo:-81.117531,38.041798
END:VEVENT
BEGIN:VEVENT
DTSTART;TZID=America/New_York:20260728T130000
DTEND;TZID=America/New_York:20260728T140000
DTSTAMP:20260421T212955
CREATED:20251101T165005Z
LAST-MODIFIED:20260103T172005Z
UID:10010094-1785243600-1785247200@visitfayettevillewv.com
SUMMARY:Knitting and Crochet Circle
DESCRIPTION:
URL:https://visitfayettevillewv.com/event/knitting-and-crochet-circle/2026-07-28/
LOCATION:Fayetteville Public Library\, 200 W Maple Ave\, Fayetteville\, WV\, 25840\, United States
CATEGORIES:Activities,Arts and Crafts
ATTACH;FMTTYPE=image/png:https://visitfayettevillewv.com/wp-content/uploads/2024/01/Fayette-County-PL.png
GEO:38.041798;-81.117531
X-APPLE-STRUCTURED-LOCATION;VALUE=URI;X-ADDRESS=Fayetteville Public Library 200 W Maple Ave Fayetteville WV 25840 United States;X-APPLE-RADIUS=500;X-TITLE=200 W Maple Ave:geo:-81.117531,38.041798
END:VEVENT
BEGIN:VEVENT
DTSTART;TZID=America/New_York:20260729T160000
DTEND;TZID=America/New_York:20260729T170000
DTSTAMP:20260421T212955
CREATED:20251004T162856Z
LAST-MODIFIED:20260103T172657Z
UID:10010152-1785340800-1785344400@visitfayettevillewv.com
SUMMARY:Artists Way (exercise your creativity)
DESCRIPTION:
URL:https://visitfayettevillewv.com/event/artists-way-exercise-your-creativity/2026-07-29/
LOCATION:Fayetteville Public Library\, 200 W Maple Ave\, Fayetteville\, WV\, 25840\, United States
CATEGORIES:Activities,Arts and Crafts
ATTACH;FMTTYPE=image/png:https://visitfayettevillewv.com/wp-content/uploads/2024/01/Fayette-County-PL.png
GEO:38.041798;-81.117531
X-APPLE-STRUCTURED-LOCATION;VALUE=URI;X-ADDRESS=Fayetteville Public Library 200 W Maple Ave Fayetteville WV 25840 United States;X-APPLE-RADIUS=500;X-TITLE=200 W Maple Ave:geo:-81.117531,38.041798
END:VEVENT
BEGIN:VEVENT
DTSTART;TZID=America/New_York:20260803T173000
DTEND;TZID=America/New_York:20260803T183000
DTSTAMP:20260421T212955
CREATED:20250104T204552Z
LAST-MODIFIED:20260103T171456Z
UID:10010055-1785778200-1785781800@visitfayettevillewv.com
SUMMARY:Crafting Mondays
DESCRIPTION:
URL:https://visitfayettevillewv.com/event/crafting-mondays/2026-08-03/
LOCATION:Fayetteville Public Library\, 200 W Maple Ave\, Fayetteville\, WV\, 25840\, United States
CATEGORIES:Activities,Arts and Crafts
ATTACH;FMTTYPE=image/png:https://visitfayettevillewv.com/wp-content/uploads/2024/01/Fayette-County-PL.png
GEO:38.041798;-81.117531
X-APPLE-STRUCTURED-LOCATION;VALUE=URI;X-ADDRESS=Fayetteville Public Library 200 W Maple Ave Fayetteville WV 25840 United States;X-APPLE-RADIUS=500;X-TITLE=200 W Maple Ave:geo:-81.117531,38.041798
END:VEVENT
BEGIN:VEVENT
DTSTART;TZID=America/New_York:20260804T130000
DTEND;TZID=America/New_York:20260804T140000
DTSTAMP:20260421T212955
CREATED:20251101T165005Z
LAST-MODIFIED:20260103T172005Z
UID:10010095-1785848400-1785852000@visitfayettevillewv.com
SUMMARY:Knitting and Crochet Circle
DESCRIPTION:
URL:https://visitfayettevillewv.com/event/knitting-and-crochet-circle/2026-08-04/
LOCATION:Fayetteville Public Library\, 200 W Maple Ave\, Fayetteville\, WV\, 25840\, United States
CATEGORIES:Activities,Arts and Crafts
ATTACH;FMTTYPE=image/png:https://visitfayettevillewv.com/wp-content/uploads/2024/01/Fayette-County-PL.png
GEO:38.041798;-81.117531
X-APPLE-STRUCTURED-LOCATION;VALUE=URI;X-ADDRESS=Fayetteville Public Library 200 W Maple Ave Fayetteville WV 25840 United States;X-APPLE-RADIUS=500;X-TITLE=200 W Maple Ave:geo:-81.117531,38.041798
END:VEVENT
BEGIN:VEVENT
DTSTART;TZID=America/New_York:20260805T160000
DTEND;TZID=America/New_York:20260805T170000
DTSTAMP:20260421T212955
CREATED:20251004T162856Z
LAST-MODIFIED:20260103T172657Z
UID:10010153-1785945600-1785949200@visitfayettevillewv.com
SUMMARY:Artists Way (exercise your creativity)
DESCRIPTION:
URL:https://visitfayettevillewv.com/event/artists-way-exercise-your-creativity/2026-08-05/
LOCATION:Fayetteville Public Library\, 200 W Maple Ave\, Fayetteville\, WV\, 25840\, United States
CATEGORIES:Activities,Arts and Crafts
ATTACH;FMTTYPE=image/png:https://visitfayettevillewv.com/wp-content/uploads/2024/01/Fayette-County-PL.png
GEO:38.041798;-81.117531
X-APPLE-STRUCTURED-LOCATION;VALUE=URI;X-ADDRESS=Fayetteville Public Library 200 W Maple Ave Fayetteville WV 25840 United States;X-APPLE-RADIUS=500;X-TITLE=200 W Maple Ave:geo:-81.117531,38.041798
END:VEVENT
BEGIN:VEVENT
DTSTART;TZID=America/New_York:20260811T130000
DTEND;TZID=America/New_York:20260811T140000
DTSTAMP:20260421T212955
CREATED:20251101T165005Z
LAST-MODIFIED:20260103T172005Z
UID:10010096-1786453200-1786456800@visitfayettevillewv.com
SUMMARY:Knitting and Crochet Circle
DESCRIPTION:
URL:https://visitfayettevillewv.com/event/knitting-and-crochet-circle/2026-08-11/
LOCATION:Fayetteville Public Library\, 200 W Maple Ave\, Fayetteville\, WV\, 25840\, United States
CATEGORIES:Activities,Arts and Crafts
ATTACH;FMTTYPE=image/png:https://visitfayettevillewv.com/wp-content/uploads/2024/01/Fayette-County-PL.png
GEO:38.041798;-81.117531
X-APPLE-STRUCTURED-LOCATION;VALUE=URI;X-ADDRESS=Fayetteville Public Library 200 W Maple Ave Fayetteville WV 25840 United States;X-APPLE-RADIUS=500;X-TITLE=200 W Maple Ave:geo:-81.117531,38.041798
END:VEVENT
BEGIN:VEVENT
DTSTART;TZID=America/New_York:20260812T160000
DTEND;TZID=America/New_York:20260812T170000
DTSTAMP:20260421T212955
CREATED:20251004T162856Z
LAST-MODIFIED:20260103T172657Z
UID:10010154-1786550400-1786554000@visitfayettevillewv.com
SUMMARY:Artists Way (exercise your creativity)
DESCRIPTION:
URL:https://visitfayettevillewv.com/event/artists-way-exercise-your-creativity/2026-08-12/
LOCATION:Fayetteville Public Library\, 200 W Maple Ave\, Fayetteville\, WV\, 25840\, United States
CATEGORIES:Activities,Arts and Crafts
ATTACH;FMTTYPE=image/png:https://visitfayettevillewv.com/wp-content/uploads/2024/01/Fayette-County-PL.png
GEO:38.041798;-81.117531
X-APPLE-STRUCTURED-LOCATION;VALUE=URI;X-ADDRESS=Fayetteville Public Library 200 W Maple Ave Fayetteville WV 25840 United States;X-APPLE-RADIUS=500;X-TITLE=200 W Maple Ave:geo:-81.117531,38.041798
END:VEVENT
BEGIN:VEVENT
DTSTART;TZID=America/New_York:20260818T130000
DTEND;TZID=America/New_York:20260818T140000
DTSTAMP:20260421T212955
CREATED:20251101T165005Z
LAST-MODIFIED:20260103T172005Z
UID:10010097-1787058000-1787061600@visitfayettevillewv.com
SUMMARY:Knitting and Crochet Circle
DESCRIPTION:
URL:https://visitfayettevillewv.com/event/knitting-and-crochet-circle/2026-08-18/
LOCATION:Fayetteville Public Library\, 200 W Maple Ave\, Fayetteville\, WV\, 25840\, United States
CATEGORIES:Activities,Arts and Crafts
ATTACH;FMTTYPE=image/png:https://visitfayettevillewv.com/wp-content/uploads/2024/01/Fayette-County-PL.png
GEO:38.041798;-81.117531
X-APPLE-STRUCTURED-LOCATION;VALUE=URI;X-ADDRESS=Fayetteville Public Library 200 W Maple Ave Fayetteville WV 25840 United States;X-APPLE-RADIUS=500;X-TITLE=200 W Maple Ave:geo:-81.117531,38.041798
END:VEVENT
BEGIN:VEVENT
DTSTART;TZID=America/New_York:20260819T160000
DTEND;TZID=America/New_York:20260819T170000
DTSTAMP:20260421T212955
CREATED:20251004T162856Z
LAST-MODIFIED:20260103T172657Z
UID:10010155-1787155200-1787158800@visitfayettevillewv.com
SUMMARY:Artists Way (exercise your creativity)
DESCRIPTION:
URL:https://visitfayettevillewv.com/event/artists-way-exercise-your-creativity/2026-08-19/
LOCATION:Fayetteville Public Library\, 200 W Maple Ave\, Fayetteville\, WV\, 25840\, United States
CATEGORIES:Activities,Arts and Crafts
ATTACH;FMTTYPE=image/png:https://visitfayettevillewv.com/wp-content/uploads/2024/01/Fayette-County-PL.png
GEO:38.041798;-81.117531
X-APPLE-STRUCTURED-LOCATION;VALUE=URI;X-ADDRESS=Fayetteville Public Library 200 W Maple Ave Fayetteville WV 25840 United States;X-APPLE-RADIUS=500;X-TITLE=200 W Maple Ave:geo:-81.117531,38.041798
END:VEVENT
BEGIN:VEVENT
DTSTART;TZID=America/New_York:20260825T130000
DTEND;TZID=America/New_York:20260825T140000
DTSTAMP:20260421T212955
CREATED:20251101T165005Z
LAST-MODIFIED:20260103T172005Z
UID:10010098-1787662800-1787666400@visitfayettevillewv.com
SUMMARY:Knitting and Crochet Circle
DESCRIPTION:
URL:https://visitfayettevillewv.com/event/knitting-and-crochet-circle/2026-08-25/
LOCATION:Fayetteville Public Library\, 200 W Maple Ave\, Fayetteville\, WV\, 25840\, United States
CATEGORIES:Activities,Arts and Crafts
ATTACH;FMTTYPE=image/png:https://visitfayettevillewv.com/wp-content/uploads/2024/01/Fayette-County-PL.png
GEO:38.041798;-81.117531
X-APPLE-STRUCTURED-LOCATION;VALUE=URI;X-ADDRESS=Fayetteville Public Library 200 W Maple Ave Fayetteville WV 25840 United States;X-APPLE-RADIUS=500;X-TITLE=200 W Maple Ave:geo:-81.117531,38.041798
END:VEVENT
BEGIN:VEVENT
DTSTART;TZID=America/New_York:20260826T160000
DTEND;TZID=America/New_York:20260826T170000
DTSTAMP:20260421T212955
CREATED:20251004T162856Z
LAST-MODIFIED:20260103T172657Z
UID:10010156-1787760000-1787763600@visitfayettevillewv.com
SUMMARY:Artists Way (exercise your creativity)
DESCRIPTION:
URL:https://visitfayettevillewv.com/event/artists-way-exercise-your-creativity/2026-08-26/
LOCATION:Fayetteville Public Library\, 200 W Maple Ave\, Fayetteville\, WV\, 25840\, United States
CATEGORIES:Activities,Arts and Crafts
ATTACH;FMTTYPE=image/png:https://visitfayettevillewv.com/wp-content/uploads/2024/01/Fayette-County-PL.png
GEO:38.041798;-81.117531
X-APPLE-STRUCTURED-LOCATION;VALUE=URI;X-ADDRESS=Fayetteville Public Library 200 W Maple Ave Fayetteville WV 25840 United States;X-APPLE-RADIUS=500;X-TITLE=200 W Maple Ave:geo:-81.117531,38.041798
END:VEVENT
BEGIN:VEVENT
DTSTART;VALUE=DATE:20260829
DTEND;VALUE=DATE:20260907
DTSTAMP:20260421T212955
CREATED:20250913T160013Z
LAST-MODIFIED:20250913T160013Z
UID:10008464-1787961600-1788739199@visitfayettevillewv.com
SUMMARY:Oak Leaf Festival
DESCRIPTION:Annual festival held on Main Street in Oak Hill\, West Virginia on Labor Day Weekend. Fun filled with activities for all ages.
URL:https://visitfayettevillewv.com/event/oak-leaf-festival-2/
LOCATION:Oak Hill\, Oak Hill\, WV\, 25901\, United States
CATEGORIES:Activities,Arts and Crafts,Dining / Food,Events,Festival,Kids activity,Music,Shopping
ATTACH;FMTTYPE=image/jpeg:https://visitfayettevillewv.com/wp-content/uploads/2024/01/Oak-Leaf.jpg
ORGANIZER;CN="Oak Leaf Festival":MAILTO:oakleaffestival@yahoo.com
GEO:38.190202;-81.392811
END:VEVENT
BEGIN:VEVENT
DTSTART;TZID=America/New_York:20260901T130000
DTEND;TZID=America/New_York:20260901T140000
DTSTAMP:20260421T212955
CREATED:20251101T165005Z
LAST-MODIFIED:20260103T172005Z
UID:10010099-1788267600-1788271200@visitfayettevillewv.com
SUMMARY:Knitting and Crochet Circle
DESCRIPTION:
URL:https://visitfayettevillewv.com/event/knitting-and-crochet-circle/2026-09-01/
LOCATION:Fayetteville Public Library\, 200 W Maple Ave\, Fayetteville\, WV\, 25840\, United States
CATEGORIES:Activities,Arts and Crafts
ATTACH;FMTTYPE=image/png:https://visitfayettevillewv.com/wp-content/uploads/2024/01/Fayette-County-PL.png
GEO:38.041798;-81.117531
X-APPLE-STRUCTURED-LOCATION;VALUE=URI;X-ADDRESS=Fayetteville Public Library 200 W Maple Ave Fayetteville WV 25840 United States;X-APPLE-RADIUS=500;X-TITLE=200 W Maple Ave:geo:-81.117531,38.041798
END:VEVENT
BEGIN:VEVENT
DTSTART;TZID=America/New_York:20260902T160000
DTEND;TZID=America/New_York:20260902T170000
DTSTAMP:20260421T212955
CREATED:20251004T162856Z
LAST-MODIFIED:20260103T172657Z
UID:10010157-1788364800-1788368400@visitfayettevillewv.com
SUMMARY:Artists Way (exercise your creativity)
DESCRIPTION:
URL:https://visitfayettevillewv.com/event/artists-way-exercise-your-creativity/2026-09-02/
LOCATION:Fayetteville Public Library\, 200 W Maple Ave\, Fayetteville\, WV\, 25840\, United States
CATEGORIES:Activities,Arts and Crafts
ATTACH;FMTTYPE=image/png:https://visitfayettevillewv.com/wp-content/uploads/2024/01/Fayette-County-PL.png
GEO:38.041798;-81.117531
X-APPLE-STRUCTURED-LOCATION;VALUE=URI;X-ADDRESS=Fayetteville Public Library 200 W Maple Ave Fayetteville WV 25840 United States;X-APPLE-RADIUS=500;X-TITLE=200 W Maple Ave:geo:-81.117531,38.041798
END:VEVENT
BEGIN:VEVENT
DTSTART;TZID=America/New_York:20260907T173000
DTEND;TZID=America/New_York:20260907T183000
DTSTAMP:20260421T212955
CREATED:20250104T204552Z
LAST-MODIFIED:20260103T171456Z
UID:10010056-1788802200-1788805800@visitfayettevillewv.com
SUMMARY:Crafting Mondays
DESCRIPTION:
URL:https://visitfayettevillewv.com/event/crafting-mondays/2026-09-07/
LOCATION:Fayetteville Public Library\, 200 W Maple Ave\, Fayetteville\, WV\, 25840\, United States
CATEGORIES:Activities,Arts and Crafts
ATTACH;FMTTYPE=image/png:https://visitfayettevillewv.com/wp-content/uploads/2024/01/Fayette-County-PL.png
GEO:38.041798;-81.117531
X-APPLE-STRUCTURED-LOCATION;VALUE=URI;X-ADDRESS=Fayetteville Public Library 200 W Maple Ave Fayetteville WV 25840 United States;X-APPLE-RADIUS=500;X-TITLE=200 W Maple Ave:geo:-81.117531,38.041798
END:VEVENT
BEGIN:VEVENT
DTSTART;TZID=America/New_York:20260908T130000
DTEND;TZID=America/New_York:20260908T140000
DTSTAMP:20260421T212955
CREATED:20251101T165005Z
LAST-MODIFIED:20260103T172005Z
UID:10010100-1788872400-1788876000@visitfayettevillewv.com
SUMMARY:Knitting and Crochet Circle
DESCRIPTION:
URL:https://visitfayettevillewv.com/event/knitting-and-crochet-circle/2026-09-08/
LOCATION:Fayetteville Public Library\, 200 W Maple Ave\, Fayetteville\, WV\, 25840\, United States
CATEGORIES:Activities,Arts and Crafts
ATTACH;FMTTYPE=image/png:https://visitfayettevillewv.com/wp-content/uploads/2024/01/Fayette-County-PL.png
GEO:38.041798;-81.117531
X-APPLE-STRUCTURED-LOCATION;VALUE=URI;X-ADDRESS=Fayetteville Public Library 200 W Maple Ave Fayetteville WV 25840 United States;X-APPLE-RADIUS=500;X-TITLE=200 W Maple Ave:geo:-81.117531,38.041798
END:VEVENT
BEGIN:VEVENT
DTSTART;TZID=America/New_York:20260909T160000
DTEND;TZID=America/New_York:20260909T170000
DTSTAMP:20260421T212955
CREATED:20251004T162856Z
LAST-MODIFIED:20260103T172657Z
UID:10010158-1788969600-1788973200@visitfayettevillewv.com
SUMMARY:Artists Way (exercise your creativity)
DESCRIPTION:
URL:https://visitfayettevillewv.com/event/artists-way-exercise-your-creativity/2026-09-09/
LOCATION:Fayetteville Public Library\, 200 W Maple Ave\, Fayetteville\, WV\, 25840\, United States
CATEGORIES:Activities,Arts and Crafts
ATTACH;FMTTYPE=image/png:https://visitfayettevillewv.com/wp-content/uploads/2024/01/Fayette-County-PL.png
GEO:38.041798;-81.117531
X-APPLE-STRUCTURED-LOCATION;VALUE=URI;X-ADDRESS=Fayetteville Public Library 200 W Maple Ave Fayetteville WV 25840 United States;X-APPLE-RADIUS=500;X-TITLE=200 W Maple Ave:geo:-81.117531,38.041798
END:VEVENT
BEGIN:VEVENT
DTSTART;TZID=America/New_York:20260915T130000
DTEND;TZID=America/New_York:20260915T140000
DTSTAMP:20260421T212955
CREATED:20251101T165005Z
LAST-MODIFIED:20260103T172005Z
UID:10010101-1789477200-1789480800@visitfayettevillewv.com
SUMMARY:Knitting and Crochet Circle
DESCRIPTION:
URL:https://visitfayettevillewv.com/event/knitting-and-crochet-circle/2026-09-15/
LOCATION:Fayetteville Public Library\, 200 W Maple Ave\, Fayetteville\, WV\, 25840\, United States
CATEGORIES:Activities,Arts and Crafts
ATTACH;FMTTYPE=image/png:https://visitfayettevillewv.com/wp-content/uploads/2024/01/Fayette-County-PL.png
GEO:38.041798;-81.117531
X-APPLE-STRUCTURED-LOCATION;VALUE=URI;X-ADDRESS=Fayetteville Public Library 200 W Maple Ave Fayetteville WV 25840 United States;X-APPLE-RADIUS=500;X-TITLE=200 W Maple Ave:geo:-81.117531,38.041798
END:VEVENT
BEGIN:VEVENT
DTSTART;TZID=America/New_York:20260916T160000
DTEND;TZID=America/New_York:20260916T170000
DTSTAMP:20260421T212955
CREATED:20251004T162856Z
LAST-MODIFIED:20260103T172657Z
UID:10010159-1789574400-1789578000@visitfayettevillewv.com
SUMMARY:Artists Way (exercise your creativity)
DESCRIPTION:
URL:https://visitfayettevillewv.com/event/artists-way-exercise-your-creativity/2026-09-16/
LOCATION:Fayetteville Public Library\, 200 W Maple Ave\, Fayetteville\, WV\, 25840\, United States
CATEGORIES:Activities,Arts and Crafts
ATTACH;FMTTYPE=image/png:https://visitfayettevillewv.com/wp-content/uploads/2024/01/Fayette-County-PL.png
GEO:38.041798;-81.117531
X-APPLE-STRUCTURED-LOCATION;VALUE=URI;X-ADDRESS=Fayetteville Public Library 200 W Maple Ave Fayetteville WV 25840 United States;X-APPLE-RADIUS=500;X-TITLE=200 W Maple Ave:geo:-81.117531,38.041798
END:VEVENT
BEGIN:VEVENT
DTSTART;TZID=America/New_York:20260922T130000
DTEND;TZID=America/New_York:20260922T140000
DTSTAMP:20260421T212955
CREATED:20251101T165005Z
LAST-MODIFIED:20260103T172005Z
UID:10010102-1790082000-1790085600@visitfayettevillewv.com
SUMMARY:Knitting and Crochet Circle
DESCRIPTION:
URL:https://visitfayettevillewv.com/event/knitting-and-crochet-circle/2026-09-22/
LOCATION:Fayetteville Public Library\, 200 W Maple Ave\, Fayetteville\, WV\, 25840\, United States
CATEGORIES:Activities,Arts and Crafts
ATTACH;FMTTYPE=image/png:https://visitfayettevillewv.com/wp-content/uploads/2024/01/Fayette-County-PL.png
GEO:38.041798;-81.117531
X-APPLE-STRUCTURED-LOCATION;VALUE=URI;X-ADDRESS=Fayetteville Public Library 200 W Maple Ave Fayetteville WV 25840 United States;X-APPLE-RADIUS=500;X-TITLE=200 W Maple Ave:geo:-81.117531,38.041798
END:VEVENT
BEGIN:VEVENT
DTSTART;TZID=America/New_York:20260923T160000
DTEND;TZID=America/New_York:20260923T170000
DTSTAMP:20260421T212955
CREATED:20251004T162856Z
LAST-MODIFIED:20260103T172657Z
UID:10010160-1790179200-1790182800@visitfayettevillewv.com
SUMMARY:Artists Way (exercise your creativity)
DESCRIPTION:
URL:https://visitfayettevillewv.com/event/artists-way-exercise-your-creativity/2026-09-23/
LOCATION:Fayetteville Public Library\, 200 W Maple Ave\, Fayetteville\, WV\, 25840\, United States
CATEGORIES:Activities,Arts and Crafts
ATTACH;FMTTYPE=image/png:https://visitfayettevillewv.com/wp-content/uploads/2024/01/Fayette-County-PL.png
GEO:38.041798;-81.117531
X-APPLE-STRUCTURED-LOCATION;VALUE=URI;X-ADDRESS=Fayetteville Public Library 200 W Maple Ave Fayetteville WV 25840 United States;X-APPLE-RADIUS=500;X-TITLE=200 W Maple Ave:geo:-81.117531,38.041798
END:VEVENT
BEGIN:VEVENT
DTSTART;TZID=America/New_York:20260929T130000
DTEND;TZID=America/New_York:20260929T140000
DTSTAMP:20260421T212955
CREATED:20251101T165005Z
LAST-MODIFIED:20260103T172005Z
UID:10010103-1790686800-1790690400@visitfayettevillewv.com
SUMMARY:Knitting and Crochet Circle
DESCRIPTION:
URL:https://visitfayettevillewv.com/event/knitting-and-crochet-circle/2026-09-29/
LOCATION:Fayetteville Public Library\, 200 W Maple Ave\, Fayetteville\, WV\, 25840\, United States
CATEGORIES:Activities,Arts and Crafts
ATTACH;FMTTYPE=image/png:https://visitfayettevillewv.com/wp-content/uploads/2024/01/Fayette-County-PL.png
GEO:38.041798;-81.117531
X-APPLE-STRUCTURED-LOCATION;VALUE=URI;X-ADDRESS=Fayetteville Public Library 200 W Maple Ave Fayetteville WV 25840 United States;X-APPLE-RADIUS=500;X-TITLE=200 W Maple Ave:geo:-81.117531,38.041798
END:VEVENT
BEGIN:VEVENT
DTSTART;TZID=America/New_York:20260930T160000
DTEND;TZID=America/New_York:20260930T170000
DTSTAMP:20260421T212955
CREATED:20251004T162856Z
LAST-MODIFIED:20260103T172657Z
UID:10010161-1790784000-1790787600@visitfayettevillewv.com
SUMMARY:Artists Way (exercise your creativity)
DESCRIPTION:
URL:https://visitfayettevillewv.com/event/artists-way-exercise-your-creativity/2026-09-30/
LOCATION:Fayetteville Public Library\, 200 W Maple Ave\, Fayetteville\, WV\, 25840\, United States
CATEGORIES:Activities,Arts and Crafts
ATTACH;FMTTYPE=image/png:https://visitfayettevillewv.com/wp-content/uploads/2024/01/Fayette-County-PL.png
GEO:38.041798;-81.117531
X-APPLE-STRUCTURED-LOCATION;VALUE=URI;X-ADDRESS=Fayetteville Public Library 200 W Maple Ave Fayetteville WV 25840 United States;X-APPLE-RADIUS=500;X-TITLE=200 W Maple Ave:geo:-81.117531,38.041798
END:VEVENT
END:VCALENDAR