BEGIN:VCALENDAR
VERSION:2.0
PRODID:-//Visit Fayetteville WV - ECPv6.15.20//NONSGML v1.0//EN
CALSCALE:GREGORIAN
METHOD:PUBLISH
X-WR-CALNAME:Visit Fayetteville WV
X-ORIGINAL-URL:https://visitfayettevillewv.com
X-WR-CALDESC:Events for Visit Fayetteville WV
REFRESH-INTERVAL;VALUE=DURATION:PT1H
X-Robots-Tag:noindex
X-PUBLISHED-TTL:PT1H
BEGIN:VTIMEZONE
TZID:America/New_York
BEGIN:DAYLIGHT
TZOFFSETFROM:-0500
TZOFFSETTO:-0400
TZNAME:EDT
DTSTART:20240310T070000
END:DAYLIGHT
BEGIN:STANDARD
TZOFFSETFROM:-0400
TZOFFSETTO:-0500
TZNAME:EST
DTSTART:20241103T060000
END:STANDARD
BEGIN:DAYLIGHT
TZOFFSETFROM:-0500
TZOFFSETTO:-0400
TZNAME:EDT
DTSTART:20250309T070000
END:DAYLIGHT
BEGIN:STANDARD
TZOFFSETFROM:-0400
TZOFFSETTO:-0500
TZNAME:EST
DTSTART:20251102T060000
END:STANDARD
BEGIN:DAYLIGHT
TZOFFSETFROM:-0500
TZOFFSETTO:-0400
TZNAME:EDT
DTSTART:20260308T070000
END:DAYLIGHT
BEGIN:STANDARD
TZOFFSETFROM:-0400
TZOFFSETTO:-0500
TZNAME:EST
DTSTART:20261101T060000
END:STANDARD
END:VTIMEZONE
BEGIN:VEVENT
DTSTART;TZID=America/New_York:20251201T120000
DTEND;TZID=America/New_York:20251201T230000
DTSTAMP:20260421T190134
CREATED:20250426T161030Z
LAST-MODIFIED:20251129T191853Z
UID:10007424-1764590400-1764630000@visitfayettevillewv.com
SUMMARY:Wing Night at Elliott's Whitewater Bar & Grill
DESCRIPTION:
URL:https://visitfayettevillewv.com/event/wing-night-at-elliotts-whitewater-bar-grill/2025-12-01/
LOCATION:Elliott’s Whitewater Bar & Grill\, 103 Elliott's Way\, Fayetteville\, WV\, 25840\, United States
CATEGORIES:Activities,Beer, wine, cocktails, etc.,Dining / Food,Sports
ATTACH;FMTTYPE=image/jpeg:https://visitfayettevillewv.com/wp-content/uploads/2025/04/Wing-Night-Elliotts.jpg
END:VEVENT
BEGIN:VEVENT
DTSTART;TZID=America/New_York:20251204T180000
DTEND;TZID=America/New_York:20251204T193000
DTSTAMP:20260421T190134
CREATED:20251122T182503Z
LAST-MODIFIED:20260309T163026Z
UID:10009017-1764871200-1764876600@visitfayettevillewv.com
SUMMARY:First Thursday's Trivia Night!
DESCRIPTION:We are so excited to kick off our newest monthly event- Trivia Night!\nStarting December 4th\, Trivia Night will take place the first Thursday of each month. A max # of 6 people per team- 1st and 2nd place prizes! FREE ENTRY!
URL:https://visitfayettevillewv.com/event/first-thursdays-trivia-night/2025-12-04/
LOCATION:Freefolk Brewery\, 25385 Midland Trail\, Hico\, WV\, 25854\, United States
CATEGORIES:Activities,Beer, wine, cocktails, etc.,Dining / Food,Trivia, games, etc.
ATTACH;FMTTYPE=image/jpeg:https://visitfayettevillewv.com/wp-content/uploads/2025/11/First-Thursdays-Trivia-Night.jpg
ORGANIZER;CN="Freefolk Brewery":MAILTO:freefolkbrew@gmail.com
END:VEVENT
BEGIN:VEVENT
DTSTART;TZID=America/New_York:20251205T210000
DTEND;TZID=America/New_York:20251205T230000
DTSTAMP:20260421T190134
CREATED:20250104T182203Z
LAST-MODIFIED:20251129T184014Z
UID:10006072-1764968400-1764975600@visitfayettevillewv.com
SUMMARY:Karaoke at Maggie's Pub!
DESCRIPTION:It’s the weekend and time to have a great time! Join us here at Maggie’s this evening for our Karaoke party and enjoy our drink of the day. Come get ya one and sing and dance the night away with us! CHEERS!
URL:https://visitfayettevillewv.com/event/karaoke-at-maggies-pub/2025-12-05/
LOCATION:Maggie’s Pub\, 309 Keller Ave\, Fayetteville\, WV\, 25840\, United States
CATEGORIES:Activities,Beer, wine, cocktails, etc.,Dance,Music
ATTACH;FMTTYPE=image/jpeg:https://visitfayettevillewv.com/wp-content/uploads/2024/05/Karaoke-dance-party.jpg
END:VEVENT
BEGIN:VEVENT
DTSTART;TZID=America/New_York:20251206T210000
DTEND;TZID=America/New_York:20251206T230000
DTSTAMP:20260421T190134
CREATED:20250104T182203Z
LAST-MODIFIED:20251129T184014Z
UID:10006073-1765054800-1765062000@visitfayettevillewv.com
SUMMARY:Karaoke at Maggie's Pub!
DESCRIPTION:It’s the weekend and time to have a great time! Join us here at Maggie’s this evening for our Karaoke party and enjoy our drink of the day. Come get ya one and sing and dance the night away with us! CHEERS!
URL:https://visitfayettevillewv.com/event/karaoke-at-maggies-pub/2025-12-06/
LOCATION:Maggie’s Pub\, 309 Keller Ave\, Fayetteville\, WV\, 25840\, United States
CATEGORIES:Activities,Beer, wine, cocktails, etc.,Dance,Music
ATTACH;FMTTYPE=image/jpeg:https://visitfayettevillewv.com/wp-content/uploads/2024/05/Karaoke-dance-party.jpg
END:VEVENT
BEGIN:VEVENT
DTSTART;TZID=America/New_York:20251208T120000
DTEND;TZID=America/New_York:20251208T230000
DTSTAMP:20260421T190134
CREATED:20250426T161030Z
LAST-MODIFIED:20251129T191853Z
UID:10007425-1765195200-1765234800@visitfayettevillewv.com
SUMMARY:Wing Night at Elliott's Whitewater Bar & Grill
DESCRIPTION:
URL:https://visitfayettevillewv.com/event/wing-night-at-elliotts-whitewater-bar-grill/2025-12-08/
LOCATION:Elliott’s Whitewater Bar & Grill\, 103 Elliott's Way\, Fayetteville\, WV\, 25840\, United States
CATEGORIES:Activities,Beer, wine, cocktails, etc.,Dining / Food,Sports
ATTACH;FMTTYPE=image/jpeg:https://visitfayettevillewv.com/wp-content/uploads/2025/04/Wing-Night-Elliotts.jpg
END:VEVENT
BEGIN:VEVENT
DTSTART;TZID=America/New_York:20251209T190000
DTEND;TZID=America/New_York:20251209T210000
DTSTAMP:20260421T190134
CREATED:20251207T182544Z
LAST-MODIFIED:20251207T182544Z
UID:10009444-1765306800-1765314000@visitfayettevillewv.com
SUMMARY:Trivia Tuesdays at Southside!
DESCRIPTION:Trivia Tuesdays are BACK.  Bring a team\, show up solo\, whatever works for you. Zero charge to play and bragging rights are free. This week’s theme is 𝑮𝒆𝒏𝒆𝒓𝒂𝒍 𝑲𝒏𝒐𝒘𝒍𝒆𝒅𝒈𝒆 so everyone has a fighting chance. See you Tuesday!  
URL:https://visitfayettevillewv.com/event/trivia-tuesdays-at-southside/2025-12-09/
LOCATION:Southside Junction Tap House\, 101 N Court St\, Fayetteville\, WV\, 25840\, United States
CATEGORIES:Activities,Beer, wine, cocktails, etc.,Dining / Food,Trivia, games, etc.
ATTACH;FMTTYPE=image/jpeg:https://visitfayettevillewv.com/wp-content/uploads/2025/12/Trivia-Tues.jpg
ORGANIZER;CN="Southside Junction Tap House":MAILTO:SJTaphouse@gmail.com
GEO:38.05279;-81.103771
X-APPLE-STRUCTURED-LOCATION;VALUE=URI;X-ADDRESS=Southside Junction Tap House 101 N Court St Fayetteville WV 25840 United States;X-APPLE-RADIUS=500;X-TITLE=101 N Court St:geo:-81.103771,38.05279
END:VEVENT
BEGIN:VEVENT
DTSTART;TZID=America/New_York:20251212T210000
DTEND;TZID=America/New_York:20251212T230000
DTSTAMP:20260421T190134
CREATED:20250104T182203Z
LAST-MODIFIED:20251129T184014Z
UID:10006074-1765573200-1765580400@visitfayettevillewv.com
SUMMARY:Karaoke at Maggie's Pub!
DESCRIPTION:It’s the weekend and time to have a great time! Join us here at Maggie’s this evening for our Karaoke party and enjoy our drink of the day. Come get ya one and sing and dance the night away with us! CHEERS!
URL:https://visitfayettevillewv.com/event/karaoke-at-maggies-pub/2025-12-12/
LOCATION:Maggie’s Pub\, 309 Keller Ave\, Fayetteville\, WV\, 25840\, United States
CATEGORIES:Activities,Beer, wine, cocktails, etc.,Dance,Music
ATTACH;FMTTYPE=image/jpeg:https://visitfayettevillewv.com/wp-content/uploads/2024/05/Karaoke-dance-party.jpg
END:VEVENT
BEGIN:VEVENT
DTSTART;TZID=America/New_York:20251213T210000
DTEND;TZID=America/New_York:20251213T230000
DTSTAMP:20260421T190134
CREATED:20250104T182203Z
LAST-MODIFIED:20251129T184014Z
UID:10006075-1765659600-1765666800@visitfayettevillewv.com
SUMMARY:Karaoke at Maggie's Pub!
DESCRIPTION:It’s the weekend and time to have a great time! Join us here at Maggie’s this evening for our Karaoke party and enjoy our drink of the day. Come get ya one and sing and dance the night away with us! CHEERS!
URL:https://visitfayettevillewv.com/event/karaoke-at-maggies-pub/2025-12-13/
LOCATION:Maggie’s Pub\, 309 Keller Ave\, Fayetteville\, WV\, 25840\, United States
CATEGORIES:Activities,Beer, wine, cocktails, etc.,Dance,Music
ATTACH;FMTTYPE=image/jpeg:https://visitfayettevillewv.com/wp-content/uploads/2024/05/Karaoke-dance-party.jpg
END:VEVENT
BEGIN:VEVENT
DTSTART;TZID=America/New_York:20251215T120000
DTEND;TZID=America/New_York:20251215T230000
DTSTAMP:20260421T190134
CREATED:20250426T161030Z
LAST-MODIFIED:20251129T191853Z
UID:10007426-1765800000-1765839600@visitfayettevillewv.com
SUMMARY:Wing Night at Elliott's Whitewater Bar & Grill
DESCRIPTION:
URL:https://visitfayettevillewv.com/event/wing-night-at-elliotts-whitewater-bar-grill/2025-12-15/
LOCATION:Elliott’s Whitewater Bar & Grill\, 103 Elliott's Way\, Fayetteville\, WV\, 25840\, United States
CATEGORIES:Activities,Beer, wine, cocktails, etc.,Dining / Food,Sports
ATTACH;FMTTYPE=image/jpeg:https://visitfayettevillewv.com/wp-content/uploads/2025/04/Wing-Night-Elliotts.jpg
END:VEVENT
BEGIN:VEVENT
DTSTART;TZID=America/New_York:20251216T190000
DTEND;TZID=America/New_York:20251216T210000
DTSTAMP:20260421T190134
CREATED:20251207T182544Z
LAST-MODIFIED:20251207T182544Z
UID:10009445-1765911600-1765918800@visitfayettevillewv.com
SUMMARY:Trivia Tuesdays at Southside!
DESCRIPTION:Trivia Tuesdays are BACK.  Bring a team\, show up solo\, whatever works for you. Zero charge to play and bragging rights are free. This week’s theme is 𝑮𝒆𝒏𝒆𝒓𝒂𝒍 𝑲𝒏𝒐𝒘𝒍𝒆𝒅𝒈𝒆 so everyone has a fighting chance. See you Tuesday!  
URL:https://visitfayettevillewv.com/event/trivia-tuesdays-at-southside/2025-12-16/
LOCATION:Southside Junction Tap House\, 101 N Court St\, Fayetteville\, WV\, 25840\, United States
CATEGORIES:Activities,Beer, wine, cocktails, etc.,Dining / Food,Trivia, games, etc.
ATTACH;FMTTYPE=image/jpeg:https://visitfayettevillewv.com/wp-content/uploads/2025/12/Trivia-Tues.jpg
ORGANIZER;CN="Southside Junction Tap House":MAILTO:SJTaphouse@gmail.com
GEO:38.05279;-81.103771
X-APPLE-STRUCTURED-LOCATION;VALUE=URI;X-ADDRESS=Southside Junction Tap House 101 N Court St Fayetteville WV 25840 United States;X-APPLE-RADIUS=500;X-TITLE=101 N Court St:geo:-81.103771,38.05279
END:VEVENT
BEGIN:VEVENT
DTSTART;TZID=America/New_York:20251219T210000
DTEND;TZID=America/New_York:20251219T230000
DTSTAMP:20260421T190134
CREATED:20250104T182203Z
LAST-MODIFIED:20251129T184014Z
UID:10006076-1766178000-1766185200@visitfayettevillewv.com
SUMMARY:Karaoke at Maggie's Pub!
DESCRIPTION:It’s the weekend and time to have a great time! Join us here at Maggie’s this evening for our Karaoke party and enjoy our drink of the day. Come get ya one and sing and dance the night away with us! CHEERS!
URL:https://visitfayettevillewv.com/event/karaoke-at-maggies-pub/2025-12-19/
LOCATION:Maggie’s Pub\, 309 Keller Ave\, Fayetteville\, WV\, 25840\, United States
CATEGORIES:Activities,Beer, wine, cocktails, etc.,Dance,Music
ATTACH;FMTTYPE=image/jpeg:https://visitfayettevillewv.com/wp-content/uploads/2024/05/Karaoke-dance-party.jpg
END:VEVENT
BEGIN:VEVENT
DTSTART;TZID=America/New_York:20251220T210000
DTEND;TZID=America/New_York:20251220T230000
DTSTAMP:20260421T190134
CREATED:20250104T182203Z
LAST-MODIFIED:20251129T184014Z
UID:10006077-1766264400-1766271600@visitfayettevillewv.com
SUMMARY:Karaoke at Maggie's Pub!
DESCRIPTION:It’s the weekend and time to have a great time! Join us here at Maggie’s this evening for our Karaoke party and enjoy our drink of the day. Come get ya one and sing and dance the night away with us! CHEERS!
URL:https://visitfayettevillewv.com/event/karaoke-at-maggies-pub/2025-12-20/
LOCATION:Maggie’s Pub\, 309 Keller Ave\, Fayetteville\, WV\, 25840\, United States
CATEGORIES:Activities,Beer, wine, cocktails, etc.,Dance,Music
ATTACH;FMTTYPE=image/jpeg:https://visitfayettevillewv.com/wp-content/uploads/2024/05/Karaoke-dance-party.jpg
END:VEVENT
BEGIN:VEVENT
DTSTART;TZID=America/New_York:20251222T120000
DTEND;TZID=America/New_York:20251222T230000
DTSTAMP:20260421T190134
CREATED:20250426T161030Z
LAST-MODIFIED:20251129T191853Z
UID:10007427-1766404800-1766444400@visitfayettevillewv.com
SUMMARY:Wing Night at Elliott's Whitewater Bar & Grill
DESCRIPTION:
URL:https://visitfayettevillewv.com/event/wing-night-at-elliotts-whitewater-bar-grill/2025-12-22/
LOCATION:Elliott’s Whitewater Bar & Grill\, 103 Elliott's Way\, Fayetteville\, WV\, 25840\, United States
CATEGORIES:Activities,Beer, wine, cocktails, etc.,Dining / Food,Sports
ATTACH;FMTTYPE=image/jpeg:https://visitfayettevillewv.com/wp-content/uploads/2025/04/Wing-Night-Elliotts.jpg
END:VEVENT
BEGIN:VEVENT
DTSTART;TZID=America/New_York:20251223T190000
DTEND;TZID=America/New_York:20251223T210000
DTSTAMP:20260421T190134
CREATED:20251207T182544Z
LAST-MODIFIED:20251207T182544Z
UID:10009446-1766516400-1766523600@visitfayettevillewv.com
SUMMARY:Trivia Tuesdays at Southside!
DESCRIPTION:Trivia Tuesdays are BACK.  Bring a team\, show up solo\, whatever works for you. Zero charge to play and bragging rights are free. This week’s theme is 𝑮𝒆𝒏𝒆𝒓𝒂𝒍 𝑲𝒏𝒐𝒘𝒍𝒆𝒅𝒈𝒆 so everyone has a fighting chance. See you Tuesday!  
URL:https://visitfayettevillewv.com/event/trivia-tuesdays-at-southside/2025-12-23/
LOCATION:Southside Junction Tap House\, 101 N Court St\, Fayetteville\, WV\, 25840\, United States
CATEGORIES:Activities,Beer, wine, cocktails, etc.,Dining / Food,Trivia, games, etc.
ATTACH;FMTTYPE=image/jpeg:https://visitfayettevillewv.com/wp-content/uploads/2025/12/Trivia-Tues.jpg
ORGANIZER;CN="Southside Junction Tap House":MAILTO:SJTaphouse@gmail.com
GEO:38.05279;-81.103771
X-APPLE-STRUCTURED-LOCATION;VALUE=URI;X-ADDRESS=Southside Junction Tap House 101 N Court St Fayetteville WV 25840 United States;X-APPLE-RADIUS=500;X-TITLE=101 N Court St:geo:-81.103771,38.05279
END:VEVENT
BEGIN:VEVENT
DTSTART;TZID=America/New_York:20251226T210000
DTEND;TZID=America/New_York:20251226T230000
DTSTAMP:20260421T190135
CREATED:20250104T182203Z
LAST-MODIFIED:20251129T184014Z
UID:10006078-1766782800-1766790000@visitfayettevillewv.com
SUMMARY:Karaoke at Maggie's Pub!
DESCRIPTION:It’s the weekend and time to have a great time! Join us here at Maggie’s this evening for our Karaoke party and enjoy our drink of the day. Come get ya one and sing and dance the night away with us! CHEERS!
URL:https://visitfayettevillewv.com/event/karaoke-at-maggies-pub/2025-12-26/
LOCATION:Maggie’s Pub\, 309 Keller Ave\, Fayetteville\, WV\, 25840\, United States
CATEGORIES:Activities,Beer, wine, cocktails, etc.,Dance,Music
ATTACH;FMTTYPE=image/jpeg:https://visitfayettevillewv.com/wp-content/uploads/2024/05/Karaoke-dance-party.jpg
END:VEVENT
BEGIN:VEVENT
DTSTART;TZID=America/New_York:20251227T210000
DTEND;TZID=America/New_York:20251227T230000
DTSTAMP:20260421T190135
CREATED:20250104T182203Z
LAST-MODIFIED:20251129T184014Z
UID:10006079-1766869200-1766876400@visitfayettevillewv.com
SUMMARY:Karaoke at Maggie's Pub!
DESCRIPTION:It’s the weekend and time to have a great time! Join us here at Maggie’s this evening for our Karaoke party and enjoy our drink of the day. Come get ya one and sing and dance the night away with us! CHEERS!
URL:https://visitfayettevillewv.com/event/karaoke-at-maggies-pub/2025-12-27/
LOCATION:Maggie’s Pub\, 309 Keller Ave\, Fayetteville\, WV\, 25840\, United States
CATEGORIES:Activities,Beer, wine, cocktails, etc.,Dance,Music
ATTACH;FMTTYPE=image/jpeg:https://visitfayettevillewv.com/wp-content/uploads/2024/05/Karaoke-dance-party.jpg
END:VEVENT
BEGIN:VEVENT
DTSTART;TZID=America/New_York:20251229T120000
DTEND;TZID=America/New_York:20251229T230000
DTSTAMP:20260421T190135
CREATED:20250426T161030Z
LAST-MODIFIED:20251129T191853Z
UID:10007428-1767009600-1767049200@visitfayettevillewv.com
SUMMARY:Wing Night at Elliott's Whitewater Bar & Grill
DESCRIPTION:
URL:https://visitfayettevillewv.com/event/wing-night-at-elliotts-whitewater-bar-grill/2025-12-29/
LOCATION:Elliott’s Whitewater Bar & Grill\, 103 Elliott's Way\, Fayetteville\, WV\, 25840\, United States
CATEGORIES:Activities,Beer, wine, cocktails, etc.,Dining / Food,Sports
ATTACH;FMTTYPE=image/jpeg:https://visitfayettevillewv.com/wp-content/uploads/2025/04/Wing-Night-Elliotts.jpg
END:VEVENT
BEGIN:VEVENT
DTSTART;TZID=America/New_York:20251230T190000
DTEND;TZID=America/New_York:20251230T210000
DTSTAMP:20260421T190135
CREATED:20251207T182544Z
LAST-MODIFIED:20251207T182544Z
UID:10009447-1767121200-1767128400@visitfayettevillewv.com
SUMMARY:Trivia Tuesdays at Southside!
DESCRIPTION:Trivia Tuesdays are BACK.  Bring a team\, show up solo\, whatever works for you. Zero charge to play and bragging rights are free. This week’s theme is 𝑮𝒆𝒏𝒆𝒓𝒂𝒍 𝑲𝒏𝒐𝒘𝒍𝒆𝒅𝒈𝒆 so everyone has a fighting chance. See you Tuesday!  
URL:https://visitfayettevillewv.com/event/trivia-tuesdays-at-southside/2025-12-30/
LOCATION:Southside Junction Tap House\, 101 N Court St\, Fayetteville\, WV\, 25840\, United States
CATEGORIES:Activities,Beer, wine, cocktails, etc.,Dining / Food,Trivia, games, etc.
ATTACH;FMTTYPE=image/jpeg:https://visitfayettevillewv.com/wp-content/uploads/2025/12/Trivia-Tues.jpg
ORGANIZER;CN="Southside Junction Tap House":MAILTO:SJTaphouse@gmail.com
GEO:38.05279;-81.103771
X-APPLE-STRUCTURED-LOCATION;VALUE=URI;X-ADDRESS=Southside Junction Tap House 101 N Court St Fayetteville WV 25840 United States;X-APPLE-RADIUS=500;X-TITLE=101 N Court St:geo:-81.103771,38.05279
END:VEVENT
END:VCALENDAR