BEGIN:VCALENDAR
VERSION:2.0
PRODID:-//Visit Fayetteville WV - ECPv6.15.20//NONSGML v1.0//EN
CALSCALE:GREGORIAN
METHOD:PUBLISH
X-WR-CALNAME:Visit Fayetteville WV
X-ORIGINAL-URL:https://visitfayettevillewv.com
X-WR-CALDESC:Events for Visit Fayetteville WV
REFRESH-INTERVAL;VALUE=DURATION:PT1H
X-Robots-Tag:noindex
X-PUBLISHED-TTL:PT1H
BEGIN:VTIMEZONE
TZID:America/New_York
BEGIN:DAYLIGHT
TZOFFSETFROM:-0500
TZOFFSETTO:-0400
TZNAME:EDT
DTSTART:20250309T070000
END:DAYLIGHT
BEGIN:STANDARD
TZOFFSETFROM:-0400
TZOFFSETTO:-0500
TZNAME:EST
DTSTART:20251102T060000
END:STANDARD
BEGIN:DAYLIGHT
TZOFFSETFROM:-0500
TZOFFSETTO:-0400
TZNAME:EDT
DTSTART:20260308T070000
END:DAYLIGHT
BEGIN:STANDARD
TZOFFSETFROM:-0400
TZOFFSETTO:-0500
TZNAME:EST
DTSTART:20261101T060000
END:STANDARD
BEGIN:DAYLIGHT
TZOFFSETFROM:-0500
TZOFFSETTO:-0400
TZNAME:EDT
DTSTART:20270314T070000
END:DAYLIGHT
BEGIN:STANDARD
TZOFFSETFROM:-0400
TZOFFSETTO:-0500
TZNAME:EST
DTSTART:20271107T060000
END:STANDARD
END:VTIMEZONE
BEGIN:VEVENT
DTSTART;TZID=America/New_York:20260430T190000
DTEND;TZID=America/New_York:20260430T203000
DTSTAMP:20260421T130434
CREATED:20260314T153954Z
LAST-MODIFIED:20260314T153954Z
UID:10010949-1777575600-1777581000@visitfayettevillewv.com
SUMMARY:Matt Mullins LIVE @ Southside!
DESCRIPTION: Live Music at Southside Junction Tap House! \nIf you love a great mix of well-known covers and soulful\, original tunes\, this is a show you don’t want to miss!\nMatt’s energy\, talent\, and storytelling make every performance unforgettable. Whether you’re singing along to your favorite songs or discovering a new favorite from his original collection\, it’s going to be a night full of good vibes\, great music\, and cold drinks! 
URL:https://visitfayettevillewv.com/event/matt-mullins-live-southside/
LOCATION:Southside Junction Tap House\, 101 N Court St\, Fayetteville\, WV\, 25840\, United States
CATEGORIES:Activities,Beer, wine, cocktails, etc.,Dining / Food,Music
ATTACH;FMTTYPE=image/jpeg:https://visitfayettevillewv.com/wp-content/uploads/2024/05/Matt-Mullins-SS.jpg
ORGANIZER;CN="Southside Junction Tap House":MAILTO:SJTaphouse@gmail.com
GEO:38.05279;-81.103771
X-APPLE-STRUCTURED-LOCATION;VALUE=URI;X-ADDRESS=Southside Junction Tap House 101 N Court St Fayetteville WV 25840 United States;X-APPLE-RADIUS=500;X-TITLE=101 N Court St:geo:-81.103771,38.05279
END:VEVENT
END:VCALENDAR