BEGIN:VCALENDAR
VERSION:2.0
PRODID:-//Visit Fayetteville WV - ECPv6.15.20//NONSGML v1.0//EN
CALSCALE:GREGORIAN
METHOD:PUBLISH
X-WR-CALNAME:Visit Fayetteville WV
X-ORIGINAL-URL:https://visitfayettevillewv.com
X-WR-CALDESC:Events for Visit Fayetteville WV
REFRESH-INTERVAL;VALUE=DURATION:PT1H
X-Robots-Tag:noindex
X-PUBLISHED-TTL:PT1H
BEGIN:VTIMEZONE
TZID:America/New_York
BEGIN:DAYLIGHT
TZOFFSETFROM:-0500
TZOFFSETTO:-0400
TZNAME:EDT
DTSTART:20250309T070000
END:DAYLIGHT
BEGIN:STANDARD
TZOFFSETFROM:-0400
TZOFFSETTO:-0500
TZNAME:EST
DTSTART:20251102T060000
END:STANDARD
BEGIN:DAYLIGHT
TZOFFSETFROM:-0500
TZOFFSETTO:-0400
TZNAME:EDT
DTSTART:20260308T070000
END:DAYLIGHT
BEGIN:STANDARD
TZOFFSETFROM:-0400
TZOFFSETTO:-0500
TZNAME:EST
DTSTART:20261101T060000
END:STANDARD
BEGIN:DAYLIGHT
TZOFFSETFROM:-0500
TZOFFSETTO:-0400
TZNAME:EDT
DTSTART:20270314T070000
END:DAYLIGHT
BEGIN:STANDARD
TZOFFSETFROM:-0400
TZOFFSETTO:-0500
TZNAME:EST
DTSTART:20271107T060000
END:STANDARD
END:VTIMEZONE
BEGIN:VEVENT
DTSTART;TZID=America/New_York:20261017T150000
DTEND;TZID=America/New_York:20261017T180000
DTSTAMP:20260424T165829
CREATED:20251025T161139Z
LAST-MODIFIED:20251025T161139Z
UID:10008770-1792249200-1792260000@visitfayettevillewv.com
SUMMARY:Bridge Day Chili Cook-off
DESCRIPTION:Things are heating up in Fayetteville with the 16th Annual Bridge Day Chili Cook-off! Come to Historic Downtown Fayetteville\, stop by to taste\, and to help judge some of the best chili samples from around the region from mild to wild! Admission and parking are FREE\, but there is a charge for chili tasting tickets.\nEnjoy incredible live music\, delicious chili\, activities for the kids\, and more! \n 
URL:https://visitfayettevillewv.com/event/bridge-day-chili-cook-off-3/
LOCATION:Downtown Fayetteville\, Fayetteville\, WV\, 25840\, United States
CATEGORIES:Activities,Competition, Contest, etc.,Dining / Food,Events
ATTACH;FMTTYPE=image/png:https://visitfayettevillewv.com/wp-content/uploads/2024/01/chili-logo-trade-mark.png
ORGANIZER;CN="Visit Fayetteville WV":MAILTO:info@visitfayettevillewv.com
GEO:38.05279;-81.103771
END:VEVENT
BEGIN:VEVENT
DTSTART;VALUE=DATE:20261024
DTEND;VALUE=DATE:20261026
DTSTAMP:20260424T165829
CREATED:20251213T170853Z
LAST-MODIFIED:20251213T170853Z
UID:10009473-1792800000-1792972799@visitfayettevillewv.com
SUMMARY:Rim to River 100 Mile Race
DESCRIPTION:100 miles of wild & wonderful through the heart of New River Gorge National Park\, the Rim to River 100 is the first & only 100 mile trail race in West Virginia. This out and back course consists of winding single track & rail-to-trail\, traversing multiple times from the rim of the Gorge to down along the banks of the New River. Along with the natural beauty of waterfalls\, whitewater\, & dramatic views\, you’ll also find ghost towns\, centuries old cemeteries\, & abandoned mine shafts throughout the course. Come experience the New River Gorge like few others have.rim
URL:https://visitfayettevillewv.com/event/rim-to-river-100-mile-race/
LOCATION:New River Gorge\, Lansing\, WV\, 25862\, United States
CATEGORIES:Activities,Competition, Contest, etc.,Run/Walk
ATTACH;FMTTYPE=image/jpeg:https://visitfayettevillewv.com/wp-content/uploads/2024/01/Rim-to-River-100.jpg
ORGANIZER;CN="ACE Adventure Resort":MAILTO:ace@aceraft.com
GEO:37.819752;-81.189445
END:VEVENT
BEGIN:VEVENT
DTSTART;VALUE=DATE:20261204
DTEND;VALUE=DATE:20261207
DTSTAMP:20260424T165829
CREATED:20251213T161536Z
LAST-MODIFIED:20251213T161536Z
UID:10009464-1796342400-1796601599@visitfayettevillewv.com
SUMMARY:Fayetteville’s Gingerbread Festival
DESCRIPTION:Fayetteville’s Gingerbread Festival\nDecember 4–6\, 2026 | Downtown Fayetteville\, WV \nNestled in the picturesque mountains of West Virginia\, Fayetteville’s Gingerbread Festival invites you to step back in time and celebrate the holidays with small-town flair. Each December\, our historic downtown is transformed into a whimsical candy land filled with gingerbread décor\, twinkling lights\, and festive cheer. Escape the hustle and bustle of the season and enjoy a magical holiday getaway with your family. \nCome for the gingerbread\, stay for the holiday magic! Whether you’re joining us for the parade\, shopping for unique gifts\, or savoring gingerbread treats\, the Fayetteville Gingerbread Festival is the perfect way to celebrate the season. \n  \n  \n 
URL:https://visitfayettevillewv.com/event/fayettevilles-gingerbread-festival/
LOCATION:Downtown Fayetteville\, Fayetteville\, WV\, 25840\, United States
CATEGORIES:Activities,Art,Competition, Contest, etc.,Dining / Food,Events,Festival,Kids activity,Music,Shopping,Theater show
ATTACH;FMTTYPE=image/jpeg:https://visitfayettevillewv.com/wp-content/uploads/2024/03/Gingerbread.jpg
ORGANIZER;CN="Town of Fayetteville":MAILTO:town@fayettevillewv.gov
GEO:38.05279;-81.103771
END:VEVENT
BEGIN:VEVENT
DTSTART;TZID=America/New_York:20261206T163000
DTEND;TZID=America/New_York:20261206T190000
DTSTAMP:20260424T165829
CREATED:20251227T161136Z
LAST-MODIFIED:20251227T161136Z
UID:10009813-1796574600-1796583600@visitfayettevillewv.com
SUMMARY:Ugly Sweater Fun Run/Walk
DESCRIPTION:Experience the Winter Wonderland light display at Fayette County Park while walking or running at your own pace. Participants are welcome to complete as many laps as they’d like during the one-hour event. This is not a timed race. \nThe event is stroller-friendly and designed for all ages. Children 12 and under attend for free\, and the cost for adults is $10 per person (cash or sign up online beforehand). \nGuests are encouraged to wear festive attire and join in the fun of the Ugly Sweater and Deck the Stroller contests\, with a lighthearted runway and photo opportunity during the evening. \nJoin us for a unique\, active\, and family-friendly holiday experience.
URL:https://visitfayettevillewv.com/event/ugly-sweater-fun-run-walk-2/
LOCATION:Fayette County Park\, Fayetteville\, WV\, 25840\, United States
CATEGORIES:Activities,Competition, Contest, etc.,Events,Fundraiser,Kids activity
ATTACH;FMTTYPE=image/png:https://visitfayettevillewv.com/wp-content/uploads/2025/05/Ugly-Sweater-walk.png
ORGANIZER;CN="Active Southern West Virginia":MAILTO:hello@activeswv.com
END:VEVENT
END:VCALENDAR