BEGIN:VCALENDAR
VERSION:2.0
PRODID:-//Visit Fayetteville WV - ECPv6.15.20//NONSGML v1.0//EN
CALSCALE:GREGORIAN
METHOD:PUBLISH
X-ORIGINAL-URL:https://visitfayettevillewv.com
X-WR-CALDESC:Events for Visit Fayetteville WV
REFRESH-INTERVAL;VALUE=DURATION:PT1H
X-Robots-Tag:noindex
X-PUBLISHED-TTL:PT1H
BEGIN:VTIMEZONE
TZID:America/New_York
BEGIN:DAYLIGHT
TZOFFSETFROM:-0500
TZOFFSETTO:-0400
TZNAME:EDT
DTSTART:20250309T070000
END:DAYLIGHT
BEGIN:STANDARD
TZOFFSETFROM:-0400
TZOFFSETTO:-0500
TZNAME:EST
DTSTART:20251102T060000
END:STANDARD
BEGIN:DAYLIGHT
TZOFFSETFROM:-0500
TZOFFSETTO:-0400
TZNAME:EDT
DTSTART:20260308T070000
END:DAYLIGHT
BEGIN:STANDARD
TZOFFSETFROM:-0400
TZOFFSETTO:-0500
TZNAME:EST
DTSTART:20261101T060000
END:STANDARD
BEGIN:DAYLIGHT
TZOFFSETFROM:-0500
TZOFFSETTO:-0400
TZNAME:EDT
DTSTART:20270314T070000
END:DAYLIGHT
BEGIN:STANDARD
TZOFFSETFROM:-0400
TZOFFSETTO:-0500
TZNAME:EST
DTSTART:20271107T060000
END:STANDARD
END:VTIMEZONE
BEGIN:VEVENT
DTSTART;TZID=America/New_York:20260411T130000
DTEND;TZID=America/New_York:20260411T200000
DTSTAMP:20260424T154107
CREATED:20260411T180118Z
LAST-MODIFIED:20260411T180118Z
UID:10011144-1775912400-1775937600@visitfayettevillewv.com
SUMMARY:Ru's at Bridge Brew Works
DESCRIPTION:Ru’s is on site today (4/11) serving up wholesome Andean goodness. Wash it all down with a pint of your favorite brew (or non brew)!
URL:https://visitfayettevillewv.com/event/rus-at-bridge-brew-works/
LOCATION:Bridge Brew Works\, 335 Nick Rahall Greenway\, Fayetteville\, WV\, 25840\, United States
CATEGORIES:Activities,Beer, wine, cocktails, etc.,Dining / Food
ATTACH;FMTTYPE=image/jpeg:https://visitfayettevillewv.com/wp-content/uploads/2026/04/Rus-BBW.jpg
ORGANIZER;CN="Bridge Brew Works":MAILTO:bridgebrewworks@gmail.com
END:VEVENT
BEGIN:VEVENT
DTSTART;TZID=America/New_York:20260411T180000
DTEND;TZID=America/New_York:20260411T210000
DTSTAMP:20260424T154107
CREATED:20251206T172620Z
LAST-MODIFIED:20251206T172736Z
UID:10009430-1775930400-1775941200@visitfayettevillewv.com
SUMMARY:Marriage\, Mob\, & Murder! Mystery Dinner
DESCRIPTION:The daughter of the Balconi Mob Family is marrying the son of the Stiletto Mob Family. When the body of young Tony Stiletto is found riddled with bullets in his car on the way to the church\, the two families decide to head to the reception to make sense of the violence. Soon\, both families begin pointing fingers at one another and more violence emerges. It’s Romeo & Juliet – Mob Style! Join us for a night of music\, murder\, mystery and dinner at ACE Adventure Resort. \nDinner Menu includes Carved Roast Beef\, Chicken Alfredo\, Roasted Red Potatoes\, Fresh Asparagus\, Dinner Rolls & Red Velvet Cake. Plus light appetizers and salad bar.
URL:https://visitfayettevillewv.com/event/marriage-mob-murder-mystery-dinner/
LOCATION:The Lost Paddle\, 2 Concho Rd\, Oak Hill\, WV\, 25901\, United States
CATEGORIES:Activities,Beer, wine, cocktails, etc.,Dining / Food,Theater show
ATTACH;FMTTYPE=image/jpeg:https://visitfayettevillewv.com/wp-content/uploads/2025/12/marriage-mob-murder-Hero-opt-900x547-1.jpeg
ORGANIZER;CN="ACE Adventure Resort":MAILTO:ace@aceraft.com
END:VEVENT
END:VCALENDAR