BEGIN:VCALENDAR
VERSION:2.0
PRODID:-//Visit Fayetteville WV - ECPv6.15.20//NONSGML v1.0//EN
CALSCALE:GREGORIAN
METHOD:PUBLISH
X-ORIGINAL-URL:https://visitfayettevillewv.com
X-WR-CALDESC:Events for Visit Fayetteville WV
REFRESH-INTERVAL;VALUE=DURATION:PT1H
X-Robots-Tag:noindex
X-PUBLISHED-TTL:PT1H
BEGIN:VTIMEZONE
TZID:America/New_York
BEGIN:DAYLIGHT
TZOFFSETFROM:-0500
TZOFFSETTO:-0400
TZNAME:EDT
DTSTART:20250309T070000
END:DAYLIGHT
BEGIN:STANDARD
TZOFFSETFROM:-0400
TZOFFSETTO:-0500
TZNAME:EST
DTSTART:20251102T060000
END:STANDARD
BEGIN:DAYLIGHT
TZOFFSETFROM:-0500
TZOFFSETTO:-0400
TZNAME:EDT
DTSTART:20260308T070000
END:DAYLIGHT
BEGIN:STANDARD
TZOFFSETFROM:-0400
TZOFFSETTO:-0500
TZNAME:EST
DTSTART:20261101T060000
END:STANDARD
BEGIN:DAYLIGHT
TZOFFSETFROM:-0500
TZOFFSETTO:-0400
TZNAME:EDT
DTSTART:20270314T070000
END:DAYLIGHT
BEGIN:STANDARD
TZOFFSETFROM:-0400
TZOFFSETTO:-0500
TZNAME:EST
DTSTART:20271107T060000
END:STANDARD
END:VTIMEZONE
BEGIN:VEVENT
DTSTART;TZID=America/New_York:20260512T160000
DTEND;TZID=America/New_York:20260512T210000
DTSTAMP:20260424T172039
CREATED:20260418T145415Z
LAST-MODIFIED:20260418T145415Z
UID:10011153-1778601600-1778619600@visitfayettevillewv.com
SUMMARY:Dine & Donate Night at Pies & Pints
DESCRIPTION:Join us for a delicious way to give back!\nOn May 12 from 4–9pm\, Pies & Pints will donate 15% of all food sales to support Friends of New River Gorge National Park and Preserve.\nDine in or grab takeout — every meal makes a difference!Alcohol is not included in the donation.\nBring your friends\, family\, and appetite\, and help us turn great food into meaningful impact for our community.\nPies & PintsMay 12 | 4–9 PM\nWe hope to see you there!
URL:https://visitfayettevillewv.com/event/dine-donate-night-at-pies-pints/
LOCATION:Pies & Pints\, 219 W Maple Ave\, Fayetteville\, WV\, 25840\, United States
CATEGORIES:Activities,Beer, wine, cocktails, etc.,Dining / Food,Fundraiser
ATTACH;FMTTYPE=image/jpeg:https://visitfayettevillewv.com/wp-content/uploads/2026/04/Dine-Donate.jpg
END:VEVENT
END:VCALENDAR