BEGIN:VCALENDAR
VERSION:2.0
PRODID:-//Visit Fayetteville WV - ECPv6.15.20//NONSGML v1.0//EN
CALSCALE:GREGORIAN
METHOD:PUBLISH
X-WR-CALNAME:Visit Fayetteville WV
X-ORIGINAL-URL:https://visitfayettevillewv.com
X-WR-CALDESC:Events for Visit Fayetteville WV
REFRESH-INTERVAL;VALUE=DURATION:PT1H
X-Robots-Tag:noindex
X-PUBLISHED-TTL:PT1H
BEGIN:VTIMEZONE
TZID:America/New_York
BEGIN:DAYLIGHT
TZOFFSETFROM:-0500
TZOFFSETTO:-0400
TZNAME:EDT
DTSTART:20250309T070000
END:DAYLIGHT
BEGIN:STANDARD
TZOFFSETFROM:-0400
TZOFFSETTO:-0500
TZNAME:EST
DTSTART:20251102T060000
END:STANDARD
BEGIN:DAYLIGHT
TZOFFSETFROM:-0500
TZOFFSETTO:-0400
TZNAME:EDT
DTSTART:20260308T070000
END:DAYLIGHT
BEGIN:STANDARD
TZOFFSETFROM:-0400
TZOFFSETTO:-0500
TZNAME:EST
DTSTART:20261101T060000
END:STANDARD
BEGIN:DAYLIGHT
TZOFFSETFROM:-0500
TZOFFSETTO:-0400
TZNAME:EDT
DTSTART:20270314T070000
END:DAYLIGHT
BEGIN:STANDARD
TZOFFSETFROM:-0400
TZOFFSETTO:-0500
TZNAME:EST
DTSTART:20271107T060000
END:STANDARD
END:VTIMEZONE
BEGIN:VEVENT
DTSTART;VALUE=DATE:20260611
DTEND;VALUE=DATE:20260615
DTSTAMP:20260424T204431
CREATED:20250913T160530Z
LAST-MODIFIED:20250913T160658Z
UID:10008465-1781136000-1781481599@visitfayettevillewv.com
SUMMARY:Waynestock Outdoor Adventure and Music Festival
DESCRIPTION:Adventure by Day – Live Music at NightHeld in the New River Gorge\, West Virginia
URL:https://visitfayettevillewv.com/event/waynestock/
LOCATION:New River Gorge\, Lansing\, WV\, 25862\, United States
CATEGORIES:Activities,Beer, wine, cocktails, etc.,Dining / Food,Events,Festival,Music,Rafting, Kayaking, etc.
ATTACH;FMTTYPE=image/jpeg:https://visitfayettevillewv.com/wp-content/uploads/2024/01/Waynestock.jpg
ORGANIZER;CN="Waynestock Outdoor Adventure and Music Festival":MAILTO:wayne@waynestock.com
GEO:37.819752;-81.189445
END:VEVENT
BEGIN:VEVENT
DTSTART;TZID=America/New_York:20260611T140000
DTEND;TZID=America/New_York:20260611T180000
DTSTAMP:20260424T204431
CREATED:20251129T172714Z
LAST-MODIFIED:20251129T172714Z
UID:10009125-1781186400-1781200800@visitfayettevillewv.com
SUMMARY:Fayette County Farmer's Market
DESCRIPTION:We offer fresh produce grown in Fayette County\, West Virginia and the New River Gorge region to residents and visitors to our area. Visit our two market locations and browse a range of local vegetables\, meats\, baked goods and pastries. We’re also joined at the market by local artisans and craftspeople who create a variety of arts\, crafts and products created from
URL:https://visitfayettevillewv.com/event/fayette-county-farmers-market-2/2026-06-11/
LOCATION:West Virginia Department of Health and Human Resources\, 1400 Virginia St\, Oak Hill\, 25901\, United States
CATEGORIES:Activities,Art,Dining / Food,Shopping
ATTACH;FMTTYPE=image/jpeg:https://visitfayettevillewv.com/wp-content/uploads/2025/11/Farmers-Market.jpg
ORGANIZER;CN="Fayette County Farmer's Market":MAILTO:fayettecofarmersmarket07@yahoo.com
END:VEVENT
BEGIN:VEVENT
DTSTART;TZID=America/New_York:20260611T180000
DTEND;TZID=America/New_York:20260611T210000
DTSTAMP:20260424T204431
CREATED:20260314T151704Z
LAST-MODIFIED:20260314T151704Z
UID:10010916-1781200800-1781211600@visitfayettevillewv.com
SUMMARY:Nick Savage LIVE @ Southside!
DESCRIPTION: Live Music at Southside Junction Tap House: Nick Savage \nJoin us on Thursday June 11th for an unforgettable night with Nick Savage\, an Appalachian singer-songwriter\, as he takes the stage with nothing but his trusted acoustic guitar.\nNick’s music tells stories of blue-collar life\, love\, loss\, and the wild adventures he’s had along the way\, all delivered through his signature “Four chords and the truth” style. Expect simple\, yet powerful lyrics that resonate with anyone who’s ever lived life to the fullest.\nBut the fun doesn’t stop there! Nick will also put his own spin on some classic Rock\, Country\, and Folk hits. Add in a few one-liner jokes\, killer drink specials\, and a relaxed atmosphere\, and you’ve got the recipe for a perfect evening out.\nSo grab a cold beer or a whiskey\, sit back\, and let the music and good vibes roll. Don’t miss Nick Savage\, the Appalachian storyteller\, live at Southside Junction Tap House! 
URL:https://visitfayettevillewv.com/event/nick-savage-live-southside/
LOCATION:Southside Junction Tap House\, 101 N Court St\, Fayetteville\, WV\, 25840\, United States
CATEGORIES:Activities,Beer, wine, cocktails, etc.,Dining / Food,Music
ATTACH;FMTTYPE=image/jpeg:https://visitfayettevillewv.com/wp-content/uploads/2026/03/Nick-Savage-SS.jpg
ORGANIZER;CN="Southside Junction Tap House":MAILTO:SJTaphouse@gmail.com
GEO:38.05279;-81.103771
X-APPLE-STRUCTURED-LOCATION;VALUE=URI;X-ADDRESS=Southside Junction Tap House 101 N Court St Fayetteville WV 25840 United States;X-APPLE-RADIUS=500;X-TITLE=101 N Court St:geo:-81.103771,38.05279
END:VEVENT
END:VCALENDAR