BEGIN:VCALENDAR
VERSION:2.0
PRODID:-//Visit Fayetteville WV - ECPv6.15.20//NONSGML v1.0//EN
CALSCALE:GREGORIAN
METHOD:PUBLISH
X-ORIGINAL-URL:https://visitfayettevillewv.com
X-WR-CALDESC:Events for Visit Fayetteville WV
REFRESH-INTERVAL;VALUE=DURATION:PT1H
X-Robots-Tag:noindex
X-PUBLISHED-TTL:PT1H
BEGIN:VTIMEZONE
TZID:America/New_York
BEGIN:DAYLIGHT
TZOFFSETFROM:-0500
TZOFFSETTO:-0400
TZNAME:EDT
DTSTART:20250309T070000
END:DAYLIGHT
BEGIN:STANDARD
TZOFFSETFROM:-0400
TZOFFSETTO:-0500
TZNAME:EST
DTSTART:20251102T060000
END:STANDARD
BEGIN:DAYLIGHT
TZOFFSETFROM:-0500
TZOFFSETTO:-0400
TZNAME:EDT
DTSTART:20260308T070000
END:DAYLIGHT
BEGIN:STANDARD
TZOFFSETFROM:-0400
TZOFFSETTO:-0500
TZNAME:EST
DTSTART:20261101T060000
END:STANDARD
BEGIN:DAYLIGHT
TZOFFSETFROM:-0500
TZOFFSETTO:-0400
TZNAME:EDT
DTSTART:20270314T070000
END:DAYLIGHT
BEGIN:STANDARD
TZOFFSETFROM:-0400
TZOFFSETTO:-0500
TZNAME:EST
DTSTART:20271107T060000
END:STANDARD
END:VTIMEZONE
BEGIN:VEVENT
DTSTART;TZID=America/New_York:20260619T180000
DTEND;TZID=America/New_York:20260621T100000
DTSTAMP:20260424T204904
CREATED:20260309T165817Z
LAST-MODIFIED:20260309T165817Z
UID:10010899-1781892000-1782036000@visitfayettevillewv.com
SUMMARY:Fayetteville Pride Summer Camp 2026
DESCRIPTION:Fayetteville Pride is back and this year we’re trying something a little different.\nPride Summer Camp is happening at The Outpost NRG – think daytime camp vibes with music\, vendors\, games\, crafts\, and a big late-night dance party.\nWhat to expect:\n• live music• drag performances• local vendors and food trucks• kickball and camp-style games• crafts and hangout spaces• s’mores and camp vibes• 10 PM → 21+ DJ dance party\nThis event is all ages during the day.\nTickets will be sold through The Outpost NRG\nIf you want to help make it happen\, or participate:\nVolunteer:https://forms.gle/MmChUH9BpPyKeJRd7\nVendor or food truck:https://forms.gle/vvh1HFsopoFR15Lr7\nSponsor the event:https://forms.gle/n319stPhRUPjXToH6\nQuestions:fayettevillepridewv@gmail.com\nMore details and lineup announcements coming soon.\nInvite your friends and save the date.
URL:https://visitfayettevillewv.com/event/fayetteville-pride-summer-camp-2026/
LOCATION:The Outpost – New River Gorge Campground\, 843 Fayette Station Rd\, Fayetteville\, WV\, 25840\, United States
CATEGORIES:Activities,Arts and Crafts,Camp,Dance,Dining / Food,Events,Music,Shopping,Sports,Volunteer
ATTACH;FMTTYPE=image/jpeg:https://visitfayettevillewv.com/wp-content/uploads/2026/03/Pride-summer-camp.jpg
GEO:38.058218;-81.095024
X-APPLE-STRUCTURED-LOCATION;VALUE=URI;X-ADDRESS=The Outpost – New River Gorge Campground 843 Fayette Station Rd Fayetteville WV 25840 United States;X-APPLE-RADIUS=500;X-TITLE=843 Fayette Station Rd:geo:-81.095024,38.058218
END:VEVENT
END:VCALENDAR