BEGIN:VCALENDAR
VERSION:2.0
PRODID:-//Visit Fayetteville WV - ECPv6.15.20//NONSGML v1.0//EN
CALSCALE:GREGORIAN
METHOD:PUBLISH
X-WR-CALNAME:Visit Fayetteville WV
X-ORIGINAL-URL:https://visitfayettevillewv.com
X-WR-CALDESC:Events for Visit Fayetteville WV
REFRESH-INTERVAL;VALUE=DURATION:PT1H
X-Robots-Tag:noindex
X-PUBLISHED-TTL:PT1H
BEGIN:VTIMEZONE
TZID:America/New_York
BEGIN:DAYLIGHT
TZOFFSETFROM:-0500
TZOFFSETTO:-0400
TZNAME:EDT
DTSTART:20250309T070000
END:DAYLIGHT
BEGIN:STANDARD
TZOFFSETFROM:-0400
TZOFFSETTO:-0500
TZNAME:EST
DTSTART:20251102T060000
END:STANDARD
BEGIN:DAYLIGHT
TZOFFSETFROM:-0500
TZOFFSETTO:-0400
TZNAME:EDT
DTSTART:20260308T070000
END:DAYLIGHT
BEGIN:STANDARD
TZOFFSETFROM:-0400
TZOFFSETTO:-0500
TZNAME:EST
DTSTART:20261101T060000
END:STANDARD
BEGIN:DAYLIGHT
TZOFFSETFROM:-0500
TZOFFSETTO:-0400
TZNAME:EDT
DTSTART:20270314T070000
END:DAYLIGHT
BEGIN:STANDARD
TZOFFSETFROM:-0400
TZOFFSETTO:-0500
TZNAME:EST
DTSTART:20271107T060000
END:STANDARD
END:VTIMEZONE
BEGIN:VEVENT
DTSTART;TZID=America/New_York:20260619T180000
DTEND;TZID=America/New_York:20260621T100000
DTSTAMP:20260424T204349
CREATED:20260309T165817Z
LAST-MODIFIED:20260309T165817Z
UID:10010899-1781892000-1782036000@visitfayettevillewv.com
SUMMARY:Fayetteville Pride Summer Camp 2026
DESCRIPTION:Fayetteville Pride is back and this year we’re trying something a little different.\nPride Summer Camp is happening at The Outpost NRG – think daytime camp vibes with music\, vendors\, games\, crafts\, and a big late-night dance party.\nWhat to expect:\n• live music• drag performances• local vendors and food trucks• kickball and camp-style games• crafts and hangout spaces• s’mores and camp vibes• 10 PM → 21+ DJ dance party\nThis event is all ages during the day.\nTickets will be sold through The Outpost NRG\nIf you want to help make it happen\, or participate:\nVolunteer:https://forms.gle/MmChUH9BpPyKeJRd7\nVendor or food truck:https://forms.gle/vvh1HFsopoFR15Lr7\nSponsor the event:https://forms.gle/n319stPhRUPjXToH6\nQuestions:fayettevillepridewv@gmail.com\nMore details and lineup announcements coming soon.\nInvite your friends and save the date.
URL:https://visitfayettevillewv.com/event/fayetteville-pride-summer-camp-2026/
LOCATION:The Outpost – New River Gorge Campground\, 843 Fayette Station Rd\, Fayetteville\, WV\, 25840\, United States
CATEGORIES:Activities,Arts and Crafts,Camp,Dance,Dining / Food,Events,Music,Shopping,Sports,Volunteer
ATTACH;FMTTYPE=image/jpeg:https://visitfayettevillewv.com/wp-content/uploads/2026/03/Pride-summer-camp.jpg
GEO:38.058218;-81.095024
X-APPLE-STRUCTURED-LOCATION;VALUE=URI;X-ADDRESS=The Outpost – New River Gorge Campground 843 Fayette Station Rd Fayetteville WV 25840 United States;X-APPLE-RADIUS=500;X-TITLE=843 Fayette Station Rd:geo:-81.095024,38.058218
END:VEVENT
BEGIN:VEVENT
DTSTART;TZID=America/New_York:20260620T080000
DTEND;TZID=America/New_York:20260620T123000
DTSTAMP:20260424T204349
CREATED:20251129T171622Z
LAST-MODIFIED:20251129T171622Z
UID:10009073-1781942400-1781958600@visitfayettevillewv.com
SUMMARY:Fayette County Farmer's Market
DESCRIPTION:We offer fresh produce grown in Fayette County\, West Virginia and the New River Gorge region to residents and visitors to our area. Visit our two market locations and browse a range of local vegetables\, meats\, baked goods and pastries. We’re also joined at the market by local artisans and craftspeople who create a variety of arts\, crafts and products created from
URL:https://visitfayettevillewv.com/event/fayette-county-farmers-market/2026-06-20/
LOCATION:Downtown Fayetteville\, Fayetteville\, WV\, 25840\, United States
CATEGORIES:Activities,Art,Dining / Food,Shopping
ATTACH;FMTTYPE=image/jpeg:https://visitfayettevillewv.com/wp-content/uploads/2025/11/Farmers-Market.jpg
ORGANIZER;CN="Fayette County Farmer's Market":MAILTO:fayettecofarmersmarket07@yahoo.com
GEO:38.05279;-81.103771
END:VEVENT
BEGIN:VEVENT
DTSTART;TZID=America/New_York:20260620T090000
DTEND;TZID=America/New_York:20260620T210000
DTSTAMP:20260424T204349
CREATED:20251206T180537Z
LAST-MODIFIED:20251206T180537Z
UID:10009436-1781946000-1781989200@visitfayettevillewv.com
SUMMARY:Gritty Chix Mud Run
DESCRIPTION:Get ready to get down and dirty at the Gritty Chix Mud Run on Saturday\, June 20th at ACE Adventure Resort! This wildly fun\, non-competitive mud run is perfect for all women (and girls ages 10+) who want to embrace their gritty side. Whether you’re walking\, jogging\, or charging through the course\, you’ll tackle obstacles\, splash through mud pits\, and have a blast with your friends while celebrating strength\, confidence\, and fun! \nNo matter your fitness level\, this event is all about camaraderie\, laughter\, and finishing strong—muddy smiles guaranteed. \nEvent Highlights: \n\nA mud-splattered\, obstacle-filled course for all skill levels\nFun team atmosphere – bring your crew!\nPost-run party and music at ACE Adventure Resort\nSupport a great cause while having a great time\n\n  \nJoin us for an unforgettable day of grit\, mud\, and fun—all while giving back to the community! Are you ready to get gritty? Gritty Chix supports an awesome organization every year with a portion of the proceeds benefiting a great cause. Stay tuned to see who we are partnering with this year.
URL:https://visitfayettevillewv.com/event/gritty-chix-mud-run-2/
LOCATION:ACE Adventure Resort\, 1 Concho Rd\, Oak Hill\, WV\, 25901\, United States
CATEGORIES:Activities,Beer, wine, cocktails, etc.,Competition, Contest, etc.,Dining / Food,Events,Music,Run/Walk
ATTACH;FMTTYPE=image/jpeg:https://visitfayettevillewv.com/wp-content/uploads/2025/12/gritty-chicks.jpg
ORGANIZER;CN="ACE Adventure Resort":MAILTO:ace@aceraft.com
GEO:37.993723;-81.132325
X-APPLE-STRUCTURED-LOCATION;VALUE=URI;X-ADDRESS=ACE Adventure Resort 1 Concho Rd Oak Hill WV 25901 United States;X-APPLE-RADIUS=500;X-TITLE=1 Concho Rd:geo:-81.132325,37.993723
END:VEVENT
END:VCALENDAR