BEGIN:VCALENDAR
VERSION:2.0
PRODID:-//Visit Fayetteville WV - ECPv6.15.20//NONSGML v1.0//EN
CALSCALE:GREGORIAN
METHOD:PUBLISH
X-WR-CALNAME:Visit Fayetteville WV
X-ORIGINAL-URL:https://visitfayettevillewv.com
X-WR-CALDESC:Events for Visit Fayetteville WV
REFRESH-INTERVAL;VALUE=DURATION:PT1H
X-Robots-Tag:noindex
X-PUBLISHED-TTL:PT1H
BEGIN:VTIMEZONE
TZID:America/New_York
BEGIN:DAYLIGHT
TZOFFSETFROM:-0500
TZOFFSETTO:-0400
TZNAME:EDT
DTSTART:20250309T070000
END:DAYLIGHT
BEGIN:STANDARD
TZOFFSETFROM:-0400
TZOFFSETTO:-0500
TZNAME:EST
DTSTART:20251102T060000
END:STANDARD
BEGIN:DAYLIGHT
TZOFFSETFROM:-0500
TZOFFSETTO:-0400
TZNAME:EDT
DTSTART:20260308T070000
END:DAYLIGHT
BEGIN:STANDARD
TZOFFSETFROM:-0400
TZOFFSETTO:-0500
TZNAME:EST
DTSTART:20261101T060000
END:STANDARD
BEGIN:DAYLIGHT
TZOFFSETFROM:-0500
TZOFFSETTO:-0400
TZNAME:EDT
DTSTART:20270314T070000
END:DAYLIGHT
BEGIN:STANDARD
TZOFFSETFROM:-0400
TZOFFSETTO:-0500
TZNAME:EST
DTSTART:20271107T060000
END:STANDARD
END:VTIMEZONE
BEGIN:VEVENT
DTSTART;TZID=America/New_York:20260725T080000
DTEND;TZID=America/New_York:20260725T123000
DTSTAMP:20260424T204451
CREATED:20251129T171622Z
LAST-MODIFIED:20251129T171622Z
UID:10009078-1784966400-1784982600@visitfayettevillewv.com
SUMMARY:Fayette County Farmer's Market
DESCRIPTION:We offer fresh produce grown in Fayette County\, West Virginia and the New River Gorge region to residents and visitors to our area. Visit our two market locations and browse a range of local vegetables\, meats\, baked goods and pastries. We’re also joined at the market by local artisans and craftspeople who create a variety of arts\, crafts and products created from
URL:https://visitfayettevillewv.com/event/fayette-county-farmers-market/2026-07-25/
LOCATION:Downtown Fayetteville\, Fayetteville\, WV\, 25840\, United States
CATEGORIES:Activities,Art,Dining / Food,Shopping
ATTACH;FMTTYPE=image/jpeg:https://visitfayettevillewv.com/wp-content/uploads/2025/11/Farmers-Market.jpg
ORGANIZER;CN="Fayette County Farmer's Market":MAILTO:fayettecofarmersmarket07@yahoo.com
GEO:38.05279;-81.103771
END:VEVENT
END:VCALENDAR