BEGIN:VCALENDAR
VERSION:2.0
PRODID:-//Visit Fayetteville WV - ECPv6.15.20//NONSGML v1.0//EN
CALSCALE:GREGORIAN
METHOD:PUBLISH
X-ORIGINAL-URL:https://visitfayettevillewv.com
X-WR-CALDESC:Events for Visit Fayetteville WV
REFRESH-INTERVAL;VALUE=DURATION:PT1H
X-Robots-Tag:noindex
X-PUBLISHED-TTL:PT1H
BEGIN:VTIMEZONE
TZID:America/New_York
BEGIN:DAYLIGHT
TZOFFSETFROM:-0500
TZOFFSETTO:-0400
TZNAME:EDT
DTSTART:20250309T070000
END:DAYLIGHT
BEGIN:STANDARD
TZOFFSETFROM:-0400
TZOFFSETTO:-0500
TZNAME:EST
DTSTART:20251102T060000
END:STANDARD
BEGIN:DAYLIGHT
TZOFFSETFROM:-0500
TZOFFSETTO:-0400
TZNAME:EDT
DTSTART:20260308T070000
END:DAYLIGHT
BEGIN:STANDARD
TZOFFSETFROM:-0400
TZOFFSETTO:-0500
TZNAME:EST
DTSTART:20261101T060000
END:STANDARD
BEGIN:DAYLIGHT
TZOFFSETFROM:-0500
TZOFFSETTO:-0400
TZNAME:EDT
DTSTART:20270314T070000
END:DAYLIGHT
BEGIN:STANDARD
TZOFFSETFROM:-0400
TZOFFSETTO:-0500
TZNAME:EST
DTSTART:20271107T060000
END:STANDARD
END:VTIMEZONE
BEGIN:VEVENT
DTSTART;TZID=America/New_York:20260704T180000
DTEND;TZID=America/New_York:20260704T210000
DTSTAMP:20260419T145145
CREATED:20260321T183937Z
LAST-MODIFIED:20260321T183937Z
UID:10011082-1783188000-1783198800@visitfayettevillewv.com
SUMMARY:Black Light Satellite Band at Town Park
DESCRIPTION:
URL:https://visitfayettevillewv.com/event/black-light-satellite-band-at-town-park/
LOCATION:Fayetteville Town Park\, Park Dr\, Fayetteville\, WV\, 25840\, United States
CATEGORIES:Activities,Events,Festival,Music
ATTACH;FMTTYPE=image/jpeg:https://visitfayettevillewv.com/wp-content/uploads/2026/03/Music.jpg
ORGANIZER;CN="Town of Fayetteville":MAILTO:town@fayettevillewv.gov
GEO:38.05507;-81.09871
X-APPLE-STRUCTURED-LOCATION;VALUE=URI;X-ADDRESS=Fayetteville Town Park Park Dr Fayetteville WV 25840 United States;X-APPLE-RADIUS=500;X-TITLE=Park Dr:geo:-81.09871,38.05507
END:VEVENT
BEGIN:VEVENT
DTSTART;TZID=America/New_York:20260704T210000
DTEND;TZID=America/New_York:20260704T220000
DTSTAMP:20260419T145145
CREATED:20260321T184201Z
LAST-MODIFIED:20260321T184201Z
UID:10011083-1783198800-1783202400@visitfayettevillewv.com
SUMMARY:4th of July Fireworks in Fayetteville Town Park
DESCRIPTION:Begin at dusk
URL:https://visitfayettevillewv.com/event/4th-of-july-fireworks-in-fayetteville-town-park/
LOCATION:Fayetteville Town Park\, Park Dr\, Fayetteville\, WV\, 25840\, United States
CATEGORIES:Activities,Events,Festival,Kids activity
ATTACH;FMTTYPE=image/webp:https://visitfayettevillewv.com/wp-content/uploads/2023/04/fireworks.webp
ORGANIZER;CN="Town of Fayetteville":MAILTO:town@fayettevillewv.gov
GEO:38.05507;-81.09871
X-APPLE-STRUCTURED-LOCATION;VALUE=URI;X-ADDRESS=Fayetteville Town Park Park Dr Fayetteville WV 25840 United States;X-APPLE-RADIUS=500;X-TITLE=Park Dr:geo:-81.09871,38.05507
END:VEVENT
BEGIN:VEVENT
DTSTART;VALUE=DATE:20260731
DTEND;VALUE=DATE:20260802
DTSTAMP:20260419T145145
CREATED:20251213T164629Z
LAST-MODIFIED:20251213T164629Z
UID:10009469-1785456000-1785628799@visitfayettevillewv.com
SUMMARY:Boots in the Gorge Country Music Festival
DESCRIPTION:Get ready to kick up some dust and dance under the stars at Boots In The Gorge\, the newest country music festival in the heart of West Virginia’s New River Gorge! For two unforgettable days\, we’re bringing the best of country music to the mountaintop—featuring high-energy headliners\, rising Nashville stars\, and your favorite homegrown Appalachian talent. \nExperience the perfect blend of live music\, mountain views\, and good vibes with on-site camping\, delicious food and drink\, late-night campfire jams\, and the one-of-a-kind adventure atmosphere that only ACE Adventure Resort can offer. Spend your mornings exploring the gorge—whitewater rafting\, ziplining\, hiking\, and more—and your evenings singing along with thousands of country music fans as the sun sets over the mountains. \nWhether you love red dirt\, outlaw\, pop-country\, bluegrass\, or honky tonk—Boots In The Gorge is where country comes alive. Bring your boots\, your friends\, and your party spirit… this is the country music weekend you’ve been waiting for! Stay tuned for lineup and ticket information coming soon.
URL:https://visitfayettevillewv.com/event/boots-in-the-gorge-country-music-festival/
LOCATION:ACE Adventure Resort\, 1 Concho Rd\, Oak Hill\, WV\, 25901\, United States
CATEGORIES:Activities,Beer, wine, cocktails, etc.,Dance,Dining / Food,Events,Festival,Music,Music Festival
ATTACH;FMTTYPE=image/jpeg:https://visitfayettevillewv.com/wp-content/uploads/2025/12/Boots-in-the-Gorge.jpg
ORGANIZER;CN="ACE Adventure Resort":MAILTO:ace@aceraft.com
GEO:37.993723;-81.132325
X-APPLE-STRUCTURED-LOCATION;VALUE=URI;X-ADDRESS=ACE Adventure Resort 1 Concho Rd Oak Hill WV 25901 United States;X-APPLE-RADIUS=500;X-TITLE=1 Concho Rd:geo:-81.132325,37.993723
END:VEVENT
BEGIN:VEVENT
DTSTART;VALUE=DATE:20260806
DTEND;VALUE=DATE:20260809
DTSTAMP:20260419T145145
CREATED:20251206T182240Z
LAST-MODIFIED:20251206T182240Z
UID:10009439-1785974400-1786233599@visitfayettevillewv.com
SUMMARY:Domefest
DESCRIPTION:The flock is flying back to the mountaintop! Domefest returns to ACE Adventure Resort for a high-energy\, heart-full weekend in the New River Gorge—featuring three nights of Pigeons Playing Ping Pong and the ultimate Domie gathering in the mountains of West Virginia. Expect marathon jams\, surprise sit-ins\, and that signature Pigeons positivity echoing through the pines. \nBeyond the music\, Domefest is a full-on community experience: sunrise coffee with new friends\, art installations and live painting\, thoughtful workshops\, vendor village treasures\, and late-night grooves under a blanket of stars. Spend your days exploring ACE’s miles of trails and river overlooks\, or cool off at the lake and around the resort before the evening’s sonic lift-off. \nCountry Roads. Take Me Dome.
URL:https://visitfayettevillewv.com/event/domefest/
LOCATION:ACE Adventure Resort\, 1 Concho Rd\, Oak Hill\, WV\, 25901\, United States
CATEGORIES:Activities,Beer, wine, cocktails, etc.,Dining / Food,Events,Festival,Music,Music Festival
ATTACH;FMTTYPE=image/jpeg:https://visitfayettevillewv.com/wp-content/uploads/2025/12/Domefest-2026.jpg
ORGANIZER;CN="ACE Adventure Resort":MAILTO:ace@aceraft.com
GEO:37.993723;-81.132325
X-APPLE-STRUCTURED-LOCATION;VALUE=URI;X-ADDRESS=ACE Adventure Resort 1 Concho Rd Oak Hill WV 25901 United States;X-APPLE-RADIUS=500;X-TITLE=1 Concho Rd:geo:-81.132325,37.993723
END:VEVENT
BEGIN:VEVENT
DTSTART;VALUE=DATE:20260829
DTEND;VALUE=DATE:20260907
DTSTAMP:20260419T145145
CREATED:20250913T160013Z
LAST-MODIFIED:20250913T160013Z
UID:10008464-1787961600-1788739199@visitfayettevillewv.com
SUMMARY:Oak Leaf Festival
DESCRIPTION:Annual festival held on Main Street in Oak Hill\, West Virginia on Labor Day Weekend. Fun filled with activities for all ages.
URL:https://visitfayettevillewv.com/event/oak-leaf-festival-2/
LOCATION:Oak Hill\, Oak Hill\, WV\, 25901\, United States
CATEGORIES:Activities,Arts and Crafts,Dining / Food,Events,Festival,Kids activity,Music,Shopping
ATTACH;FMTTYPE=image/jpeg:https://visitfayettevillewv.com/wp-content/uploads/2024/01/Oak-Leaf.jpg
ORGANIZER;CN="Oak Leaf Festival":MAILTO:oakleaffestival@yahoo.com
GEO:38.190202;-81.392811
END:VEVENT
BEGIN:VEVENT
DTSTART;VALUE=DATE:20261010
DTEND;VALUE=DATE:20261012
DTSTAMP:20260419T145145
CREATED:20251129T175004Z
LAST-MODIFIED:20251129T175004Z
UID:10009146-1791590400-1791763199@visitfayettevillewv.com
SUMMARY:8th Annual Thunder in the Mountains Native American Powwow
DESCRIPTION:Come experience\, the culture\, the music\, the food and much much more\, 50/50 drawings\, handmade quilt raffle\, native storytelling\, basketweaving demos\, bring the kids to this educational event.\nFor more info contact: Buddy Aiken\n681 460 1990 or email: wvseneca222@gmail.com
URL:https://visitfayettevillewv.com/event/8th-annual-thunder-in-the-mountains-native-american-powwow/
LOCATION:Cantrell Ultimate Rafting\, 49 Cantrell Dr\, Fayetteville\, WV\, 25840\, United States
CATEGORIES:Activities,Dance,Dining / Food,Educational,Events,Festival,Kids activity,Music,Shopping
ATTACH;FMTTYPE=image/jpeg:https://visitfayettevillewv.com/wp-content/uploads/2025/11/Thunder-in-the-mountains.jpg
ORGANIZER;CN="Thunder in the Mountains":MAILTO:wvseneca222@gmail.com
GEO:38.016511;-81.059355
X-APPLE-STRUCTURED-LOCATION;VALUE=URI;X-ADDRESS=Cantrell Ultimate Rafting 49 Cantrell Dr Fayetteville WV 25840 United States;X-APPLE-RADIUS=500;X-TITLE=49 Cantrell Dr:geo:-81.059355,38.016511
END:VEVENT
BEGIN:VEVENT
DTSTART;TZID=America/New_York:20261017T090000
DTEND;TZID=America/New_York:20261017T150000
DTSTAMP:20260419T145145
CREATED:20251025T160131Z
LAST-MODIFIED:20251025T160131Z
UID:10008769-1792227600-1792249200@visitfayettevillewv.com
SUMMARY:BRIDGE DAY 2026
DESCRIPTION:Welcome to West Virginia’s largest single-day festival! Every third Saturday in October\, thousands of people gather on the New River Gorge Bridge in Fayetteville\, West Virginia to watch daredevils BASE jump into the Gorge below. You ready? \nThe excitement returns on October 17\, 2026\, as Bridge Day brings adrenaline-pumping action back to the New River Gorge.
URL:https://visitfayettevillewv.com/event/bridge-day-2026/
LOCATION:New River Gorge Bridge\, U.S. Hwy 19\, Fayetteville\, WV\, 25840\, United States
CATEGORIES:Activities,Events,Festival
ATTACH;FMTTYPE=image/png:https://visitfayettevillewv.com/wp-content/uploads/2023/08/BridgeJumper.png
ORGANIZER;CN="Official Bridge Day":MAILTO:bridgeday@officialbridgeday.com
GEO:37.819752;-81.189445
X-APPLE-STRUCTURED-LOCATION;VALUE=URI;X-ADDRESS=New River Gorge Bridge U.S. Hwy 19 Fayetteville WV 25840 United States;X-APPLE-RADIUS=500;X-TITLE=U.S. Hwy 19:geo:-81.189445,37.819752
END:VEVENT
BEGIN:VEVENT
DTSTART;VALUE=DATE:20261204
DTEND;VALUE=DATE:20261207
DTSTAMP:20260419T145145
CREATED:20251213T161536Z
LAST-MODIFIED:20251213T161536Z
UID:10009464-1796342400-1796601599@visitfayettevillewv.com
SUMMARY:Fayetteville’s Gingerbread Festival
DESCRIPTION:Fayetteville’s Gingerbread Festival\nDecember 4–6\, 2026 | Downtown Fayetteville\, WV \nNestled in the picturesque mountains of West Virginia\, Fayetteville’s Gingerbread Festival invites you to step back in time and celebrate the holidays with small-town flair. Each December\, our historic downtown is transformed into a whimsical candy land filled with gingerbread décor\, twinkling lights\, and festive cheer. Escape the hustle and bustle of the season and enjoy a magical holiday getaway with your family. \nCome for the gingerbread\, stay for the holiday magic! Whether you’re joining us for the parade\, shopping for unique gifts\, or savoring gingerbread treats\, the Fayetteville Gingerbread Festival is the perfect way to celebrate the season. \n  \n  \n 
URL:https://visitfayettevillewv.com/event/fayettevilles-gingerbread-festival/
LOCATION:Downtown Fayetteville\, Fayetteville\, WV\, 25840\, United States
CATEGORIES:Activities,Art,Competition, Contest, etc.,Dining / Food,Events,Festival,Kids activity,Music,Shopping,Theater show
ATTACH;FMTTYPE=image/jpeg:https://visitfayettevillewv.com/wp-content/uploads/2024/03/Gingerbread.jpg
ORGANIZER;CN="Town of Fayetteville":MAILTO:town@fayettevillewv.gov
GEO:38.05279;-81.103771
END:VEVENT
END:VCALENDAR