BEGIN:VCALENDAR
VERSION:2.0
PRODID:-//Visit Fayetteville WV - ECPv6.15.20//NONSGML v1.0//EN
CALSCALE:GREGORIAN
METHOD:PUBLISH
X-WR-CALNAME:Visit Fayetteville WV
X-ORIGINAL-URL:https://visitfayettevillewv.com
X-WR-CALDESC:Events for Visit Fayetteville WV
REFRESH-INTERVAL;VALUE=DURATION:PT1H
X-Robots-Tag:noindex
X-PUBLISHED-TTL:PT1H
BEGIN:VTIMEZONE
TZID:America/New_York
BEGIN:DAYLIGHT
TZOFFSETFROM:-0500
TZOFFSETTO:-0400
TZNAME:EDT
DTSTART:20250309T070000
END:DAYLIGHT
BEGIN:STANDARD
TZOFFSETFROM:-0400
TZOFFSETTO:-0500
TZNAME:EST
DTSTART:20251102T060000
END:STANDARD
BEGIN:DAYLIGHT
TZOFFSETFROM:-0500
TZOFFSETTO:-0400
TZNAME:EDT
DTSTART:20260308T070000
END:DAYLIGHT
BEGIN:STANDARD
TZOFFSETFROM:-0400
TZOFFSETTO:-0500
TZNAME:EST
DTSTART:20261101T060000
END:STANDARD
BEGIN:DAYLIGHT
TZOFFSETFROM:-0500
TZOFFSETTO:-0400
TZNAME:EDT
DTSTART:20270314T070000
END:DAYLIGHT
BEGIN:STANDARD
TZOFFSETFROM:-0400
TZOFFSETTO:-0500
TZNAME:EST
DTSTART:20271107T060000
END:STANDARD
END:VTIMEZONE
BEGIN:VEVENT
DTSTART;TZID=America/New_York:20260418T090000
DTEND;TZID=America/New_York:20260418T100000
DTSTAMP:20260419T131309
CREATED:20260321T173025Z
LAST-MODIFIED:20260321T173025Z
UID:10011030-1776502800-1776506400@visitfayettevillewv.com
SUMMARY:New River Yoga - River Soul Flow
DESCRIPTION:River Soul YogaRiver Soul Yoga is a grounding\, heart-centered practice designed to help you reconnect with your breath\, your body\, and your inner knowing. Like the river\, we move with strength and softness — flowing through intentional sequences that build warmth\, release tension\, and create space within.This class blends mindful energetic movement\, steady breathwork\, and moments of stillness at the end to leave you feeling balanced and renewed. Expect a supportive environment where you can show up exactly as you are — whether you’re building strength\, seeking clarity\, or simply carving out time for yourself.We’ll close each session with 10 minutes of immersive sound healing\, allowing the nervous system to soften and the body to fully absorb the practice. Crystal bowls and soothing tones will guide you into deep rest\, helping you leave feeling grounded\, open\, and restored.Come flow. Come breathe. Come back to your soul.Listen to the river sing sweet songs to rock my soul.
URL:https://visitfayettevillewv.com/event/new-river-yoga-river-soul-flow/2026-04-18/
LOCATION:New River Yoga Studio\, Fayetteville\, WV\, 25840\, United States
CATEGORIES:Activities,Health & Wellness
ATTACH;FMTTYPE=image/jpeg:https://visitfayettevillewv.com/wp-content/uploads/2024/06/New-River-Yoga.jpg
ORGANIZER;CN="New River Yoga":MAILTO:newriveryogaretreatwv@gmail.com
GEO:38.052391;-81.103196
END:VEVENT
BEGIN:VEVENT
DTSTART;TZID=America/New_York:20260418T090000
DTEND;TZID=America/New_York:20260418T110000
DTSTAMP:20260419T131309
CREATED:20260119T152309Z
LAST-MODIFIED:20260119T152309Z
UID:10010449-1776502800-1776510000@visitfayettevillewv.com
SUMMARY:OuterScope Ecotherapy
DESCRIPTION:This will be our first monthly ecotherapy session of 2026. This session will be an opportunity to tap into our intuition from ancestral DNA to be busier\, but stay focused on ourselves before society.
URL:https://visitfayettevillewv.com/event/outerscope-ecotherapy/
LOCATION:Fayetteville\, Fayetteville\, WV\, 25840\, United States
CATEGORIES:Activities,Educational,Health & Wellness
ATTACH;FMTTYPE=image/jpeg:https://visitfayettevillewv.com/wp-content/uploads/2026/01/Outerscope-Ecotherapy.jpg
GEO:37.755687;-81.153492
END:VEVENT
BEGIN:VEVENT
DTSTART;TZID=America/New_York:20260418T100000
DTEND;TZID=America/New_York:20260418T130000
DTSTAMP:20260419T131309
CREATED:20260228T165731Z
LAST-MODIFIED:20260228T165731Z
UID:10010866-1776506400-1776517200@visitfayettevillewv.com
SUMMARY:Advanced Arm Balance Yoga Workshop with Therapeutic Applications for Shoulders\, Elbows\, and Wrists
DESCRIPTION:Join Randy for an empowering and intelligently designed practice at Advanced Arm Balance Yoga Workshop with Therapeutic Applications for Shoulders\, Elbows\, and Wrists.\nWhen: Saturday\, April 18 | 10:00 AM – 1:00 PMWhere: New River Yoga Studio — FayettevilleInvestment: $45\nThis three-hour workshop is designed for intermediate to advanced practitioners who are ready to refine and expand their arm balance practice with strength\, precision\, and longevity in mind.\nWe’ll explore progressive arm balance variations while weaving in therapeutic techniques to support and protect the shoulders\, elbows\, and wrists — essential joints for sustainable practice.\nThis workshop is especially beneficial for rock climbers\, cross-trainers\, and athletes looking to build upper-body strength\, improve joint integrity\, and increase body awareness under load.
URL:https://visitfayettevillewv.com/event/advanced-arm-balance-yoga-workshop-with-therapeutic-applications-for-shoulders-elbows-and-wrists/
LOCATION:New River Yoga Studio\, Fayetteville\, WV\, 25840\, United States
CATEGORIES:Activities,Health & Wellness
ATTACH;FMTTYPE=image/jpeg:https://visitfayettevillewv.com/wp-content/uploads/2026/02/Advanced-arm-balance.jpg
GEO:38.052391;-81.103196
END:VEVENT
END:VCALENDAR