BEGIN:VCALENDAR
VERSION:2.0
PRODID:-//Visit Fayetteville WV - ECPv6.15.20//NONSGML v1.0//EN
CALSCALE:GREGORIAN
METHOD:PUBLISH
X-ORIGINAL-URL:https://visitfayettevillewv.com
X-WR-CALDESC:Events for Visit Fayetteville WV
REFRESH-INTERVAL;VALUE=DURATION:PT1H
X-Robots-Tag:noindex
X-PUBLISHED-TTL:PT1H
BEGIN:VTIMEZONE
TZID:America/New_York
BEGIN:DAYLIGHT
TZOFFSETFROM:-0500
TZOFFSETTO:-0400
TZNAME:EDT
DTSTART:20250309T070000
END:DAYLIGHT
BEGIN:STANDARD
TZOFFSETFROM:-0400
TZOFFSETTO:-0500
TZNAME:EST
DTSTART:20251102T060000
END:STANDARD
BEGIN:DAYLIGHT
TZOFFSETFROM:-0500
TZOFFSETTO:-0400
TZNAME:EDT
DTSTART:20260308T070000
END:DAYLIGHT
BEGIN:STANDARD
TZOFFSETFROM:-0400
TZOFFSETTO:-0500
TZNAME:EST
DTSTART:20261101T060000
END:STANDARD
BEGIN:DAYLIGHT
TZOFFSETFROM:-0500
TZOFFSETTO:-0400
TZNAME:EDT
DTSTART:20270314T070000
END:DAYLIGHT
BEGIN:STANDARD
TZOFFSETFROM:-0400
TZOFFSETTO:-0500
TZNAME:EST
DTSTART:20271107T060000
END:STANDARD
END:VTIMEZONE
BEGIN:VEVENT
DTSTART;TZID=America/New_York:20260603T083000
DTEND;TZID=America/New_York:20260603T093000
DTSTAMP:20260419T144529
CREATED:20260202T162108Z
LAST-MODIFIED:20260202T162542Z
UID:10010707-1780475400-1780479000@visitfayettevillewv.com
SUMMARY:New River Yoga - Living In Alignment
DESCRIPTION:Living In Alignment\nThis class\, for all levels of yoga\, is based on a steady commitment to physical alignment in a unique balance of a light-heartedness and an engaging asana practice. The welcoming environment creates a class that is alive with questions\, philosophy\, and humor based on connecting real life situations to the physical practice of asana. Living In Alignment is a class that bridges tools and practices to lead you from your mat into life more passionately and skillfully.
URL:https://visitfayettevillewv.com/event/new-river-yoga-living-in-alignment/2026-06-03/
LOCATION:New River Yoga Studio\, Fayetteville\, WV\, 25840\, United States
CATEGORIES:Activities,Health & Wellness
ATTACH;FMTTYPE=image/jpeg:https://visitfayettevillewv.com/wp-content/uploads/2026/02/Deborah-Graff.jpg
ORGANIZER;CN="New River Yoga":MAILTO:newriveryogaretreatwv@gmail.com
GEO:38.052391;-81.103196
END:VEVENT
BEGIN:VEVENT
DTSTART;TZID=America/New_York:20260603T173000
DTEND;TZID=America/New_York:20260603T183000
DTSTAMP:20260419T144529
CREATED:20251101T180528Z
LAST-MODIFIED:20260201T194220Z
UID:10010592-1780507800-1780511400@visitfayettevillewv.com
SUMMARY:New River Yoga - Vinyasa Flow
DESCRIPTION:Vinyasa yoga is a creative form of yoga where poses are linked together with the breath in a flowing sequence. The beauty of Vinyasa yoga is the variety. There is no standard sequence in Vinyasa yoga\, so the style\, pace and intensity will all vary.  Trust me you need this class\, we all do.  Paul makes it accessable for all bodies.\n\n\nPaul Milam\n\n\nPaul completed his 200 YTT at Yoga Power in Charleston.  He has practiced yoga for over 10 years before deciding to become an instructor.  Paul enjoys sharing the physical and mental benefits of yoga with others and the belief that yoga isn’t a competition\, it is a practice.  He says\, “as long as you are practicing yoga and you reap the benefits you are doing it right\, this is the goal.  He is excited to share with you his belief system and his light.  Join him for his very supportive and nonjudgement based classes today.
URL:https://visitfayettevillewv.com/event/new-river-yoga-vinyasa-flow/2026-06-03/
LOCATION:New River Yoga Studio\, Fayetteville\, WV\, 25840\, United States
CATEGORIES:Activities,Educational,Health & Wellness
ATTACH;FMTTYPE=image/jpeg:https://visitfayettevillewv.com/wp-content/uploads/2025/08/Vinyasa-Flow.jpg
ORGANIZER;CN="New River Yoga":MAILTO:newriveryogaretreatwv@gmail.com
GEO:38.052391;-81.103196
END:VEVENT
END:VCALENDAR