BEGIN:VCALENDAR
VERSION:2.0
PRODID:-//Visit Fayetteville WV - ECPv6.15.20//NONSGML v1.0//EN
CALSCALE:GREGORIAN
METHOD:PUBLISH
X-WR-CALNAME:Visit Fayetteville WV
X-ORIGINAL-URL:https://visitfayettevillewv.com
X-WR-CALDESC:Events for Visit Fayetteville WV
REFRESH-INTERVAL;VALUE=DURATION:PT1H
X-Robots-Tag:noindex
X-PUBLISHED-TTL:PT1H
BEGIN:VTIMEZONE
TZID:America/New_York
BEGIN:DAYLIGHT
TZOFFSETFROM:-0500
TZOFFSETTO:-0400
TZNAME:EDT
DTSTART:20250309T070000
END:DAYLIGHT
BEGIN:STANDARD
TZOFFSETFROM:-0400
TZOFFSETTO:-0500
TZNAME:EST
DTSTART:20251102T060000
END:STANDARD
BEGIN:DAYLIGHT
TZOFFSETFROM:-0500
TZOFFSETTO:-0400
TZNAME:EDT
DTSTART:20260308T070000
END:DAYLIGHT
BEGIN:STANDARD
TZOFFSETFROM:-0400
TZOFFSETTO:-0500
TZNAME:EST
DTSTART:20261101T060000
END:STANDARD
BEGIN:DAYLIGHT
TZOFFSETFROM:-0500
TZOFFSETTO:-0400
TZNAME:EDT
DTSTART:20270314T070000
END:DAYLIGHT
BEGIN:STANDARD
TZOFFSETFROM:-0400
TZOFFSETTO:-0500
TZNAME:EST
DTSTART:20271107T060000
END:STANDARD
END:VTIMEZONE
BEGIN:VEVENT
DTSTART;TZID=America/New_York:20260626T173000
DTEND;TZID=America/New_York:20260626T183000
DTSTAMP:20260419T161432
CREATED:20260201T195250Z
LAST-MODIFIED:20260201T195250Z
UID:10010635-1782495000-1782498600@visitfayettevillewv.com
SUMMARY:New River Yoga - Cultivating Presence and Strength
DESCRIPTION:A Gentle\, Reflective Yoga PracticeThis all-levels class offers a gentle\, alignment-based yoga practice focused on exploring yoga poses\, moving with the breath\, and pausing for inner focus and reflection. Classes weave together mindful movement and breathwork\, and may include poetry\, inspiration\, and short interactive or reflective moments to explore themes of peace\, freedom\, self-awareness\, and emotional well-being. Expect a supportive\, inclusive environment where curiosity\, presence\, and self-compassion are encouraged.SHORTER Version: A gentle\, all-levels yoga class focused on alignment\, breath\, and inner awareness. Cultivating Presence and Strength blends mindful movement with reflection to support steadiness\, calm\, and emotional well-being.\n\nCydney Smith\n\nCydney Smith is a certified yoga teacher with over 15 years of teaching experience and a dedicated practice dating back to 1989. Most recently\, she completed her Chopra Yoga Teacher Training\, deepening her study of yoga as a path to whole-person well-being. She is also trained in meditation\, Yoga Nidra\, and restorative yoga\, and her classes invite students to slow down\, reconnect with their breath\, and restore balance to body and mind. In addition to teaching yoga\, Cydney is a well-being and holistic life coach through her business Spirited Nutrition. She brings a compassionate\, integrative approach to support students both on and off the mat.
URL:https://visitfayettevillewv.com/event/new-river-yoga-cultivating-presence-and-strength/2026-06-26/
LOCATION:New River Yoga Studio\, Fayetteville\, WV\, 25840\, United States
CATEGORIES:Activities,Health & Wellness
ATTACH;FMTTYPE=image/jpeg:https://visitfayettevillewv.com/wp-content/uploads/2024/06/New-River-Yoga.jpg
ORGANIZER;CN="New River Yoga":MAILTO:newriveryogaretreatwv@gmail.com
GEO:38.052391;-81.103196
END:VEVENT
END:VCALENDAR