BEGIN:VCALENDAR
VERSION:2.0
PRODID:-//Visit Fayetteville WV - ECPv6.15.20//NONSGML v1.0//EN
CALSCALE:GREGORIAN
METHOD:PUBLISH
X-ORIGINAL-URL:https://visitfayettevillewv.com
X-WR-CALDESC:Events for Visit Fayetteville WV
REFRESH-INTERVAL;VALUE=DURATION:PT1H
X-Robots-Tag:noindex
X-PUBLISHED-TTL:PT1H
BEGIN:VTIMEZONE
TZID:America/New_York
BEGIN:DAYLIGHT
TZOFFSETFROM:-0500
TZOFFSETTO:-0400
TZNAME:EDT
DTSTART:20250309T070000
END:DAYLIGHT
BEGIN:STANDARD
TZOFFSETFROM:-0400
TZOFFSETTO:-0500
TZNAME:EST
DTSTART:20251102T060000
END:STANDARD
BEGIN:DAYLIGHT
TZOFFSETFROM:-0500
TZOFFSETTO:-0400
TZNAME:EDT
DTSTART:20260308T070000
END:DAYLIGHT
BEGIN:STANDARD
TZOFFSETFROM:-0400
TZOFFSETTO:-0500
TZNAME:EST
DTSTART:20261101T060000
END:STANDARD
BEGIN:DAYLIGHT
TZOFFSETFROM:-0500
TZOFFSETTO:-0400
TZNAME:EDT
DTSTART:20270314T070000
END:DAYLIGHT
BEGIN:STANDARD
TZOFFSETFROM:-0400
TZOFFSETTO:-0500
TZNAME:EST
DTSTART:20271107T060000
END:STANDARD
END:VTIMEZONE
BEGIN:VEVENT
DTSTART;TZID=America/New_York:20260507T190000
DTEND;TZID=America/New_York:20260507T210000
DTSTAMP:20260421T232034
CREATED:20251101T163726Z
LAST-MODIFIED:20251101T163726Z
UID:10008819-1778180400-1778187600@visitfayettevillewv.com
SUMMARY:Works In Progress at Love Hope Center for the Arts
DESCRIPTION:WIP is back! Bring your song\, poem\, story or prose to share in front of a kind\, unbiased audience. The first Works In Progress of the season is on November 6th at 7pm!
URL:https://visitfayettevillewv.com/event/works-in-progress-at-love-hope-center-for-the-arts/2026-05-07/
LOCATION:Love Hope Center for the Arts\, 100 Rotan St\, Fayetteville\, WV\, 25840\, United States
CATEGORIES:Activities,Art,Events,Music,Theater show
ATTACH;FMTTYPE=image/jpeg:https://visitfayettevillewv.com/wp-content/uploads/2025/11/WIP-is-back.jpg
ORGANIZER;CN="Love Hope Center for the Arts":MAILTO:Admin@lovehopearts.org
END:VEVENT
BEGIN:VEVENT
DTSTART;VALUE=DATE:20261204
DTEND;VALUE=DATE:20261207
DTSTAMP:20260421T232034
CREATED:20251213T161536Z
LAST-MODIFIED:20251213T161536Z
UID:10009464-1796342400-1796601599@visitfayettevillewv.com
SUMMARY:Fayetteville’s Gingerbread Festival
DESCRIPTION:Fayetteville’s Gingerbread Festival\nDecember 4–6\, 2026 | Downtown Fayetteville\, WV \nNestled in the picturesque mountains of West Virginia\, Fayetteville’s Gingerbread Festival invites you to step back in time and celebrate the holidays with small-town flair. Each December\, our historic downtown is transformed into a whimsical candy land filled with gingerbread décor\, twinkling lights\, and festive cheer. Escape the hustle and bustle of the season and enjoy a magical holiday getaway with your family. \nCome for the gingerbread\, stay for the holiday magic! Whether you’re joining us for the parade\, shopping for unique gifts\, or savoring gingerbread treats\, the Fayetteville Gingerbread Festival is the perfect way to celebrate the season. \n  \n  \n 
URL:https://visitfayettevillewv.com/event/fayettevilles-gingerbread-festival/
LOCATION:Downtown Fayetteville\, Fayetteville\, WV\, 25840\, United States
CATEGORIES:Activities,Art,Competition, Contest, etc.,Dining / Food,Events,Festival,Kids activity,Music,Shopping,Theater show
ATTACH;FMTTYPE=image/jpeg:https://visitfayettevillewv.com/wp-content/uploads/2024/03/Gingerbread.jpg
ORGANIZER;CN="Town of Fayetteville":MAILTO:town@fayettevillewv.gov
GEO:38.05279;-81.103771
END:VEVENT
END:VCALENDAR