BEGIN:VCALENDAR
VERSION:2.0
PRODID:-//Visit Fayetteville WV - ECPv6.15.20//NONSGML v1.0//EN
CALSCALE:GREGORIAN
METHOD:PUBLISH
X-WR-CALNAME:Visit Fayetteville WV
X-ORIGINAL-URL:https://visitfayettevillewv.com
X-WR-CALDESC:Events for Visit Fayetteville WV
REFRESH-INTERVAL;VALUE=DURATION:PT1H
X-Robots-Tag:noindex
X-PUBLISHED-TTL:PT1H
BEGIN:VTIMEZONE
TZID:America/New_York
BEGIN:DAYLIGHT
TZOFFSETFROM:-0500
TZOFFSETTO:-0400
TZNAME:EDT
DTSTART:20250309T070000
END:DAYLIGHT
BEGIN:STANDARD
TZOFFSETFROM:-0400
TZOFFSETTO:-0500
TZNAME:EST
DTSTART:20251102T060000
END:STANDARD
BEGIN:DAYLIGHT
TZOFFSETFROM:-0500
TZOFFSETTO:-0400
TZNAME:EDT
DTSTART:20260308T070000
END:DAYLIGHT
BEGIN:STANDARD
TZOFFSETFROM:-0400
TZOFFSETTO:-0500
TZNAME:EST
DTSTART:20261101T060000
END:STANDARD
BEGIN:DAYLIGHT
TZOFFSETFROM:-0500
TZOFFSETTO:-0400
TZNAME:EDT
DTSTART:20270314T070000
END:DAYLIGHT
BEGIN:STANDARD
TZOFFSETFROM:-0400
TZOFFSETTO:-0500
TZNAME:EST
DTSTART:20271107T060000
END:STANDARD
END:VTIMEZONE
BEGIN:VEVENT
DTSTART;TZID=America/New_York:20260425T090000
DTEND;TZID=America/New_York:20260425T130000
DTSTAMP:20260421T155354
CREATED:20260103T170816Z
LAST-MODIFIED:20260103T170816Z
UID:10010012-1777107600-1777122000@visitfayettevillewv.com
SUMMARY:Fayetteville Family Fun
DESCRIPTION:Coloring\, puzzles\, games\, legos
URL:https://visitfayettevillewv.com/event/fayetteville-family-fun-2/2026-04-25/
LOCATION:Fayetteville Public Library\, 200 W Maple Ave\, Fayetteville\, WV\, 25840\, United States
CATEGORIES:Activities,Kids activity
ATTACH;FMTTYPE=image/png:https://visitfayettevillewv.com/wp-content/uploads/2024/01/Fayette-County-PL.png
GEO:38.041798;-81.117531
X-APPLE-STRUCTURED-LOCATION;VALUE=URI;X-ADDRESS=Fayetteville Public Library 200 W Maple Ave Fayetteville WV 25840 United States;X-APPLE-RADIUS=500;X-TITLE=200 W Maple Ave:geo:-81.117531,38.041798
END:VEVENT
BEGIN:VEVENT
DTSTART;TZID=America/New_York:20260502T090000
DTEND;TZID=America/New_York:20260502T130000
DTSTAMP:20260421T155354
CREATED:20260103T170816Z
LAST-MODIFIED:20260103T170816Z
UID:10010013-1777712400-1777726800@visitfayettevillewv.com
SUMMARY:Fayetteville Family Fun
DESCRIPTION:Coloring\, puzzles\, games\, legos
URL:https://visitfayettevillewv.com/event/fayetteville-family-fun-2/2026-05-02/
LOCATION:Fayetteville Public Library\, 200 W Maple Ave\, Fayetteville\, WV\, 25840\, United States
CATEGORIES:Activities,Kids activity
ATTACH;FMTTYPE=image/png:https://visitfayettevillewv.com/wp-content/uploads/2024/01/Fayette-County-PL.png
GEO:38.041798;-81.117531
X-APPLE-STRUCTURED-LOCATION;VALUE=URI;X-ADDRESS=Fayetteville Public Library 200 W Maple Ave Fayetteville WV 25840 United States;X-APPLE-RADIUS=500;X-TITLE=200 W Maple Ave:geo:-81.117531,38.041798
END:VEVENT
BEGIN:VEVENT
DTSTART;TZID=America/New_York:20260509T090000
DTEND;TZID=America/New_York:20260509T130000
DTSTAMP:20260421T155354
CREATED:20260103T170816Z
LAST-MODIFIED:20260103T170816Z
UID:10010014-1778317200-1778331600@visitfayettevillewv.com
SUMMARY:Fayetteville Family Fun
DESCRIPTION:Coloring\, puzzles\, games\, legos
URL:https://visitfayettevillewv.com/event/fayetteville-family-fun-2/2026-05-09/
LOCATION:Fayetteville Public Library\, 200 W Maple Ave\, Fayetteville\, WV\, 25840\, United States
CATEGORIES:Activities,Kids activity
ATTACH;FMTTYPE=image/png:https://visitfayettevillewv.com/wp-content/uploads/2024/01/Fayette-County-PL.png
GEO:38.041798;-81.117531
X-APPLE-STRUCTURED-LOCATION;VALUE=URI;X-ADDRESS=Fayetteville Public Library 200 W Maple Ave Fayetteville WV 25840 United States;X-APPLE-RADIUS=500;X-TITLE=200 W Maple Ave:geo:-81.117531,38.041798
END:VEVENT
BEGIN:VEVENT
DTSTART;TZID=America/New_York:20260516T090000
DTEND;TZID=America/New_York:20260516T130000
DTSTAMP:20260421T155354
CREATED:20260103T170816Z
LAST-MODIFIED:20260103T170816Z
UID:10010015-1778922000-1778936400@visitfayettevillewv.com
SUMMARY:Fayetteville Family Fun
DESCRIPTION:Coloring\, puzzles\, games\, legos
URL:https://visitfayettevillewv.com/event/fayetteville-family-fun-2/2026-05-16/
LOCATION:Fayetteville Public Library\, 200 W Maple Ave\, Fayetteville\, WV\, 25840\, United States
CATEGORIES:Activities,Kids activity
ATTACH;FMTTYPE=image/png:https://visitfayettevillewv.com/wp-content/uploads/2024/01/Fayette-County-PL.png
GEO:38.041798;-81.117531
X-APPLE-STRUCTURED-LOCATION;VALUE=URI;X-ADDRESS=Fayetteville Public Library 200 W Maple Ave Fayetteville WV 25840 United States;X-APPLE-RADIUS=500;X-TITLE=200 W Maple Ave:geo:-81.117531,38.041798
END:VEVENT
BEGIN:VEVENT
DTSTART;TZID=America/New_York:20260523T090000
DTEND;TZID=America/New_York:20260523T130000
DTSTAMP:20260421T155354
CREATED:20260103T170816Z
LAST-MODIFIED:20260103T170816Z
UID:10010016-1779526800-1779541200@visitfayettevillewv.com
SUMMARY:Fayetteville Family Fun
DESCRIPTION:Coloring\, puzzles\, games\, legos
URL:https://visitfayettevillewv.com/event/fayetteville-family-fun-2/2026-05-23/
LOCATION:Fayetteville Public Library\, 200 W Maple Ave\, Fayetteville\, WV\, 25840\, United States
CATEGORIES:Activities,Kids activity
ATTACH;FMTTYPE=image/png:https://visitfayettevillewv.com/wp-content/uploads/2024/01/Fayette-County-PL.png
GEO:38.041798;-81.117531
X-APPLE-STRUCTURED-LOCATION;VALUE=URI;X-ADDRESS=Fayetteville Public Library 200 W Maple Ave Fayetteville WV 25840 United States;X-APPLE-RADIUS=500;X-TITLE=200 W Maple Ave:geo:-81.117531,38.041798
END:VEVENT
BEGIN:VEVENT
DTSTART;TZID=America/New_York:20260530T090000
DTEND;TZID=America/New_York:20260530T130000
DTSTAMP:20260421T155354
CREATED:20260103T170816Z
LAST-MODIFIED:20260103T170816Z
UID:10010017-1780131600-1780146000@visitfayettevillewv.com
SUMMARY:Fayetteville Family Fun
DESCRIPTION:Coloring\, puzzles\, games\, legos
URL:https://visitfayettevillewv.com/event/fayetteville-family-fun-2/2026-05-30/
LOCATION:Fayetteville Public Library\, 200 W Maple Ave\, Fayetteville\, WV\, 25840\, United States
CATEGORIES:Activities,Kids activity
ATTACH;FMTTYPE=image/png:https://visitfayettevillewv.com/wp-content/uploads/2024/01/Fayette-County-PL.png
GEO:38.041798;-81.117531
X-APPLE-STRUCTURED-LOCATION;VALUE=URI;X-ADDRESS=Fayetteville Public Library 200 W Maple Ave Fayetteville WV 25840 United States;X-APPLE-RADIUS=500;X-TITLE=200 W Maple Ave:geo:-81.117531,38.041798
END:VEVENT
BEGIN:VEVENT
DTSTART;TZID=America/New_York:20260606T090000
DTEND;TZID=America/New_York:20260606T130000
DTSTAMP:20260421T155355
CREATED:20260103T170816Z
LAST-MODIFIED:20260103T170816Z
UID:10010018-1780736400-1780750800@visitfayettevillewv.com
SUMMARY:Fayetteville Family Fun
DESCRIPTION:Coloring\, puzzles\, games\, legos
URL:https://visitfayettevillewv.com/event/fayetteville-family-fun-2/2026-06-06/
LOCATION:Fayetteville Public Library\, 200 W Maple Ave\, Fayetteville\, WV\, 25840\, United States
CATEGORIES:Activities,Kids activity
ATTACH;FMTTYPE=image/png:https://visitfayettevillewv.com/wp-content/uploads/2024/01/Fayette-County-PL.png
GEO:38.041798;-81.117531
X-APPLE-STRUCTURED-LOCATION;VALUE=URI;X-ADDRESS=Fayetteville Public Library 200 W Maple Ave Fayetteville WV 25840 United States;X-APPLE-RADIUS=500;X-TITLE=200 W Maple Ave:geo:-81.117531,38.041798
END:VEVENT
BEGIN:VEVENT
DTSTART;TZID=America/New_York:20260613T090000
DTEND;TZID=America/New_York:20260613T130000
DTSTAMP:20260421T155355
CREATED:20260103T170816Z
LAST-MODIFIED:20260103T170816Z
UID:10010019-1781341200-1781355600@visitfayettevillewv.com
SUMMARY:Fayetteville Family Fun
DESCRIPTION:Coloring\, puzzles\, games\, legos
URL:https://visitfayettevillewv.com/event/fayetteville-family-fun-2/2026-06-13/
LOCATION:Fayetteville Public Library\, 200 W Maple Ave\, Fayetteville\, WV\, 25840\, United States
CATEGORIES:Activities,Kids activity
ATTACH;FMTTYPE=image/png:https://visitfayettevillewv.com/wp-content/uploads/2024/01/Fayette-County-PL.png
GEO:38.041798;-81.117531
X-APPLE-STRUCTURED-LOCATION;VALUE=URI;X-ADDRESS=Fayetteville Public Library 200 W Maple Ave Fayetteville WV 25840 United States;X-APPLE-RADIUS=500;X-TITLE=200 W Maple Ave:geo:-81.117531,38.041798
END:VEVENT
BEGIN:VEVENT
DTSTART;TZID=America/New_York:20260620T090000
DTEND;TZID=America/New_York:20260620T130000
DTSTAMP:20260421T155355
CREATED:20260103T170816Z
LAST-MODIFIED:20260103T170816Z
UID:10010020-1781946000-1781960400@visitfayettevillewv.com
SUMMARY:Fayetteville Family Fun
DESCRIPTION:Coloring\, puzzles\, games\, legos
URL:https://visitfayettevillewv.com/event/fayetteville-family-fun-2/2026-06-20/
LOCATION:Fayetteville Public Library\, 200 W Maple Ave\, Fayetteville\, WV\, 25840\, United States
CATEGORIES:Activities,Kids activity
ATTACH;FMTTYPE=image/png:https://visitfayettevillewv.com/wp-content/uploads/2024/01/Fayette-County-PL.png
GEO:38.041798;-81.117531
X-APPLE-STRUCTURED-LOCATION;VALUE=URI;X-ADDRESS=Fayetteville Public Library 200 W Maple Ave Fayetteville WV 25840 United States;X-APPLE-RADIUS=500;X-TITLE=200 W Maple Ave:geo:-81.117531,38.041798
END:VEVENT
BEGIN:VEVENT
DTSTART;TZID=America/New_York:20260627T090000
DTEND;TZID=America/New_York:20260627T130000
DTSTAMP:20260421T155355
CREATED:20260103T170816Z
LAST-MODIFIED:20260103T170816Z
UID:10010021-1782550800-1782565200@visitfayettevillewv.com
SUMMARY:Fayetteville Family Fun
DESCRIPTION:Coloring\, puzzles\, games\, legos
URL:https://visitfayettevillewv.com/event/fayetteville-family-fun-2/2026-06-27/
LOCATION:Fayetteville Public Library\, 200 W Maple Ave\, Fayetteville\, WV\, 25840\, United States
CATEGORIES:Activities,Kids activity
ATTACH;FMTTYPE=image/png:https://visitfayettevillewv.com/wp-content/uploads/2024/01/Fayette-County-PL.png
GEO:38.041798;-81.117531
X-APPLE-STRUCTURED-LOCATION;VALUE=URI;X-ADDRESS=Fayetteville Public Library 200 W Maple Ave Fayetteville WV 25840 United States;X-APPLE-RADIUS=500;X-TITLE=200 W Maple Ave:geo:-81.117531,38.041798
END:VEVENT
BEGIN:VEVENT
DTSTART;TZID=America/New_York:20260704T090000
DTEND;TZID=America/New_York:20260704T130000
DTSTAMP:20260421T155355
CREATED:20260103T170816Z
LAST-MODIFIED:20260103T170816Z
UID:10010022-1783155600-1783170000@visitfayettevillewv.com
SUMMARY:Fayetteville Family Fun
DESCRIPTION:Coloring\, puzzles\, games\, legos
URL:https://visitfayettevillewv.com/event/fayetteville-family-fun-2/2026-07-04/
LOCATION:Fayetteville Public Library\, 200 W Maple Ave\, Fayetteville\, WV\, 25840\, United States
CATEGORIES:Activities,Kids activity
ATTACH;FMTTYPE=image/png:https://visitfayettevillewv.com/wp-content/uploads/2024/01/Fayette-County-PL.png
GEO:38.041798;-81.117531
X-APPLE-STRUCTURED-LOCATION;VALUE=URI;X-ADDRESS=Fayetteville Public Library 200 W Maple Ave Fayetteville WV 25840 United States;X-APPLE-RADIUS=500;X-TITLE=200 W Maple Ave:geo:-81.117531,38.041798
END:VEVENT
BEGIN:VEVENT
DTSTART;TZID=America/New_York:20260711T090000
DTEND;TZID=America/New_York:20260711T130000
DTSTAMP:20260421T155355
CREATED:20260103T170816Z
LAST-MODIFIED:20260103T170816Z
UID:10010023-1783760400-1783774800@visitfayettevillewv.com
SUMMARY:Fayetteville Family Fun
DESCRIPTION:Coloring\, puzzles\, games\, legos
URL:https://visitfayettevillewv.com/event/fayetteville-family-fun-2/2026-07-11/
LOCATION:Fayetteville Public Library\, 200 W Maple Ave\, Fayetteville\, WV\, 25840\, United States
CATEGORIES:Activities,Kids activity
ATTACH;FMTTYPE=image/png:https://visitfayettevillewv.com/wp-content/uploads/2024/01/Fayette-County-PL.png
GEO:38.041798;-81.117531
X-APPLE-STRUCTURED-LOCATION;VALUE=URI;X-ADDRESS=Fayetteville Public Library 200 W Maple Ave Fayetteville WV 25840 United States;X-APPLE-RADIUS=500;X-TITLE=200 W Maple Ave:geo:-81.117531,38.041798
END:VEVENT
BEGIN:VEVENT
DTSTART;TZID=America/New_York:20260718T090000
DTEND;TZID=America/New_York:20260718T130000
DTSTAMP:20260421T155355
CREATED:20260103T170816Z
LAST-MODIFIED:20260103T170816Z
UID:10010024-1784365200-1784379600@visitfayettevillewv.com
SUMMARY:Fayetteville Family Fun
DESCRIPTION:Coloring\, puzzles\, games\, legos
URL:https://visitfayettevillewv.com/event/fayetteville-family-fun-2/2026-07-18/
LOCATION:Fayetteville Public Library\, 200 W Maple Ave\, Fayetteville\, WV\, 25840\, United States
CATEGORIES:Activities,Kids activity
ATTACH;FMTTYPE=image/png:https://visitfayettevillewv.com/wp-content/uploads/2024/01/Fayette-County-PL.png
GEO:38.041798;-81.117531
X-APPLE-STRUCTURED-LOCATION;VALUE=URI;X-ADDRESS=Fayetteville Public Library 200 W Maple Ave Fayetteville WV 25840 United States;X-APPLE-RADIUS=500;X-TITLE=200 W Maple Ave:geo:-81.117531,38.041798
END:VEVENT
BEGIN:VEVENT
DTSTART;TZID=America/New_York:20260725T090000
DTEND;TZID=America/New_York:20260725T130000
DTSTAMP:20260421T155355
CREATED:20260103T170816Z
LAST-MODIFIED:20260103T170816Z
UID:10010025-1784970000-1784984400@visitfayettevillewv.com
SUMMARY:Fayetteville Family Fun
DESCRIPTION:Coloring\, puzzles\, games\, legos
URL:https://visitfayettevillewv.com/event/fayetteville-family-fun-2/2026-07-25/
LOCATION:Fayetteville Public Library\, 200 W Maple Ave\, Fayetteville\, WV\, 25840\, United States
CATEGORIES:Activities,Kids activity
ATTACH;FMTTYPE=image/png:https://visitfayettevillewv.com/wp-content/uploads/2024/01/Fayette-County-PL.png
GEO:38.041798;-81.117531
X-APPLE-STRUCTURED-LOCATION;VALUE=URI;X-ADDRESS=Fayetteville Public Library 200 W Maple Ave Fayetteville WV 25840 United States;X-APPLE-RADIUS=500;X-TITLE=200 W Maple Ave:geo:-81.117531,38.041798
END:VEVENT
BEGIN:VEVENT
DTSTART;TZID=America/New_York:20260801T090000
DTEND;TZID=America/New_York:20260801T130000
DTSTAMP:20260421T155355
CREATED:20260103T170816Z
LAST-MODIFIED:20260103T170816Z
UID:10010026-1785574800-1785589200@visitfayettevillewv.com
SUMMARY:Fayetteville Family Fun
DESCRIPTION:Coloring\, puzzles\, games\, legos
URL:https://visitfayettevillewv.com/event/fayetteville-family-fun-2/2026-08-01/
LOCATION:Fayetteville Public Library\, 200 W Maple Ave\, Fayetteville\, WV\, 25840\, United States
CATEGORIES:Activities,Kids activity
ATTACH;FMTTYPE=image/png:https://visitfayettevillewv.com/wp-content/uploads/2024/01/Fayette-County-PL.png
GEO:38.041798;-81.117531
X-APPLE-STRUCTURED-LOCATION;VALUE=URI;X-ADDRESS=Fayetteville Public Library 200 W Maple Ave Fayetteville WV 25840 United States;X-APPLE-RADIUS=500;X-TITLE=200 W Maple Ave:geo:-81.117531,38.041798
END:VEVENT
BEGIN:VEVENT
DTSTART;TZID=America/New_York:20260808T090000
DTEND;TZID=America/New_York:20260808T130000
DTSTAMP:20260421T155355
CREATED:20260103T170816Z
LAST-MODIFIED:20260103T170816Z
UID:10010027-1786179600-1786194000@visitfayettevillewv.com
SUMMARY:Fayetteville Family Fun
DESCRIPTION:Coloring\, puzzles\, games\, legos
URL:https://visitfayettevillewv.com/event/fayetteville-family-fun-2/2026-08-08/
LOCATION:Fayetteville Public Library\, 200 W Maple Ave\, Fayetteville\, WV\, 25840\, United States
CATEGORIES:Activities,Kids activity
ATTACH;FMTTYPE=image/png:https://visitfayettevillewv.com/wp-content/uploads/2024/01/Fayette-County-PL.png
GEO:38.041798;-81.117531
X-APPLE-STRUCTURED-LOCATION;VALUE=URI;X-ADDRESS=Fayetteville Public Library 200 W Maple Ave Fayetteville WV 25840 United States;X-APPLE-RADIUS=500;X-TITLE=200 W Maple Ave:geo:-81.117531,38.041798
END:VEVENT
BEGIN:VEVENT
DTSTART;TZID=America/New_York:20260815T090000
DTEND;TZID=America/New_York:20260815T130000
DTSTAMP:20260421T155355
CREATED:20260103T170816Z
LAST-MODIFIED:20260103T170816Z
UID:10010028-1786784400-1786798800@visitfayettevillewv.com
SUMMARY:Fayetteville Family Fun
DESCRIPTION:Coloring\, puzzles\, games\, legos
URL:https://visitfayettevillewv.com/event/fayetteville-family-fun-2/2026-08-15/
LOCATION:Fayetteville Public Library\, 200 W Maple Ave\, Fayetteville\, WV\, 25840\, United States
CATEGORIES:Activities,Kids activity
ATTACH;FMTTYPE=image/png:https://visitfayettevillewv.com/wp-content/uploads/2024/01/Fayette-County-PL.png
GEO:38.041798;-81.117531
X-APPLE-STRUCTURED-LOCATION;VALUE=URI;X-ADDRESS=Fayetteville Public Library 200 W Maple Ave Fayetteville WV 25840 United States;X-APPLE-RADIUS=500;X-TITLE=200 W Maple Ave:geo:-81.117531,38.041798
END:VEVENT
BEGIN:VEVENT
DTSTART;TZID=America/New_York:20260822T090000
DTEND;TZID=America/New_York:20260822T130000
DTSTAMP:20260421T155355
CREATED:20260103T170816Z
LAST-MODIFIED:20260103T170816Z
UID:10010029-1787389200-1787403600@visitfayettevillewv.com
SUMMARY:Fayetteville Family Fun
DESCRIPTION:Coloring\, puzzles\, games\, legos
URL:https://visitfayettevillewv.com/event/fayetteville-family-fun-2/2026-08-22/
LOCATION:Fayetteville Public Library\, 200 W Maple Ave\, Fayetteville\, WV\, 25840\, United States
CATEGORIES:Activities,Kids activity
ATTACH;FMTTYPE=image/png:https://visitfayettevillewv.com/wp-content/uploads/2024/01/Fayette-County-PL.png
GEO:38.041798;-81.117531
X-APPLE-STRUCTURED-LOCATION;VALUE=URI;X-ADDRESS=Fayetteville Public Library 200 W Maple Ave Fayetteville WV 25840 United States;X-APPLE-RADIUS=500;X-TITLE=200 W Maple Ave:geo:-81.117531,38.041798
END:VEVENT
BEGIN:VEVENT
DTSTART;TZID=America/New_York:20260829T090000
DTEND;TZID=America/New_York:20260829T130000
DTSTAMP:20260421T155355
CREATED:20260103T170816Z
LAST-MODIFIED:20260103T170816Z
UID:10010030-1787994000-1788008400@visitfayettevillewv.com
SUMMARY:Fayetteville Family Fun
DESCRIPTION:Coloring\, puzzles\, games\, legos
URL:https://visitfayettevillewv.com/event/fayetteville-family-fun-2/2026-08-29/
LOCATION:Fayetteville Public Library\, 200 W Maple Ave\, Fayetteville\, WV\, 25840\, United States
CATEGORIES:Activities,Kids activity
ATTACH;FMTTYPE=image/png:https://visitfayettevillewv.com/wp-content/uploads/2024/01/Fayette-County-PL.png
GEO:38.041798;-81.117531
X-APPLE-STRUCTURED-LOCATION;VALUE=URI;X-ADDRESS=Fayetteville Public Library 200 W Maple Ave Fayetteville WV 25840 United States;X-APPLE-RADIUS=500;X-TITLE=200 W Maple Ave:geo:-81.117531,38.041798
END:VEVENT
BEGIN:VEVENT
DTSTART;TZID=America/New_York:20260905T090000
DTEND;TZID=America/New_York:20260905T130000
DTSTAMP:20260421T155355
CREATED:20260103T170816Z
LAST-MODIFIED:20260103T170816Z
UID:10010031-1788598800-1788613200@visitfayettevillewv.com
SUMMARY:Fayetteville Family Fun
DESCRIPTION:Coloring\, puzzles\, games\, legos
URL:https://visitfayettevillewv.com/event/fayetteville-family-fun-2/2026-09-05/
LOCATION:Fayetteville Public Library\, 200 W Maple Ave\, Fayetteville\, WV\, 25840\, United States
CATEGORIES:Activities,Kids activity
ATTACH;FMTTYPE=image/png:https://visitfayettevillewv.com/wp-content/uploads/2024/01/Fayette-County-PL.png
GEO:38.041798;-81.117531
X-APPLE-STRUCTURED-LOCATION;VALUE=URI;X-ADDRESS=Fayetteville Public Library 200 W Maple Ave Fayetteville WV 25840 United States;X-APPLE-RADIUS=500;X-TITLE=200 W Maple Ave:geo:-81.117531,38.041798
END:VEVENT
BEGIN:VEVENT
DTSTART;TZID=America/New_York:20260912T090000
DTEND;TZID=America/New_York:20260912T130000
DTSTAMP:20260421T155355
CREATED:20260103T170816Z
LAST-MODIFIED:20260103T170816Z
UID:10010032-1789203600-1789218000@visitfayettevillewv.com
SUMMARY:Fayetteville Family Fun
DESCRIPTION:Coloring\, puzzles\, games\, legos
URL:https://visitfayettevillewv.com/event/fayetteville-family-fun-2/2026-09-12/
LOCATION:Fayetteville Public Library\, 200 W Maple Ave\, Fayetteville\, WV\, 25840\, United States
CATEGORIES:Activities,Kids activity
ATTACH;FMTTYPE=image/png:https://visitfayettevillewv.com/wp-content/uploads/2024/01/Fayette-County-PL.png
GEO:38.041798;-81.117531
X-APPLE-STRUCTURED-LOCATION;VALUE=URI;X-ADDRESS=Fayetteville Public Library 200 W Maple Ave Fayetteville WV 25840 United States;X-APPLE-RADIUS=500;X-TITLE=200 W Maple Ave:geo:-81.117531,38.041798
END:VEVENT
BEGIN:VEVENT
DTSTART;TZID=America/New_York:20260919T090000
DTEND;TZID=America/New_York:20260919T130000
DTSTAMP:20260421T155355
CREATED:20260103T170816Z
LAST-MODIFIED:20260103T170816Z
UID:10010033-1789808400-1789822800@visitfayettevillewv.com
SUMMARY:Fayetteville Family Fun
DESCRIPTION:Coloring\, puzzles\, games\, legos
URL:https://visitfayettevillewv.com/event/fayetteville-family-fun-2/2026-09-19/
LOCATION:Fayetteville Public Library\, 200 W Maple Ave\, Fayetteville\, WV\, 25840\, United States
CATEGORIES:Activities,Kids activity
ATTACH;FMTTYPE=image/png:https://visitfayettevillewv.com/wp-content/uploads/2024/01/Fayette-County-PL.png
GEO:38.041798;-81.117531
X-APPLE-STRUCTURED-LOCATION;VALUE=URI;X-ADDRESS=Fayetteville Public Library 200 W Maple Ave Fayetteville WV 25840 United States;X-APPLE-RADIUS=500;X-TITLE=200 W Maple Ave:geo:-81.117531,38.041798
END:VEVENT
BEGIN:VEVENT
DTSTART;TZID=America/New_York:20260926T090000
DTEND;TZID=America/New_York:20260926T130000
DTSTAMP:20260421T155355
CREATED:20260103T170816Z
LAST-MODIFIED:20260103T170816Z
UID:10010034-1790413200-1790427600@visitfayettevillewv.com
SUMMARY:Fayetteville Family Fun
DESCRIPTION:Coloring\, puzzles\, games\, legos
URL:https://visitfayettevillewv.com/event/fayetteville-family-fun-2/2026-09-26/
LOCATION:Fayetteville Public Library\, 200 W Maple Ave\, Fayetteville\, WV\, 25840\, United States
CATEGORIES:Activities,Kids activity
ATTACH;FMTTYPE=image/png:https://visitfayettevillewv.com/wp-content/uploads/2024/01/Fayette-County-PL.png
GEO:38.041798;-81.117531
X-APPLE-STRUCTURED-LOCATION;VALUE=URI;X-ADDRESS=Fayetteville Public Library 200 W Maple Ave Fayetteville WV 25840 United States;X-APPLE-RADIUS=500;X-TITLE=200 W Maple Ave:geo:-81.117531,38.041798
END:VEVENT
BEGIN:VEVENT
DTSTART;TZID=America/New_York:20261003T090000
DTEND;TZID=America/New_York:20261003T130000
DTSTAMP:20260421T155355
CREATED:20260103T170816Z
LAST-MODIFIED:20260103T170816Z
UID:10010035-1791018000-1791032400@visitfayettevillewv.com
SUMMARY:Fayetteville Family Fun
DESCRIPTION:Coloring\, puzzles\, games\, legos
URL:https://visitfayettevillewv.com/event/fayetteville-family-fun-2/2026-10-03/
LOCATION:Fayetteville Public Library\, 200 W Maple Ave\, Fayetteville\, WV\, 25840\, United States
CATEGORIES:Activities,Kids activity
ATTACH;FMTTYPE=image/png:https://visitfayettevillewv.com/wp-content/uploads/2024/01/Fayette-County-PL.png
GEO:38.041798;-81.117531
X-APPLE-STRUCTURED-LOCATION;VALUE=URI;X-ADDRESS=Fayetteville Public Library 200 W Maple Ave Fayetteville WV 25840 United States;X-APPLE-RADIUS=500;X-TITLE=200 W Maple Ave:geo:-81.117531,38.041798
END:VEVENT
BEGIN:VEVENT
DTSTART;TZID=America/New_York:20261010T090000
DTEND;TZID=America/New_York:20261010T130000
DTSTAMP:20260421T155355
CREATED:20260103T170816Z
LAST-MODIFIED:20260103T170816Z
UID:10010036-1791622800-1791637200@visitfayettevillewv.com
SUMMARY:Fayetteville Family Fun
DESCRIPTION:Coloring\, puzzles\, games\, legos
URL:https://visitfayettevillewv.com/event/fayetteville-family-fun-2/2026-10-10/
LOCATION:Fayetteville Public Library\, 200 W Maple Ave\, Fayetteville\, WV\, 25840\, United States
CATEGORIES:Activities,Kids activity
ATTACH;FMTTYPE=image/png:https://visitfayettevillewv.com/wp-content/uploads/2024/01/Fayette-County-PL.png
GEO:38.041798;-81.117531
X-APPLE-STRUCTURED-LOCATION;VALUE=URI;X-ADDRESS=Fayetteville Public Library 200 W Maple Ave Fayetteville WV 25840 United States;X-APPLE-RADIUS=500;X-TITLE=200 W Maple Ave:geo:-81.117531,38.041798
END:VEVENT
BEGIN:VEVENT
DTSTART;TZID=America/New_York:20261017T090000
DTEND;TZID=America/New_York:20261017T130000
DTSTAMP:20260421T155355
CREATED:20260103T170816Z
LAST-MODIFIED:20260103T170816Z
UID:10010037-1792227600-1792242000@visitfayettevillewv.com
SUMMARY:Fayetteville Family Fun
DESCRIPTION:Coloring\, puzzles\, games\, legos
URL:https://visitfayettevillewv.com/event/fayetteville-family-fun-2/2026-10-17/
LOCATION:Fayetteville Public Library\, 200 W Maple Ave\, Fayetteville\, WV\, 25840\, United States
CATEGORIES:Activities,Kids activity
ATTACH;FMTTYPE=image/png:https://visitfayettevillewv.com/wp-content/uploads/2024/01/Fayette-County-PL.png
GEO:38.041798;-81.117531
X-APPLE-STRUCTURED-LOCATION;VALUE=URI;X-ADDRESS=Fayetteville Public Library 200 W Maple Ave Fayetteville WV 25840 United States;X-APPLE-RADIUS=500;X-TITLE=200 W Maple Ave:geo:-81.117531,38.041798
END:VEVENT
BEGIN:VEVENT
DTSTART;TZID=America/New_York:20261024T090000
DTEND;TZID=America/New_York:20261024T130000
DTSTAMP:20260421T155355
CREATED:20260103T170816Z
LAST-MODIFIED:20260103T170816Z
UID:10010038-1792832400-1792846800@visitfayettevillewv.com
SUMMARY:Fayetteville Family Fun
DESCRIPTION:Coloring\, puzzles\, games\, legos
URL:https://visitfayettevillewv.com/event/fayetteville-family-fun-2/2026-10-24/
LOCATION:Fayetteville Public Library\, 200 W Maple Ave\, Fayetteville\, WV\, 25840\, United States
CATEGORIES:Activities,Kids activity
ATTACH;FMTTYPE=image/png:https://visitfayettevillewv.com/wp-content/uploads/2024/01/Fayette-County-PL.png
GEO:38.041798;-81.117531
X-APPLE-STRUCTURED-LOCATION;VALUE=URI;X-ADDRESS=Fayetteville Public Library 200 W Maple Ave Fayetteville WV 25840 United States;X-APPLE-RADIUS=500;X-TITLE=200 W Maple Ave:geo:-81.117531,38.041798
END:VEVENT
BEGIN:VEVENT
DTSTART;TZID=America/New_York:20261031T090000
DTEND;TZID=America/New_York:20261031T130000
DTSTAMP:20260421T155355
CREATED:20260103T170816Z
LAST-MODIFIED:20260103T170816Z
UID:10010039-1793437200-1793451600@visitfayettevillewv.com
SUMMARY:Fayetteville Family Fun
DESCRIPTION:Coloring\, puzzles\, games\, legos
URL:https://visitfayettevillewv.com/event/fayetteville-family-fun-2/2026-10-31/
LOCATION:Fayetteville Public Library\, 200 W Maple Ave\, Fayetteville\, WV\, 25840\, United States
CATEGORIES:Activities,Kids activity
ATTACH;FMTTYPE=image/png:https://visitfayettevillewv.com/wp-content/uploads/2024/01/Fayette-County-PL.png
GEO:38.041798;-81.117531
X-APPLE-STRUCTURED-LOCATION;VALUE=URI;X-ADDRESS=Fayetteville Public Library 200 W Maple Ave Fayetteville WV 25840 United States;X-APPLE-RADIUS=500;X-TITLE=200 W Maple Ave:geo:-81.117531,38.041798
END:VEVENT
BEGIN:VEVENT
DTSTART;TZID=America/New_York:20261107T090000
DTEND;TZID=America/New_York:20261107T130000
DTSTAMP:20260421T155355
CREATED:20260103T170816Z
LAST-MODIFIED:20260103T170816Z
UID:10010040-1794042000-1794056400@visitfayettevillewv.com
SUMMARY:Fayetteville Family Fun
DESCRIPTION:Coloring\, puzzles\, games\, legos
URL:https://visitfayettevillewv.com/event/fayetteville-family-fun-2/2026-11-07/
LOCATION:Fayetteville Public Library\, 200 W Maple Ave\, Fayetteville\, WV\, 25840\, United States
CATEGORIES:Activities,Kids activity
ATTACH;FMTTYPE=image/png:https://visitfayettevillewv.com/wp-content/uploads/2024/01/Fayette-County-PL.png
GEO:38.041798;-81.117531
X-APPLE-STRUCTURED-LOCATION;VALUE=URI;X-ADDRESS=Fayetteville Public Library 200 W Maple Ave Fayetteville WV 25840 United States;X-APPLE-RADIUS=500;X-TITLE=200 W Maple Ave:geo:-81.117531,38.041798
END:VEVENT
BEGIN:VEVENT
DTSTART;TZID=America/New_York:20261114T090000
DTEND;TZID=America/New_York:20261114T130000
DTSTAMP:20260421T155355
CREATED:20260103T170816Z
LAST-MODIFIED:20260103T170816Z
UID:10010041-1794646800-1794661200@visitfayettevillewv.com
SUMMARY:Fayetteville Family Fun
DESCRIPTION:Coloring\, puzzles\, games\, legos
URL:https://visitfayettevillewv.com/event/fayetteville-family-fun-2/2026-11-14/
LOCATION:Fayetteville Public Library\, 200 W Maple Ave\, Fayetteville\, WV\, 25840\, United States
CATEGORIES:Activities,Kids activity
ATTACH;FMTTYPE=image/png:https://visitfayettevillewv.com/wp-content/uploads/2024/01/Fayette-County-PL.png
GEO:38.041798;-81.117531
X-APPLE-STRUCTURED-LOCATION;VALUE=URI;X-ADDRESS=Fayetteville Public Library 200 W Maple Ave Fayetteville WV 25840 United States;X-APPLE-RADIUS=500;X-TITLE=200 W Maple Ave:geo:-81.117531,38.041798
END:VEVENT
END:VCALENDAR