BEGIN:VCALENDAR
VERSION:2.0
PRODID:-//Visit Fayetteville WV - ECPv6.15.20//NONSGML v1.0//EN
CALSCALE:GREGORIAN
METHOD:PUBLISH
X-WR-CALNAME:Visit Fayetteville WV
X-ORIGINAL-URL:https://visitfayettevillewv.com
X-WR-CALDESC:Events for Visit Fayetteville WV
REFRESH-INTERVAL;VALUE=DURATION:PT1H
X-Robots-Tag:noindex
X-PUBLISHED-TTL:PT1H
BEGIN:VTIMEZONE
TZID:America/New_York
BEGIN:DAYLIGHT
TZOFFSETFROM:-0500
TZOFFSETTO:-0400
TZNAME:EDT
DTSTART:20250309T070000
END:DAYLIGHT
BEGIN:STANDARD
TZOFFSETFROM:-0400
TZOFFSETTO:-0500
TZNAME:EST
DTSTART:20251102T060000
END:STANDARD
BEGIN:DAYLIGHT
TZOFFSETFROM:-0500
TZOFFSETTO:-0400
TZNAME:EDT
DTSTART:20260308T070000
END:DAYLIGHT
BEGIN:STANDARD
TZOFFSETFROM:-0400
TZOFFSETTO:-0500
TZNAME:EST
DTSTART:20261101T060000
END:STANDARD
BEGIN:DAYLIGHT
TZOFFSETFROM:-0500
TZOFFSETTO:-0400
TZNAME:EDT
DTSTART:20270314T070000
END:DAYLIGHT
BEGIN:STANDARD
TZOFFSETFROM:-0400
TZOFFSETTO:-0500
TZNAME:EST
DTSTART:20271107T060000
END:STANDARD
END:VTIMEZONE
BEGIN:VEVENT
DTSTART;TZID=America/New_York:20260417T183000
DTEND;TZID=America/New_York:20260417T210000
DTSTAMP:20260422T180557
CREATED:20260404T150430Z
LAST-MODIFIED:20260404T150430Z
UID:10011113-1776450600-1776459600@visitfayettevillewv.com
SUMMARY:Drag Queen Bingo: A Fundraiser for Fayetteville Pride
DESCRIPTION:Come out for a fun\, chaotic\, campy night of Drag Queen Bingo at Southside Junction Tap House on April 17 from 6:30 to 9:00 PM.\nWe’re raising money for Fayetteville Pride\, so every bingo card\, drink\, laugh\, and wildly unnecessary level of enthusiasm is for a good cause.\nExpect drag\, bingo\, prizes\, silliness\, and a solid excuse to gather with people you like.\nBring friends. Bring cash if you can. Bring your lucky bingo energy.\nAll proceeds support Fayetteville Pride.
URL:https://visitfayettevillewv.com/event/drag-queen-bingo-a-fundraiser-for-fayetteville-pride/
LOCATION:Southside Junction Tap House\, 101 N Court St\, Fayetteville\, WV\, 25840\, United States
CATEGORIES:Activities,Beer, wine, cocktails, etc.,Competition, Contest, etc.,Dining / Food,Events,Fundraiser,Trivia, games, etc.
ATTACH;FMTTYPE=image/jpeg:https://visitfayettevillewv.com/wp-content/uploads/2026/04/Drag-Queen-Bingo.jpg
GEO:38.05279;-81.103771
X-APPLE-STRUCTURED-LOCATION;VALUE=URI;X-ADDRESS=Southside Junction Tap House 101 N Court St Fayetteville WV 25840 United States;X-APPLE-RADIUS=500;X-TITLE=101 N Court St:geo:-81.103771,38.05279
END:VEVENT
END:VCALENDAR