BEGIN:VCALENDAR
VERSION:2.0
PRODID:-//Visit Fayetteville WV - ECPv6.15.20//NONSGML v1.0//EN
CALSCALE:GREGORIAN
METHOD:PUBLISH
X-ORIGINAL-URL:https://visitfayettevillewv.com
X-WR-CALDESC:Events for Visit Fayetteville WV
REFRESH-INTERVAL;VALUE=DURATION:PT1H
X-Robots-Tag:noindex
X-PUBLISHED-TTL:PT1H
BEGIN:VTIMEZONE
TZID:America/New_York
BEGIN:DAYLIGHT
TZOFFSETFROM:-0500
TZOFFSETTO:-0400
TZNAME:EDT
DTSTART:20250309T070000
END:DAYLIGHT
BEGIN:STANDARD
TZOFFSETFROM:-0400
TZOFFSETTO:-0500
TZNAME:EST
DTSTART:20251102T060000
END:STANDARD
BEGIN:DAYLIGHT
TZOFFSETFROM:-0500
TZOFFSETTO:-0400
TZNAME:EDT
DTSTART:20260308T070000
END:DAYLIGHT
BEGIN:STANDARD
TZOFFSETFROM:-0400
TZOFFSETTO:-0500
TZNAME:EST
DTSTART:20261101T060000
END:STANDARD
BEGIN:DAYLIGHT
TZOFFSETFROM:-0500
TZOFFSETTO:-0400
TZNAME:EDT
DTSTART:20270314T070000
END:DAYLIGHT
BEGIN:STANDARD
TZOFFSETFROM:-0400
TZOFFSETTO:-0500
TZNAME:EST
DTSTART:20271107T060000
END:STANDARD
END:VTIMEZONE
BEGIN:VEVENT
DTSTART;TZID=America/New_York:20260528T083000
DTEND;TZID=America/New_York:20260528T140000
DTSTAMP:20260424T115537
CREATED:20260418T144940Z
LAST-MODIFIED:20260418T144951Z
UID:10011149-1779957000-1779976800@visitfayettevillewv.com
SUMMARY:2026 WV Charity Ride
DESCRIPTION:2026 West Virginia Charity Ride \nBenefiting North Central West Virginia Honor Flight\nMay 28th to 31st 2026\n Cost: $10 per person\, per day\nJoin us for an unforgettable wagon wheel–style ride\, with all proceeds supporting our Veterans!\n Lodging Location: Adventures on the Gorge(Reservation link will be posted below)WV Charity Ride May 28th to 31st starting at Adventures on the Gorge. Clock is ticking….. do you have your lodging scheduled for the ride? Use the link below the adventures await.\nhttps://go.theflybook.com/book/1401/EntityConfig/42363…\n Dates: May 28th – May 31st\, 2026Each morning\, we will:Meet at 8:30 AM KSU 9amRide a different direction each day — North\, South\, East\, and WestMake multiple stops along the way\, including a Harley-Davidson dealership.\n Important Details:Routes will be provided in writing on the morning of May 28thThis ensures all riders can reconnect if separated or choose to join/leave throughout the dayFor rider safety\, routes will not be posted on social media\n 100% of proceeds go directly to our causeCome out and enjoy great rides\, great people\, and meaningful support for those who served. Let’s make new memories and share some incredible adventures together!We hope to see you there! 
URL:https://visitfayettevillewv.com/event/2026-wv-charity-ride/
LOCATION:Adventures on the Gorge\, 401 Ames Heights Rd\, Lansing\, WV\, 25862\, United States
CATEGORIES:Activities,Events,Fundraiser,Motorsports
ATTACH;FMTTYPE=image/jpeg:https://visitfayettevillewv.com/wp-content/uploads/2026/04/2026-WV-Charity-Ride.jpg
ORGANIZER;CN="West Virginia Charity Ride":MAILTO:wv.charityride@gmail.com
GEO:38.082661;-81.072936
X-APPLE-STRUCTURED-LOCATION;VALUE=URI;X-ADDRESS=Adventures on the Gorge 401 Ames Heights Rd Lansing WV 25862 United States;X-APPLE-RADIUS=500;X-TITLE=401 Ames Heights Rd:geo:-81.072936,38.082661
END:VEVENT
BEGIN:VEVENT
DTSTART;TZID=America/New_York:20260529T083000
DTEND;TZID=America/New_York:20260529T140000
DTSTAMP:20260424T115537
CREATED:20260418T145056Z
LAST-MODIFIED:20260418T145056Z
UID:10011150-1780043400-1780063200@visitfayettevillewv.com
SUMMARY:2026 WV Charity Ride
DESCRIPTION:2026 West Virginia Charity Ride \nBenefiting North Central West Virginia Honor Flight\nMay 28th to 31st 2026\n Cost: $10 per person\, per day\nJoin us for an unforgettable wagon wheel–style ride\, with all proceeds supporting our Veterans!\n Lodging Location: Adventures on the Gorge(Reservation link will be posted below)WV Charity Ride May 28th to 31st starting at Adventures on the Gorge. Clock is ticking….. do you have your lodging scheduled for the ride? Use the link below the adventures await.\nhttps://go.theflybook.com/book/1401/EntityConfig/42363…\n Dates: May 28th – May 31st\, 2026Each morning\, we will:Meet at 8:30 AM KSU 9amRide a different direction each day — North\, South\, East\, and WestMake multiple stops along the way\, including a Harley-Davidson dealership.\n Important Details:Routes will be provided in writing on the morning of May 28thThis ensures all riders can reconnect if separated or choose to join/leave throughout the dayFor rider safety\, routes will not be posted on social media\n 100% of proceeds go directly to our causeCome out and enjoy great rides\, great people\, and meaningful support for those who served. Let’s make new memories and share some incredible adventures together!We hope to see you there! 
URL:https://visitfayettevillewv.com/event/2026-wv-charity-ride-2/
LOCATION:Adventures on the Gorge\, 401 Ames Heights Rd\, Lansing\, WV\, 25862\, United States
CATEGORIES:Activities,Events,Fundraiser,Motorsports
ATTACH;FMTTYPE=image/jpeg:https://visitfayettevillewv.com/wp-content/uploads/2026/04/2026-WV-Charity-Ride.jpg
ORGANIZER;CN="West Virginia Charity Ride":MAILTO:wv.charityride@gmail.com
GEO:38.082661;-81.072936
X-APPLE-STRUCTURED-LOCATION;VALUE=URI;X-ADDRESS=Adventures on the Gorge 401 Ames Heights Rd Lansing WV 25862 United States;X-APPLE-RADIUS=500;X-TITLE=401 Ames Heights Rd:geo:-81.072936,38.082661
END:VEVENT
BEGIN:VEVENT
DTSTART;TZID=America/New_York:20260530T083000
DTEND;TZID=America/New_York:20260530T140000
DTSTAMP:20260424T115537
CREATED:20260418T145114Z
LAST-MODIFIED:20260418T145114Z
UID:10011151-1780129800-1780149600@visitfayettevillewv.com
SUMMARY:2026 WV Charity Ride
DESCRIPTION:2026 West Virginia Charity Ride \nBenefiting North Central West Virginia Honor Flight\nMay 28th to 31st 2026\n Cost: $10 per person\, per day\nJoin us for an unforgettable wagon wheel–style ride\, with all proceeds supporting our Veterans!\n Lodging Location: Adventures on the Gorge(Reservation link will be posted below)WV Charity Ride May 28th to 31st starting at Adventures on the Gorge. Clock is ticking….. do you have your lodging scheduled for the ride? Use the link below the adventures await.\nhttps://go.theflybook.com/book/1401/EntityConfig/42363…\n Dates: May 28th – May 31st\, 2026Each morning\, we will:Meet at 8:30 AM KSU 9amRide a different direction each day — North\, South\, East\, and WestMake multiple stops along the way\, including a Harley-Davidson dealership.\n Important Details:Routes will be provided in writing on the morning of May 28thThis ensures all riders can reconnect if separated or choose to join/leave throughout the dayFor rider safety\, routes will not be posted on social media\n 100% of proceeds go directly to our causeCome out and enjoy great rides\, great people\, and meaningful support for those who served. Let’s make new memories and share some incredible adventures together!We hope to see you there! 
URL:https://visitfayettevillewv.com/event/2026-wv-charity-ride-3/
LOCATION:Adventures on the Gorge\, 401 Ames Heights Rd\, Lansing\, WV\, 25862\, United States
CATEGORIES:Activities,Events,Fundraiser,Motorsports
ATTACH;FMTTYPE=image/jpeg:https://visitfayettevillewv.com/wp-content/uploads/2026/04/2026-WV-Charity-Ride.jpg
ORGANIZER;CN="West Virginia Charity Ride":MAILTO:wv.charityride@gmail.com
GEO:38.082661;-81.072936
X-APPLE-STRUCTURED-LOCATION;VALUE=URI;X-ADDRESS=Adventures on the Gorge 401 Ames Heights Rd Lansing WV 25862 United States;X-APPLE-RADIUS=500;X-TITLE=401 Ames Heights Rd:geo:-81.072936,38.082661
END:VEVENT
BEGIN:VEVENT
DTSTART;TZID=America/New_York:20260531T083000
DTEND;TZID=America/New_York:20260531T140000
DTSTAMP:20260424T115537
CREATED:20260418T145133Z
LAST-MODIFIED:20260418T145133Z
UID:10011152-1780216200-1780236000@visitfayettevillewv.com
SUMMARY:2026 WV Charity Ride
DESCRIPTION:2026 West Virginia Charity Ride \nBenefiting North Central West Virginia Honor Flight\nMay 28th to 31st 2026\n Cost: $10 per person\, per day\nJoin us for an unforgettable wagon wheel–style ride\, with all proceeds supporting our Veterans!\n Lodging Location: Adventures on the Gorge(Reservation link will be posted below)WV Charity Ride May 28th to 31st starting at Adventures on the Gorge. Clock is ticking….. do you have your lodging scheduled for the ride? Use the link below the adventures await.\nhttps://go.theflybook.com/book/1401/EntityConfig/42363…\n Dates: May 28th – May 31st\, 2026Each morning\, we will:Meet at 8:30 AM KSU 9amRide a different direction each day — North\, South\, East\, and WestMake multiple stops along the way\, including a Harley-Davidson dealership.\n Important Details:Routes will be provided in writing on the morning of May 28thThis ensures all riders can reconnect if separated or choose to join/leave throughout the dayFor rider safety\, routes will not be posted on social media\n 100% of proceeds go directly to our causeCome out and enjoy great rides\, great people\, and meaningful support for those who served. Let’s make new memories and share some incredible adventures together!We hope to see you there! 
URL:https://visitfayettevillewv.com/event/2026-wv-charity-ride-4/
LOCATION:Adventures on the Gorge\, 401 Ames Heights Rd\, Lansing\, WV\, 25862\, United States
CATEGORIES:Activities,Events,Fundraiser,Motorsports
ATTACH;FMTTYPE=image/jpeg:https://visitfayettevillewv.com/wp-content/uploads/2026/04/2026-WV-Charity-Ride.jpg
ORGANIZER;CN="West Virginia Charity Ride":MAILTO:wv.charityride@gmail.com
GEO:38.082661;-81.072936
X-APPLE-STRUCTURED-LOCATION;VALUE=URI;X-ADDRESS=Adventures on the Gorge 401 Ames Heights Rd Lansing WV 25862 United States;X-APPLE-RADIUS=500;X-TITLE=401 Ames Heights Rd:geo:-81.072936,38.082661
END:VEVENT
END:VCALENDAR