BEGIN:VCALENDAR
VERSION:2.0
PRODID:-//Visit Fayetteville WV - ECPv6.15.20//NONSGML v1.0//EN
CALSCALE:GREGORIAN
METHOD:PUBLISH
X-ORIGINAL-URL:https://visitfayettevillewv.com
X-WR-CALDESC:Events for Visit Fayetteville WV
REFRESH-INTERVAL;VALUE=DURATION:PT1H
X-Robots-Tag:noindex
X-PUBLISHED-TTL:PT1H
BEGIN:VTIMEZONE
TZID:America/New_York
BEGIN:DAYLIGHT
TZOFFSETFROM:-0500
TZOFFSETTO:-0400
TZNAME:EDT
DTSTART:20250309T070000
END:DAYLIGHT
BEGIN:STANDARD
TZOFFSETFROM:-0400
TZOFFSETTO:-0500
TZNAME:EST
DTSTART:20251102T060000
END:STANDARD
BEGIN:DAYLIGHT
TZOFFSETFROM:-0500
TZOFFSETTO:-0400
TZNAME:EDT
DTSTART:20260308T070000
END:DAYLIGHT
BEGIN:STANDARD
TZOFFSETFROM:-0400
TZOFFSETTO:-0500
TZNAME:EST
DTSTART:20261101T060000
END:STANDARD
BEGIN:DAYLIGHT
TZOFFSETFROM:-0500
TZOFFSETTO:-0400
TZNAME:EDT
DTSTART:20270314T070000
END:DAYLIGHT
BEGIN:STANDARD
TZOFFSETFROM:-0400
TZOFFSETTO:-0500
TZNAME:EST
DTSTART:20271107T060000
END:STANDARD
END:VTIMEZONE
BEGIN:VEVENT
DTSTART;TZID=America/New_York:20260411T100000
DTEND;TZID=America/New_York:20260411T140000
DTSTAMP:20260423T063748
CREATED:20260404T160009Z
LAST-MODIFIED:20260404T160009Z
UID:10011119-1775901600-1775916000@visitfayettevillewv.com
SUMMARY:2026 Lansing OGs Spring Round Up Ride
DESCRIPTION:We are meeting at the New River Exxon in Hico WV 10:00 am-parking on site.\nDrivers meeting held at 10:30 am\nThis ride is a FREE\, ride at your own risk event.This is a trailride and will consist of trails designed for UTVs / ATVs. Although we are taking in consideration the riding experience of everyone is different\, we are in West Virginia and there will be obstacles to navigate during the ride including creek crossings\, mud holes\, ruts\, up and down hills\, rocks\, over and under fallen trees. Although the trails are not the everyday traveled ‘main’ paths most people ride.\nParticipation in the event acknowledges your agreement that Lansing OGs are not responsible for injury\, theft\, damage or any other outlying issues during the event.\nKeep in mind\, during the ride: we use the “trail blocking” method… YOU ARE NOT responsible for keeping up with the person in front of you but YOU ARE responsible for making sure you ALWAYS see the person behind of you. This way NO ONE will get lost or left behind.We will gather at selected intervals to regroup together and break! I will post a how to video as well as go over it at the drivers meeting.\nPlease plan accordingly for an all-day adventure (food/drinks). We will have group stops along the way at various spots for photos and lunch.\nWe hope to meet some new people and see the familiar ones too!
URL:https://visitfayettevillewv.com/event/2026-lansing-ogs-spring-round-up-ride/
LOCATION:New River Exxon & The Eatery\, 75 Jack Smith Rd\, Hico\, WV\, 25854\, United States
CATEGORIES:Activities,Fundraiser,Motorsports
ATTACH;FMTTYPE=image/jpeg:https://visitfayettevillewv.com/wp-content/uploads/2026/04/Lansing-OG.jpg
END:VEVENT
END:VCALENDAR