BEGIN:VCALENDAR
VERSION:2.0
PRODID:-//Visit Fayetteville WV - ECPv6.15.20//NONSGML v1.0//EN
CALSCALE:GREGORIAN
METHOD:PUBLISH
X-WR-CALNAME:Visit Fayetteville WV
X-ORIGINAL-URL:https://visitfayettevillewv.com
X-WR-CALDESC:Events for Visit Fayetteville WV
REFRESH-INTERVAL;VALUE=DURATION:PT1H
X-Robots-Tag:noindex
X-PUBLISHED-TTL:PT1H
BEGIN:VTIMEZONE
TZID:America/New_York
BEGIN:DAYLIGHT
TZOFFSETFROM:-0500
TZOFFSETTO:-0400
TZNAME:EDT
DTSTART:20250309T070000
END:DAYLIGHT
BEGIN:STANDARD
TZOFFSETFROM:-0400
TZOFFSETTO:-0500
TZNAME:EST
DTSTART:20251102T060000
END:STANDARD
BEGIN:DAYLIGHT
TZOFFSETFROM:-0500
TZOFFSETTO:-0400
TZNAME:EDT
DTSTART:20260308T070000
END:DAYLIGHT
BEGIN:STANDARD
TZOFFSETFROM:-0400
TZOFFSETTO:-0500
TZNAME:EST
DTSTART:20261101T060000
END:STANDARD
BEGIN:DAYLIGHT
TZOFFSETFROM:-0500
TZOFFSETTO:-0400
TZNAME:EDT
DTSTART:20270314T070000
END:DAYLIGHT
BEGIN:STANDARD
TZOFFSETFROM:-0400
TZOFFSETTO:-0500
TZNAME:EST
DTSTART:20271107T060000
END:STANDARD
END:VTIMEZONE
BEGIN:VEVENT
DTSTART;TZID=America/New_York:20260510T100000
DTEND;TZID=America/New_York:20260510T140000
DTSTAMP:20260425T105538
CREATED:20260328T150824Z
LAST-MODIFIED:20260328T150824Z
UID:10011090-1778407200-1778421600@visitfayettevillewv.com
SUMMARY:Mother's Day Brunch Buffet
DESCRIPTION:Smokey’s at Adventures on the Gorge invites you to a special Mother’s Day Brunch Buffet! Treat the amazing moms in your life to a delightful day filled with delicious food and stunning views \nJoin us on Sunday\, May 10\, 2026 from 10AM-2PM. Indoor and outdoor seating options are available.\nDon’t miss out on this wonderful opportunity to show your appreciation for all the incredible mothers out there! We can’t wait to celebrate with you!\nMenuEntrees:Atlantic salmon white wine beurre Blanc with dill and capers GFPrime Rib Carving station with horseradish cream and red wine demi GFCitrus maple brine 8 count roasted chicken GFSides:Roasted Root vegetables (carrots potatoes\, parsnips) V VG GFRoasted Brussel sprouts with balsamic drizzle V VG GFSweet potatoes casserole V GFBrunch items:Scrambled eggs GFSausage links GFSmokeys Candied bacon GFCheesy Potato casserole V GFSeasoned house fried potato V VE GFSavory creamy grits V GFIndividual Asparagus and crab quiche with gruyere cheeseSalads\, Apps and Displays:Fresh Fruit display with strawberry and vanilla yogurt V VE GFChicken Salad – smoked chicken with pecans\, red grapes\, celery\, and onion GFMarinated cucumber onion and tomato salad V VE GFArtisan meat and cheese display with assortment of chutneys\, pickled vegetables\, and nuts. GFHummus Trio platter (traditional\, roasted garlic and red pepper\, black bean) with pita points and grilled and fresh vegetables. V GFPastries and Breads:Bacon\, pear and brie flatbread display w/ balsamicAssorted pastries\, mini muffins\, scones and DanishesBreads – fresh rolls\, pimento cheese hushpuppies\, mini croissants\, VDesserts:Mixed dessert display –Carrot cake with cream cheese icingAssorted homemade cookies – double chocolate\, chocolate chip\, turtleAssorted parfaits – cookies and cream\, chocolate peanut butter\, raspberry white chocolate cheesecakeChef choice house made bread puddingDrinks:Coffee\, soda\, water\, tea includedFull bar available including mimosa\, bloody Mary\, and beer flights
URL:https://visitfayettevillewv.com/event/mothers-day-brunch-buffet/
LOCATION:Smokey’s on the Gorge\, 219 Co Rte 60/5\, Lansing\, WV\, 25862\, United States
CATEGORIES:Activities,Dining / Food
ATTACH;FMTTYPE=image/jpeg:https://visitfayettevillewv.com/wp-content/uploads/2026/03/Mothers-Day-Brinch.jpg
ORGANIZER;CN="Adventures on the Gorge":MAILTO:info@onthegorge.com
GEO:38.082661;-81.072936
X-APPLE-STRUCTURED-LOCATION;VALUE=URI;X-ADDRESS=Smokey’s on the Gorge 219 Co Rte 60/5 Lansing WV 25862 United States;X-APPLE-RADIUS=500;X-TITLE=219 Co Rte 60/5:geo:-81.072936,38.082661
END:VEVENT
END:VCALENDAR