BEGIN:VCALENDAR
VERSION:2.0
PRODID:-//Visit Fayetteville WV - ECPv6.15.20//NONSGML v1.0//EN
CALSCALE:GREGORIAN
METHOD:PUBLISH
X-WR-CALNAME:Visit Fayetteville WV
X-ORIGINAL-URL:https://visitfayettevillewv.com
X-WR-CALDESC:Events for Visit Fayetteville WV
REFRESH-INTERVAL;VALUE=DURATION:PT1H
X-Robots-Tag:noindex
X-PUBLISHED-TTL:PT1H
BEGIN:VTIMEZONE
TZID:America/New_York
BEGIN:DAYLIGHT
TZOFFSETFROM:-0500
TZOFFSETTO:-0400
TZNAME:EDT
DTSTART:20250309T070000
END:DAYLIGHT
BEGIN:STANDARD
TZOFFSETFROM:-0400
TZOFFSETTO:-0500
TZNAME:EST
DTSTART:20251102T060000
END:STANDARD
BEGIN:DAYLIGHT
TZOFFSETFROM:-0500
TZOFFSETTO:-0400
TZNAME:EDT
DTSTART:20260308T070000
END:DAYLIGHT
BEGIN:STANDARD
TZOFFSETFROM:-0400
TZOFFSETTO:-0500
TZNAME:EST
DTSTART:20261101T060000
END:STANDARD
BEGIN:DAYLIGHT
TZOFFSETFROM:-0500
TZOFFSETTO:-0400
TZNAME:EDT
DTSTART:20270314T070000
END:DAYLIGHT
BEGIN:STANDARD
TZOFFSETFROM:-0400
TZOFFSETTO:-0500
TZNAME:EST
DTSTART:20271107T060000
END:STANDARD
END:VTIMEZONE
BEGIN:VEVENT
DTSTART;TZID=America/New_York:20260606T100000
DTEND;TZID=America/New_York:20260606T170000
DTSTAMP:20260421T170314
CREATED:20260103T163515Z
LAST-MODIFIED:20260103T163515Z
UID:10009921-1780740000-1780765200@visitfayettevillewv.com
SUMMARY:15th Annual White Oak Rail Trail Expo
DESCRIPTION:Join us for over 150 unique vendors including live entertainment! This event is held on a handicapped accessible\, pedestrian friendly\, paved trail located in Oak Hill\, WV! Adjacent to the New River Gorge National Park! Enjoy a Fun Filled Day for the Whole Family!\nAn email will been sent to last year’s vendors to be able to register! If you are a vendor from last year and don’t receive an email February 1st please message the page! Please do not post your email on the page in comments. There are alot of scammers out there!\nRegistration will be open to returning vendors on February 1st\, 2026! New vendor applications will be open March 1st\, 2026!\nPlease do not post your email address on the event page. Message the page with your email address if you don’t receive a returning vendor email.\nChrista Hodges is the only event coordinator for the Rail Trail Expo.
URL:https://visitfayettevillewv.com/event/15th-annual-white-oak-rail-trail-expo/
LOCATION:White Oak Rail Trail\, 108 Virginia St\, Oak Hill\, WV\, 25901\, United States
CATEGORIES:Activities,Art,Arts and Crafts,Dining / Food,Events,Festival,Kids activity,Shopping
ATTACH;FMTTYPE=image/png:https://visitfayettevillewv.com/wp-content/uploads/2024/01/White-Oak-rail-trail.png
ORGANIZER;CN="White Oak Rail Trail Expo":MAILTO:whiteoakrailtrail@gmail.com
GEO:37.978282;-81.149912
X-APPLE-STRUCTURED-LOCATION;VALUE=URI;X-ADDRESS=White Oak Rail Trail 108 Virginia St Oak Hill WV 25901 United States;X-APPLE-RADIUS=500;X-TITLE=108 Virginia St:geo:-81.149912,37.978282
END:VEVENT
END:VCALENDAR